From mboxrd@z Thu Jan 1 00:00:00 1970 Return-Path: Received: from mails.dpdk.org (mails.dpdk.org [217.70.189.124]) by inbox.dpdk.org (Postfix) with ESMTP id 617CF48ADC for ; Tue, 11 Nov 2025 15:39:50 +0100 (CET) Received: from mails.dpdk.org (localhost [127.0.0.1]) by mails.dpdk.org (Postfix) with ESMTP id 3FDE2402C6; Tue, 11 Nov 2025 15:39:50 +0100 (CET) Received: from mail-pl1-f228.google.com (mail-pl1-f228.google.com [209.85.214.228]) by mails.dpdk.org (Postfix) with ESMTP id 297C2402C6 for ; Tue, 11 Nov 2025 15:39:49 +0100 (CET) Received: by mail-pl1-f228.google.com with SMTP id d9443c01a7336-297dc3e299bso32078485ad.1 for ; Tue, 11 Nov 2025 06:39:49 -0800 (PST) DKIM-Signature: v=1; a=rsa-sha256; c=relaxed/relaxed; d=iol.unh.edu; s=unh-iol; t=1762871988; x=1763476788; darn=dpdk.org; h=references:in-reply-to:cc:to:from:subject:message-id:date:from:to :cc:subject:date:message-id:reply-to; bh=bhw21bpZhQmUSMec71RLWTdX0iYoDfyZC2u7bvXs0Q4=; b=LTOrpzfUeqcoyuhi/PueFihvIpL3+JjIu29Ug9IVBQJvkzMcUPoo6I5Xy3l07GZElj nifjinFZU2IMCyCO2D1hbBS809hHH3HV0VObI0oVY3vwXwRGFVcEG8jvbJpNvhuIEyrs p9Uz5dF7DexiFiJybBhhpZqF77dCln9CVFpd8= X-Google-DKIM-Signature: v=1; a=rsa-sha256; c=relaxed/relaxed; d=1e100.net; s=20230601; t=1762871988; x=1763476788; h=references:in-reply-to:cc:to:from:subject:message-id:date:x-gm-gg :x-gm-message-state:from:to:cc:subject:date:message-id:reply-to; bh=bhw21bpZhQmUSMec71RLWTdX0iYoDfyZC2u7bvXs0Q4=; b=Cboh9jAVFq1MBzeuWpc3TlkL9Goa4XXabyLlXElXxOu68wViIaRlKnJkRN8h0Lu2HN dd5qaaZBf9y5otGAN019cNx2GytGPSRihL1QUUmiIE35sOtm4e65NBUrKE1cmF2YbMxn 4iJd4dxPMNGQ0HRIeNsHd41gbvhMzlExHXk1KBG5QRKTn1qyOwZxNm8oW7tbYtWdjeqk QSOuPxUwxjtYiFfsvrRqvgQ4jZtJGl7zJeMp6gx1bOgKr31Q8Q5sFh7P0blrUp9aBogO wJBmUhEWKyYhVQNl4lVI8bda/uXjvbU4o5dSbqUIquPBV9WqNViwRbvOi/rENH4q7rSc gOAQ== X-Gm-Message-State: AOJu0Yy2FN0a8eAKlezpr3AcSh5kfusAp6HUAfv8XF00dYCqAR4wMggx Mq0XkF0yivRB5OYl6DwY/ZFniYReePiXGG2xi7l2AAhgwWs47UTG6DsJkhg4qv3HQgNdTowLD04 sb1HCheXnKdR/LjJoWGqXvN8nzctRKUm6CFetKNgMYyJq X-Gm-Gg: ASbGncttwTWLQD+l8v1KhrV8/vxOGYNb9r8cNNM9qAtmLY5JINUs0Z5JVjgsEx6dj/j H8URElxXVfbs/SRtib1wBKw7fbAjjesuXXX/i3VDjVoI/39e60t2gJGQm8+spUTpg79x/E9NFHb XI7IB8EqvmJMNKWf2SjEJbsRin5VJBbvNkhYOJFsZ27Tzxqxu/2GbxYqn/y7W3lespBcXGYcoVQ 6QRZnhyfokOgvxtNBbN+sH5BdEv3Esp8FBhTB7s+4WK4FII8fUSp5Bu/zcT3/e0bWCH6ptLpi9f YTv0TbFkGb32FWprJHxh2mObgKmVf9lLg11l5TtDhEST2e51MTrji3Ak43m0czt/gNYeCWXrokf YDESc/MY/Pc/F2D3cP80pkHILGdyRIg8= X-Google-Smtp-Source: AGHT+IGiyhSbSgPTt+2Y2JJLopdeOxQ1sWqCpoFte/MVUOhNBRmlbiRPrUTyeeWXcu6mJahYrErx5dp1J3eN X-Received: by 2002:a17:903:3d0e:b0:297:f8d9:aad7 with SMTP id d9443c01a7336-297f8d9afd0mr133876335ad.50.1762871988189; Tue, 11 Nov 2025 06:39:48 -0800 (PST) Received: from postal.iol.unh.edu (postal.iol.unh.edu. [132.177.123.84]) by smtp-relay.gmail.com with ESMTPS id d9443c01a7336-29651c6ee2dsm16763615ad.36.2025.11.11.06.39.48 (version=TLS1_2 cipher=ECDHE-ECDSA-AES128-GCM-SHA256 bits=128/128); Tue, 11 Nov 2025 06:39:48 -0800 (PST) X-Relaying-Domain: iol.unh.edu Date: Tue, 11 Nov 2025 06:39:48 -0800 (PST) Message-ID: <69134ab4.170a0220.23b45b.61c5SMTPIN_ADDED_MISSING@mx.google.com> Received: from [172.21.0.3] (unknown [172.18.0.240]) by postal.iol.unh.edu (Postfix) with ESMTP id A1D4A604D420; Tue, 11 Nov 2025 09:39:47 -0500 (EST) Subject: |SUCCESS| pw158645 [PATCH] [v3] lib/ring: do not allow zero size rin From: dpdklab@iol.unh.edu To: Test Report Cc: dpdk-test-reports@iol.unh.edu In-Reply-To: <20251111062253.578121-1-iboukris@gmail.com> References: <20251111062253.578121-1-iboukris@gmail.com> Content-Type: text/plain X-BeenThere: test-report@dpdk.org X-Mailman-Version: 2.1.29 Precedence: list List-Id: automatic DPDK test reports List-Unsubscribe: , List-Archive: List-Post: List-Help: List-Subscribe: , Errors-To: test-report-bounces@dpdk.org Test-Label: iol-unit-arm64-testing Test-Status: SUCCESS http://dpdk.org/patch/158645 _Testing PASS_ Submitter: Isaac Boukris Date: Tuesday, November 11 2025 06:22:52 DPDK git baseline: Repo:dpdk Branch: master CommitID:8ae4f1d511226fd65a979e9f8a1e51835281a59b 158645 --> testing pass Upstream job id: Generic-Unit-Test-DPDK#390920 Test environment and result as below: +------------------------------+---------------------------+--------------+------------------------------+----------------+ | Environment | cryptodev_sw_zuc_autotest | lpm_autotest | cryptodev_sw_snow3g_autotest | dpdk_unit_test | +==============================+===========================+==============+==============================+================+ | Debian 12 (arm) | PASS | SKIPPED | PASS | SKIPPED | +------------------------------+---------------------------+--------------+------------------------------+----------------+ | Ubuntu 20.04 | SKIPPED | PASS | SKIPPED | PASS | +------------------------------+---------------------------+--------------+------------------------------+----------------+ | Fedora Linux 41 | SKIPPED | SKIPPED | SKIPPED | PASS | +------------------------------+---------------------------+--------------+------------------------------+----------------+ | Fedora Linux 40 | SKIPPED | SKIPPED | SKIPPED | PASS | +------------------------------+---------------------------+--------------+------------------------------+----------------+ | CentOS Stream 9 | SKIPPED | SKIPPED | SKIPPED | PASS | +------------------------------+---------------------------+--------------+------------------------------+----------------+ | CentOS Stream 10 | SKIPPED | SKIPPED | SKIPPED | PASS | +------------------------------+---------------------------+--------------+------------------------------+----------------+ | Red Hat Enterprise Linux 9.5 | SKIPPED | SKIPPED | SKIPPED | PASS | +------------------------------+---------------------------+--------------+------------------------------+----------------+ | Ubuntu 24.04 | SKIPPED | SKIPPED | SKIPPED | PASS | +------------------------------+---------------------------+--------------+------------------------------+----------------+ | Fedora Linux 42 | SKIPPED | SKIPPED | SKIPPED | PASS | +------------------------------+---------------------------+--------------+------------------------------+----------------+ | Debian GNU/Linux 12 | SKIPPED | SKIPPED | SKIPPED | PASS | +------------------------------+---------------------------+--------------+------------------------------+----------------+ | Ubuntu 22.04 | SKIPPED | SKIPPED | SKIPPED | PASS | +------------------------------+---------------------------+--------------+------------------------------+----------------+ Debian 12 (arm) Kernel: Depends on container host Compiler: gcc (Debian 12.2.0-14) 12.2.0 Ubuntu 20.04 Kernel: 5.4 Compiler: gcc gcc (Ubuntu 9.4.0-1ubuntu1~20.04.2) 9.4.0 Fedora Linux 41 Kernel: 5.4 Compiler: gcc gcc (GCC) 14.3.1 20250523 (Red Hat 14.3.1-1) Fedora Linux 40 Kernel: 5.4 Compiler: clang gcc (GCC) 14.2.1 20240912 (Red Hat 14.2.1-3) CentOS Stream 9 Kernel: 5.4 Compiler: gcc gcc (GCC) 11.5.0 20240719 (Red Hat 11.5.0-11) CentOS Stream 10 Kernel: 5.4 Compiler: gcc gcc (GCC) 14.2.1 20250110 (Red Hat 14.2.1-8) Red Hat Enterprise Linux 9.5 Kernel: 5.4 Compiler: gcc gcc (GCC) 11.5.0 20240719 (Red Hat 11.5.0-2) Ubuntu 24.04 Kernel: 5.4 Compiler: gcc gcc (Ubuntu 13.3.0-6ubuntu2~24.04) 13.3.0 Fedora Linux 42 Kernel: 5.4 Compiler: gcc gcc (GCC) 15.2.1 20250808 (Red Hat 15.2.1-1) Debian GNU/Linux 12 Kernel: 5.4 Compiler: gcc gcc (Debian 12.2.0-14+deb12u1) 12.2.0 Ubuntu 22.04 Kernel: 5.4 Compiler: gcc gcc (Ubuntu 11.4.0-1ubuntu1~22.04) 11.4.0 To view detailed results, visit: https://lab.dpdk.org/results/dashboard/patchsets/34529/ UNH-IOL DPDK Community Lab To manage your email subscriptions, visit: https://lab.dpdk.org/results/dashboard/preferences/subscriptions/