From mboxrd@z Thu Jan 1 00:00:00 1970 Return-Path: Received: from mails.dpdk.org (mails.dpdk.org [217.70.189.124]) by inbox.dpdk.org (Postfix) with ESMTP id 1060E48ADD for ; Tue, 11 Nov 2025 16:02:02 +0100 (CET) Received: from mails.dpdk.org (localhost [127.0.0.1]) by mails.dpdk.org (Postfix) with ESMTP id EFB8F402B0; Tue, 11 Nov 2025 16:02:01 +0100 (CET) Received: from mail-io1-f99.google.com (mail-io1-f99.google.com [209.85.166.99]) by mails.dpdk.org (Postfix) with ESMTP id 0D309402B0 for ; Tue, 11 Nov 2025 16:02:00 +0100 (CET) Received: by mail-io1-f99.google.com with SMTP id ca18e2360f4ac-93e7c7c3d0bso361170739f.2 for ; Tue, 11 Nov 2025 07:01:59 -0800 (PST) DKIM-Signature: v=1; a=rsa-sha256; c=relaxed/relaxed; d=iol.unh.edu; s=unh-iol; t=1762873319; x=1763478119; darn=dpdk.org; h=references:in-reply-to:cc:to:from:subject:message-id:date:from:to :cc:subject:date:message-id:reply-to; bh=O97l8VJ9ePKGs4iyo9M8YALlvzzyY1KkULT2PKGmctI=; b=VnFpE+9lO3eh9jU4UNNGCV8BXEAAtc03Kw/3N99zGvaZlhh2eqTuvkJksxUH/xLe3k z5o2RZxJ75z1vxFkN0q/3s6PsFV7hc6iwyQWEpOg9nglA/jeL7oOmCiWncfT0DZ6RIus Dy7LiHSrgtRcLFJgNaYfCawFf/4AKNbCxD5jo= X-Google-DKIM-Signature: v=1; a=rsa-sha256; c=relaxed/relaxed; d=1e100.net; s=20230601; t=1762873319; x=1763478119; h=references:in-reply-to:cc:to:from:subject:message-id:date:x-gm-gg :x-gm-message-state:from:to:cc:subject:date:message-id:reply-to; bh=O97l8VJ9ePKGs4iyo9M8YALlvzzyY1KkULT2PKGmctI=; b=ji9S4RnK7ajQ+sLnjlEF2Fh1LEE2st4MYhCx79uTg/S71wS3zr33y3rkq3zKfNyMeF kn+Anr4tdLeynug6XxlbJ8ZR+v7qr0IdjXCRIAcf5JKcmAos5VOGVrDzNGCcdiI+IL2b fYnAMlIIHV50ZRM4Yfg+zSki0WkwJwamwWfKW23xexTfltK/jT8r+7vQbsiC/kwIRHML U2oe7pFlJvW1m0JXnBER00GX7iYd9wU+5HVG1zU/JLdxYdlr3x+FwSzkvBKMRgWePPWy HHvBrnvo0u4hv5fyWQk/bMOKNNbSfgZWcIX6MFYCdsjO8gPTmgo0kwGzQBb/wROVs1Dn RMxw== X-Gm-Message-State: AOJu0Yz9iXdPazB1FLwWpMDJZbP9pkVNEz26CJuF2x9Dh0+RMdf+4wgy bvJwQvB+z8hFD1n+8t+7GqD89P01t1X9JmcqB+osUZSeXHbOgU4mQtJl04FGQQj7eKpwWXAH6jG 0tRHWawJLKqJVAaYLGo1Ttbd2GrnUDU48BnWkIQnyc/6/ZCnnkkC5+dpt0Pb/ X-Gm-Gg: ASbGncvbep69pKCMm1f5LwKSrsqAnHooYAriQEfafuXPuQgEWkhYRHtvhHr6ITX2iKW ndE+K9jz4FK1zTXUwZY4GmKRnaQ3F0IhNb8KBaQ/zJWIwpura1w0qpS5yjIqhMDkfuxRYvQuM1l 2uAaSyR0dVpHW4aLO5O1U2Rv1kFb74IY9UhS3W+J/CJggqqV1Ng+5RiaMvdS0QpegJJPmn1+2Lm ObDuhpfa4cJ9kWaOFL1nPuR6hnBdv3jfMWusbCXFaf4HnOTrMzEG3qujdRa08hfwqFNAFY8TLm3 vGg7txj5HqFR+gAhtATE/N0jNEX9yQV878rOcLIMl4KOFJ7LJ2Q6wzCHY++uXzoLUvbZWFeQI7P w90t87V9h X-Google-Smtp-Source: AGHT+IGazv/e95o+KcW5PlQmU8HMBEaIONIPO+zNXytO23twTQCkWneuV/zWRORYPLjbEFuYMumUk3vtb5Mh X-Received: by 2002:a05:6602:1352:b0:941:3f8:5bbc with SMTP id ca18e2360f4ac-94895ff82fdmr1577663239f.11.1762873318421; Tue, 11 Nov 2025 07:01:58 -0800 (PST) Received: from postal.iol.unh.edu (postal.iol.unh.edu. [2606:4100:3880:1234::84]) by smtp-relay.gmail.com with ESMTPS id 8926c6da1cb9f-5b7468b63f7sm1894988173.36.2025.11.11.07.01.58 (version=TLS1_2 cipher=ECDHE-ECDSA-AES128-GCM-SHA256 bits=128/128); Tue, 11 Nov 2025 07:01:58 -0800 (PST) X-Relaying-Domain: iol.unh.edu Date: Tue, 11 Nov 2025 07:01:58 -0800 (PST) Message-ID: <69134fe6.050a0220.ef7a7.72d7SMTPIN_ADDED_MISSING@mx.google.com> Received: from [172.21.0.3] (unknown [172.18.0.240]) by postal.iol.unh.edu (Postfix) with ESMTP id F2376604D420; Tue, 11 Nov 2025 10:01:57 -0500 (EST) Subject: |SUCCESS| pw158663-158667 [PATCH] [v4,5/5] vhost_user: Increase numb From: dpdklab@iol.unh.edu To: Test Report Cc: dpdk-test-reports@iol.unh.edu, Chenbo Xia , Maxime Coquelin In-Reply-To: <20251111114521.2902867-6-pravin.bathija@dell.com> References: <20251111114521.2902867-6-pravin.bathija@dell.com> Content-Type: text/plain X-BeenThere: test-report@dpdk.org X-Mailman-Version: 2.1.29 Precedence: list List-Id: automatic DPDK test reports List-Unsubscribe: , List-Archive: List-Post: List-Help: List-Subscribe: , Errors-To: test-report-bounces@dpdk.org Test-Label: iol-compile-amd64-testing Test-Status: SUCCESS http://dpdk.org/patch/158667 _Testing PASS_ Submitter: Pravin M Bathija Date: Tuesday, November 11 2025 11:45:21 DPDK git baseline: Repo:dpdk-next-virtio Branch: master CommitID:6b37c26a95388aa41bb5267c7c42f604fd571a38 158663-158667 --> testing pass Upstream job id: Generic-DPDK-Compile-Meson#443028 Test environment and result as below: +------------------+--------------------+ | Environment | dpdk_meson_compile | +==================+====================+ | Ubuntu 20.04 | PASS | +------------------+--------------------+ | FreeBSD 14.2 | PASS | +------------------+--------------------+ | CentOS Stream 9 | PASS | +------------------+--------------------+ | CentOS Stream 10 | PASS | +------------------+--------------------+ Ubuntu 20.04 Kernel: 4.19 Compiler: gcc gcc (Ubuntu 9.4.0-1ubuntu1~20.04.2) 9.4.0 FreeBSD 14.2 Kernel: 14.2-RELEASE Compiler: clang 18.1.6 CentOS Stream 9 Kernel: 5.15 Compiler: gcc gcc (GCC) 11.5.0 20240719 (Red Hat 11.5.0-11) CentOS Stream 10 Kernel: 5.15 Compiler: gcc gcc (GCC) 14.2.1 20250110 (Red Hat 14.2.1-8) To view detailed results, visit: https://lab.dpdk.org/results/dashboard/patchsets/34535/ UNH-IOL DPDK Community Lab To manage your email subscriptions, visit: https://lab.dpdk.org/results/dashboard/preferences/subscriptions/