From mboxrd@z Thu Jan 1 00:00:00 1970 Return-Path: Received: from mails.dpdk.org (mails.dpdk.org [217.70.189.124]) by inbox.dpdk.org (Postfix) with ESMTP id 9245748ADD for ; Tue, 11 Nov 2025 16:05:40 +0100 (CET) Received: from mails.dpdk.org (localhost [127.0.0.1]) by mails.dpdk.org (Postfix) with ESMTP id 72563402B0; Tue, 11 Nov 2025 16:05:40 +0100 (CET) Received: from mail-il1-f228.google.com (mail-il1-f228.google.com [209.85.166.228]) by mails.dpdk.org (Postfix) with ESMTP id EB7DD402B0 for ; Tue, 11 Nov 2025 16:05:38 +0100 (CET) Received: by mail-il1-f228.google.com with SMTP id e9e14a558f8ab-4336f8e97c3so33915585ab.3 for ; Tue, 11 Nov 2025 07:05:38 -0800 (PST) DKIM-Signature: v=1; a=rsa-sha256; c=relaxed/relaxed; d=iol.unh.edu; s=unh-iol; t=1762873538; x=1763478338; darn=dpdk.org; h=references:in-reply-to:cc:to:from:subject:message-id:date:from:to :cc:subject:date:message-id:reply-to; bh=8RO1bcumGu++SI8pOGTwLngYZByluQCt9yhcQKzr6QM=; b=J8iH9FmrBcW5YsYc0dCJx75lSx/lz2dId07TAYX6wwT5c0+R6rWWOYqAYb7P6h0PNA zoZdnFbwSllS1sSVBgwJzV05Zv71fv/oDjMP7nFxmfJRh0G/pNJCev/a2PNkPbZvbtMm geyt3itntC7mOYMQlvJIFI2VOXicNcFwa6yBM= X-Google-DKIM-Signature: v=1; a=rsa-sha256; c=relaxed/relaxed; d=1e100.net; s=20230601; t=1762873538; x=1763478338; h=references:in-reply-to:cc:to:from:subject:message-id:date:x-gm-gg :x-gm-message-state:from:to:cc:subject:date:message-id:reply-to; bh=8RO1bcumGu++SI8pOGTwLngYZByluQCt9yhcQKzr6QM=; b=wOeBjyxBBXsKLZI2t2ZKMx/XX8m2aRvnb8J/HHBb6QE3CsB4p3/H0x0paXNrJL/esE WtHLbLDDDQKB/ey5gPJAptV1v2MMtjqKWKwd5zqW+hLsUHmkDnf71gYSgSjSrLzm4OtS efbkq0ot4/W0PfII9lyRnMe24hfisVf99xhh6WiXVINOaeTzz60L+Bp3Z+HiSHLHDtO8 0ueE06apBZYqESUplGLBoT9fwy8iYh6fd19YXyd6k7dOp36gHj+grhmtmT4E3gqD32wU ColdCJI4uZ3/OV3HF2PSBmWNjSAx463/sgXjgtKcj6iyCZ9PQ7EIWWqPHlbwfuTGCl03 OXQA== X-Gm-Message-State: AOJu0YzpqpVO6SAUiZ64yjktW+LtNhQ7uNrm4dHlwEz0ZndyPGBJIgww tm2d/b0VGLVIIG3XHgOkF8IGPPkMOwW1bgwYprFIsaSIqSqqwRYnAH1CwExGHN+YG98iPQnXqJX jQP4DT6JD8c9iaism2ILmOYP6pZEveuhKYUdkmP4mKbsE X-Gm-Gg: ASbGncuw4elCsCdWKFDGG1ylQ5q3KgAh/lbWVyVfZdLeqADi3ApTpPnebL/XRt/n7D9 O+4f1Itp4z4RQv5PYfsACphw8uqz2FUD9Eyf4uCMz5FwC8/uXWQGNZbObk4dEvnP8cKwh+8w2tL LpwQfh+b0pMOjvO7KxrIwvk6b5hHoWQO0C8fPQVxlJygxQ9eWF79xUFPa9KOE/HDYnsl8PcBh3E RYHgq2h5LqNbrl9DDXf2SA9ZFCH1woxwQ4uKj2YVT5/2ekt1yWbT8iNcy9DXyx4Xr3xYp/vtmmn 9NLZatwOf4JX78UdYQMJvmIOAmYMTTG0QgzxHVS0QEig75yYHe7jymKde3VUZLD6kTNUU4Y0eFu QAzpPCp0FO3kHPIVcWWMB+jjxuzO2SCM= X-Google-Smtp-Source: AGHT+IHec7AME5mBw/CrZc+iA591FVWRiFpuNBxvNbkYO9E8X3HjADpunKkTBvLuLjIXfc/BCrXWdPgR7Q6C X-Received: by 2002:a05:6e02:3389:b0:433:7c86:74e7 with SMTP id e9e14a558f8ab-4337c867a00mr109651845ab.19.1762873538050; Tue, 11 Nov 2025 07:05:38 -0800 (PST) Received: from postal.iol.unh.edu (postal.iol.unh.edu. [132.177.123.84]) by smtp-relay.gmail.com with ESMTPS id e9e14a558f8ab-4337be45f71sm6476315ab.1.2025.11.11.07.05.37 (version=TLS1_2 cipher=ECDHE-ECDSA-AES128-GCM-SHA256 bits=128/128); Tue, 11 Nov 2025 07:05:38 -0800 (PST) X-Relaying-Domain: iol.unh.edu Date: Tue, 11 Nov 2025 07:05:38 -0800 (PST) Message-ID: <691350c2.050a0220.2237b0.115dSMTPIN_ADDED_MISSING@mx.google.com> Received: from [172.21.0.2] (unknown [172.18.0.240]) by postal.iol.unh.edu (Postfix) with ESMTP id A656C604D420; Tue, 11 Nov 2025 10:05:37 -0500 (EST) Subject: |SUCCESS| pw158663-158667 [PATCH] [v4,5/5] vhost_user: Increase numb From: dpdklab@iol.unh.edu To: Test Report Cc: dpdk-test-reports@iol.unh.edu, Chenbo Xia , Maxime Coquelin In-Reply-To: <20251111114521.2902867-6-pravin.bathija@dell.com> References: <20251111114521.2902867-6-pravin.bathija@dell.com> Content-Type: text/plain X-BeenThere: test-report@dpdk.org X-Mailman-Version: 2.1.29 Precedence: list List-Id: automatic DPDK test reports List-Unsubscribe: , List-Archive: List-Post: List-Help: List-Subscribe: , Errors-To: test-report-bounces@dpdk.org Test-Label: iol-compile-amd64-testing Test-Status: SUCCESS http://dpdk.org/patch/158667 _Testing PASS_ Submitter: Pravin M Bathija Date: Tuesday, November 11 2025 11:45:21 DPDK git baseline: Repo:dpdk-next-virtio Branch: master CommitID:6b37c26a95388aa41bb5267c7c42f604fd571a38 158663-158667 --> testing pass Upstream job id: Generic-DPDK-Compile-Meson#443030 Test environment and result as below: +---------------------+--------------------+ | Environment | dpdk_meson_compile | +=====================+====================+ | Ubuntu 20.04 | PASS | +---------------------+--------------------+ | FreeBSD 14.2 | PASS | +---------------------+--------------------+ | CentOS Stream 9 | PASS | +---------------------+--------------------+ | CentOS Stream 10 | PASS | +---------------------+--------------------+ | Debian GNU/Linux 12 | PASS | +---------------------+--------------------+ Ubuntu 20.04 Kernel: 4.19 Compiler: gcc gcc (Ubuntu 9.4.0-1ubuntu1~20.04.2) 9.4.0 FreeBSD 14.2 Kernel: 14.2-RELEASE Compiler: clang 18.1.6 CentOS Stream 9 Kernel: 5.15 Compiler: gcc gcc (GCC) 11.5.0 20240719 (Red Hat 11.5.0-11) CentOS Stream 10 Kernel: 5.15 Compiler: gcc gcc (GCC) 14.2.1 20250110 (Red Hat 14.2.1-8) Debian GNU/Linux 12 Kernel: 5.15 Compiler: gcc gcc (Debian 12.2.0-14+deb12u1) 12.2.0 To view detailed results, visit: https://lab.dpdk.org/results/dashboard/patchsets/34535/ UNH-IOL DPDK Community Lab To manage your email subscriptions, visit: https://lab.dpdk.org/results/dashboard/preferences/subscriptions/