From mboxrd@z Thu Jan 1 00:00:00 1970 Return-Path: Received: from mails.dpdk.org (mails.dpdk.org [217.70.189.124]) by inbox.dpdk.org (Postfix) with ESMTP id 45F6348ADD for ; Tue, 11 Nov 2025 16:46:29 +0100 (CET) Received: from mails.dpdk.org (localhost [127.0.0.1]) by mails.dpdk.org (Postfix) with ESMTP id 4000140280; Tue, 11 Nov 2025 16:46:29 +0100 (CET) Received: from mail-vs1-f99.google.com (mail-vs1-f99.google.com [209.85.217.99]) by mails.dpdk.org (Postfix) with ESMTP id 14F0B40280 for ; Tue, 11 Nov 2025 16:46:28 +0100 (CET) Received: by mail-vs1-f99.google.com with SMTP id ada2fe7eead31-58de3ab1831so2781570137.3 for ; Tue, 11 Nov 2025 07:46:28 -0800 (PST) DKIM-Signature: v=1; a=rsa-sha256; c=relaxed/relaxed; d=iol.unh.edu; s=unh-iol; t=1762875987; x=1763480787; darn=dpdk.org; h=references:in-reply-to:cc:to:from:subject:message-id:date:from:to :cc:subject:date:message-id:reply-to; bh=AG0qe0wiC/lF/3KOz/wBsuv6n0z0NneGKAY+UoUlJjY=; b=jFvkmGJgKn8v0Ph65wYXEdCZb5FBX87fjcCuEjEinZ95lvSxyYHrdOooCFCtvB+hsz QnLriDlb4ECTkNliHws+VpCz9uR3oTO/Vc2owYBc8Ff/Sz2QcS1QsNwa1R9apA5wTy54 XQ80Uc4CaVp+Mmm5cFqPGfl/0QYcJrUGuK91g= X-Google-DKIM-Signature: v=1; a=rsa-sha256; c=relaxed/relaxed; d=1e100.net; s=20230601; t=1762875987; x=1763480787; h=references:in-reply-to:cc:to:from:subject:message-id:date:x-gm-gg :x-gm-message-state:from:to:cc:subject:date:message-id:reply-to; bh=AG0qe0wiC/lF/3KOz/wBsuv6n0z0NneGKAY+UoUlJjY=; b=EhaJG1wtr+dvN8G7euhi/jducWU7WIpBMJ5JpRrc39tW1DfJqJ3eXczv8QkN8Wdq9M BdU7z1ZA7ehCgMnaDRfv8W/btgDC2vdllMEUDKm6qJYSmA+cR8R6zjWK5TCJaYwly028 SRIl9P6ELkTYLOkqV6xd0v3xYsjiKZQZRYh5IfNL/S1VBOJ/ytRQDjFQ+vYtQ5wNDSzj Gv3CnJl45Ge17noLNorTd6KKL9hFpp2c4waDelQBhm+ZQih+L2kLBBmtw7WinPPYbVD4 R1voOi2OC0C/6dgJTQzIWdYZBpRdSzzf/E0Ga4ro7f+CXoGj327TUwUDLRjYt/pNsadc wbeQ== X-Gm-Message-State: AOJu0Yyd6Bg0Net4qLYxJbHtE+ZYw2oSwsXtho7HuD3DhQE39snTk8bq JvAZj0EAK1Br2FPE1XxBgbUJco9JmuuUMe43zMkxm4fUl2mWYOdfTSK2hPk3zXpDvTRnlfHsjyr VKOvV2HEUxDPT2CPlpWajLdMXgDgiQ87nPGC9RfxUzEGZ X-Gm-Gg: ASbGncu6wYgleKbSnot+ijAH6L5Gz43LZtiiGpgwtEeM1weJyrS3aw5dhVWunhd5ZrJ 3Wf1rX8anV3Pewfp7s4BmksXHNa4UQ+eh4Xkul6r5DbShBPN58U6ROM6LvCPWlMA/UuRyQWETUH ZdtGsXhrveY+dHmFnKRDjBc7PB6BryKOTEhW8DPsUXc9y3FDevCi4GbsfsyIqMY2IOMTJwCrX5V 15DJHYgRQY31n5luooCT6m1P5tabKl3j/zemdm1n1Lt5e8kI6xyMil4vLXy5KIY0u6+t6DrsBFj oCKqY0zI9uk9qaatFepmU2mj2IrijN2GVIizCpOa6Glu9jqjZLwrrlaKjMtyOO9bllcCgm8RLOK XqBrQgobN6zOJD7Z0N9yCmOtfdxCKkss= X-Google-Smtp-Source: AGHT+IH/fuQouv9l9oroX7qZ9LjZdwh6hM07wQyHYQq5HBToTJk0N8u1HKFrrZcvJXhQQtWOH72m9nNN9U+y X-Received: by 2002:a05:6102:c91:b0:534:cfe0:f86c with SMTP id ada2fe7eead31-5ddc46c86d1mr4293211137.15.1762875987385; Tue, 11 Nov 2025 07:46:27 -0800 (PST) Received: from postal.iol.unh.edu (postal.iol.unh.edu. [132.177.123.84]) by smtp-relay.gmail.com with ESMTPS id ada2fe7eead31-5dda2014c93sm1373657137.4.2025.11.11.07.46.27 (version=TLS1_2 cipher=ECDHE-ECDSA-AES128-GCM-SHA256 bits=128/128); Tue, 11 Nov 2025 07:46:27 -0800 (PST) X-Relaying-Domain: iol.unh.edu Date: Tue, 11 Nov 2025 07:46:27 -0800 (PST) Message-ID: <69135a53.050a0220.2936ee.7495SMTPIN_ADDED_MISSING@mx.google.com> Received: from [172.21.0.2] (unknown [172.18.0.240]) by postal.iol.unh.edu (Postfix) with ESMTP id 18A9B604D420; Tue, 11 Nov 2025 10:46:27 -0500 (EST) Subject: |SUCCESS| pw158663-158667 [PATCH] [v4,5/5] vhost_user: Increase numb From: dpdklab@iol.unh.edu To: Test Report Cc: dpdk-test-reports@iol.unh.edu, Chenbo Xia , Maxime Coquelin In-Reply-To: <20251111114521.2902867-6-pravin.bathija@dell.com> References: <20251111114521.2902867-6-pravin.bathija@dell.com> Content-Type: text/plain X-BeenThere: test-report@dpdk.org X-Mailman-Version: 2.1.29 Precedence: list List-Id: automatic DPDK test reports List-Unsubscribe: , List-Archive: List-Post: List-Help: List-Subscribe: , Errors-To: test-report-bounces@dpdk.org Test-Label: iol-compile-amd64-testing Test-Status: SUCCESS http://dpdk.org/patch/158667 _Testing PASS_ Submitter: Pravin M Bathija Date: Tuesday, November 11 2025 11:45:21 DPDK git baseline: Repo:dpdk-next-virtio Branch: master CommitID:6b37c26a95388aa41bb5267c7c42f604fd571a38 158663-158667 --> testing pass Upstream job id: Generic-DPDK-Compile-Meson#443043 Test environment and result as below: +-------------------------------+--------------------+------------------+ | Environment | dpdk_meson_compile | dpdk_compile_ovs | +===============================+====================+==================+ | Ubuntu 20.04 | PASS | SKIPPED | +-------------------------------+--------------------+------------------+ | FreeBSD 14.2 | PASS | SKIPPED | +-------------------------------+--------------------+------------------+ | CentOS Stream 9 | PASS | SKIPPED | +-------------------------------+--------------------+------------------+ | CentOS Stream 10 | PASS | SKIPPED | +-------------------------------+--------------------+------------------+ | Debian GNU/Linux 12 | PASS | SKIPPED | +-------------------------------+--------------------+------------------+ | Fedora Linux 42 | PASS | PASS | +-------------------------------+--------------------+------------------+ | openSUSE Leap 15.6 | PASS | SKIPPED | +-------------------------------+--------------------+------------------+ | Red Hat Enterprise Linux 8.10 | PASS | SKIPPED | +-------------------------------+--------------------+------------------+ | Red Hat Enterprise Linux 9.5 | PASS | SKIPPED | +-------------------------------+--------------------+------------------+ | Ubuntu 22.04 | PASS | SKIPPED | +-------------------------------+--------------------+------------------+ | Ubuntu 24.04 | PASS | PASS | +-------------------------------+--------------------+------------------+ | Alpine Linux 3.22.0 | PASS | SKIPPED | +-------------------------------+--------------------+------------------+ Ubuntu 20.04 Kernel: 4.19 Compiler: gcc gcc (Ubuntu 9.4.0-1ubuntu1~20.04.2) 9.4.0 FreeBSD 14.2 Kernel: 14.2-RELEASE Compiler: clang 18.1.6 CentOS Stream 9 Kernel: 5.15 Compiler: gcc gcc (GCC) 11.5.0 20240719 (Red Hat 11.5.0-11) CentOS Stream 10 Kernel: 5.15 Compiler: gcc gcc (GCC) 14.2.1 20250110 (Red Hat 14.2.1-8) Debian GNU/Linux 12 Kernel: 5.15 Compiler: gcc gcc (Debian 12.2.0-14+deb12u1) 12.2.0 Fedora Linux 42 Kernel: 5.15 Compiler: clang gcc (GCC) 15.2.1 20250808 (Red Hat 15.2.1-1) openSUSE Leap 15.6 Kernel: 5.15 Compiler: gcc gcc (SUSE Linux) 7.5.0 Red Hat Enterprise Linux 8.10 Kernel: 5.15 Compiler: gcc gcc (GCC) 8.5.0 20210514 (Red Hat 8.5.0-22) Red Hat Enterprise Linux 9.5 Kernel: 5.15 Compiler: gcc gcc (GCC) 11.5.0 20240719 (Red Hat 11.5.0-2) Ubuntu 22.04 Kernel: 5.15 Compiler: gcc gcc (Ubuntu 11.4.0-1ubuntu1~22.04) 11.4.0 Ubuntu 24.04 Kernel: 5.15 Compiler: gcc gcc (Ubuntu 13.3.0-6ubuntu2~24.04) 13.3.0 Alpine Linux 3.22.0 Kernel: 5.15 Compiler: gcc gcc (Alpine 14.2.0) 14.2.0 To view detailed results, visit: https://lab.dpdk.org/results/dashboard/patchsets/34535/ UNH-IOL DPDK Community Lab To manage your email subscriptions, visit: https://lab.dpdk.org/results/dashboard/preferences/subscriptions/