From mboxrd@z Thu Jan 1 00:00:00 1970 Return-Path: Received: from mails.dpdk.org (mails.dpdk.org [217.70.189.124]) by inbox.dpdk.org (Postfix) with ESMTP id A68D448ADD for ; Tue, 11 Nov 2025 16:50:09 +0100 (CET) Received: from mails.dpdk.org (localhost [127.0.0.1]) by mails.dpdk.org (Postfix) with ESMTP id A22BD40280; Tue, 11 Nov 2025 16:50:09 +0100 (CET) Received: from mail-pl1-f225.google.com (mail-pl1-f225.google.com [209.85.214.225]) by mails.dpdk.org (Postfix) with ESMTP id 5E66840280 for ; Tue, 11 Nov 2025 16:50:08 +0100 (CET) Received: by mail-pl1-f225.google.com with SMTP id d9443c01a7336-298039e00c2so30695985ad.3 for ; Tue, 11 Nov 2025 07:50:08 -0800 (PST) DKIM-Signature: v=1; a=rsa-sha256; c=relaxed/relaxed; d=iol.unh.edu; s=unh-iol; t=1762876207; x=1763481007; darn=dpdk.org; h=references:in-reply-to:cc:to:from:subject:message-id:date:from:to :cc:subject:date:message-id:reply-to; bh=jjibkoobDZU/e5PM0YIFmzQVjvUR6TDVwcUU8UIu1DI=; b=edQQY227C4cLqEctCopV9q3o2eXrZLVOCOs1dR2QFe886jNcAbxh1VkXLkd7bsbNiT Rv7mDuDAeCQYsDOkmoIYVni+ew0BK6d0V+90Vn7pwC8jfYRbpO4Y6QJG0kWWL7Ew6g9c DldmaK4jHtRxeYTlHTaS35YExoe9PTouiavq0= X-Google-DKIM-Signature: v=1; a=rsa-sha256; c=relaxed/relaxed; d=1e100.net; s=20230601; t=1762876207; x=1763481007; h=references:in-reply-to:cc:to:from:subject:message-id:date:x-gm-gg :x-gm-message-state:from:to:cc:subject:date:message-id:reply-to; bh=jjibkoobDZU/e5PM0YIFmzQVjvUR6TDVwcUU8UIu1DI=; b=iieLL1Es3l4CZhiNvtsN/3IQARt2O4eXQSXFd+MT5QNZonhF+8yybv9jP56vDwBR9o S0bP5nPp1KIs+o68iIV+D84W3eUJ2DjktVU1QdsIhhysUAahLugRgFyPOg9I5pBwCL2L o9uvMIWYLNMWpU03WXNVSDm14fKVZuEs80DGychKr4yhI5OVpTyt6h48vpUevCKRWCpp 6cvLMz7ATk2nXqxOwKoyYwnybpzA4+jckZLhPhIZQcjksDeIKeaW6bMmCuNqDBeZghwX z9HZ1wqktEpenulRgwtRPvAvICuZpLgGZv9btdwcB7n+O4Jl4AtiomWa9q1snbrpsoiu VtfQ== X-Gm-Message-State: AOJu0Ywbexj2piShXDUgu/rZMigxqVCTr3YJKs9h5WzZzWwf5yaM/zDY F+E88IyETcVmF45nMwJ8oB+9HPMCDH0/EseQtb6Y3PIjg4SN5PN+VqZ6oj32CotcTqDJp9wFDql 1UBpp/RmXTqvhXDU9/7WwEscv0RwagJzfyCMgmjM2WLEJ X-Gm-Gg: ASbGncsTLbzUN7I3zfWZPVhsvDttWrg9r6cIlDH/zMAaO13znZzvo1xnAOJAY8fijWK RVO7BYpHsHz2yqPWm6FC04eONP0+TDj+oL+8tj8CzHQjL6BMXasKEkX5V/OnO/Zupa9xpz84QnB 2pefI1bsYEaUZR3ZPzWtX2FjOg7DO5mlHL98vO9HoZXFVK5VAfjcSwHLPCdmy1/oQYpO5aU6QsG RI+PkhNmm3JBMlE9axVVbaKLakF2JIetHx77QTE+Og7RATAe9PMqmua+u+0eQkMgbLA0AXeuMKJ JZwGBgsyPZUDa3cbprMdj7FdpycsaguG23hVlVfCG2BOTKEsBFBsTFFQJWIqFmeNtS46lO1mXEy QECXHN3FWxyqBFdIy98wcHXaMYkVtPdE= X-Google-Smtp-Source: AGHT+IFDvQ7w1J10cUzMDaK4frPF7He004TZpY3GFK7bjqTY2KyJ20P7NlyyganTwWD9HT15ChpYDCuoZ3qG X-Received: by 2002:a17:902:ce10:b0:295:57f6:76b with SMTP id d9443c01a7336-297e53e7b0bmr172426435ad.7.1762876207507; Tue, 11 Nov 2025 07:50:07 -0800 (PST) Received: from postal.iol.unh.edu (postal.iol.unh.edu. [132.177.123.84]) by smtp-relay.gmail.com with ESMTPS id d9443c01a7336-2984dcfebf8sm61075ad.31.2025.11.11.07.50.07 (version=TLS1_2 cipher=ECDHE-ECDSA-AES128-GCM-SHA256 bits=128/128); Tue, 11 Nov 2025 07:50:07 -0800 (PST) X-Relaying-Domain: iol.unh.edu Date: Tue, 11 Nov 2025 07:50:07 -0800 (PST) Message-ID: <69135b2f.170a0220.155a1a.057bSMTPIN_ADDED_MISSING@mx.google.com> Received: from [172.21.0.2] (unknown [172.18.0.240]) by postal.iol.unh.edu (Postfix) with ESMTP id EA18F604D420; Tue, 11 Nov 2025 10:50:06 -0500 (EST) Subject: |SUCCESS| pw158648-158652 [PATCH] [v4,5/5] vhost_user: Increase numb From: dpdklab@iol.unh.edu To: Test Report Cc: dpdk-test-reports@iol.unh.edu, Chenbo Xia , Maxime Coquelin In-Reply-To: <20251111111235.2902146-6-pravin.bathija@dell.com> References: <20251111111235.2902146-6-pravin.bathija@dell.com> Content-Type: text/plain X-BeenThere: test-report@dpdk.org X-Mailman-Version: 2.1.29 Precedence: list List-Id: automatic DPDK test reports List-Unsubscribe: , List-Archive: List-Post: List-Help: List-Subscribe: , Errors-To: test-report-bounces@dpdk.org Test-Label: iol-unit-arm64-testing Test-Status: SUCCESS http://dpdk.org/patch/158652 _Testing PASS_ Submitter: Pravin M Bathija Date: Tuesday, November 11 2025 11:12:35 DPDK git baseline: Repo:dpdk-next-virtio Branch: master CommitID:6b37c26a95388aa41bb5267c7c42f604fd571a38 158648-158652 --> testing pass Upstream job id: Generic-Unit-Test-DPDK#390945 Test environment and result as below: +------------------------------+------------------------------+---------------------------+--------------+----------------+ | Environment | cryptodev_sw_snow3g_autotest | cryptodev_sw_zuc_autotest | lpm_autotest | dpdk_unit_test | +==============================+==============================+===========================+==============+================+ | Debian 12 (arm) | PASS | PASS | SKIPPED | SKIPPED | +------------------------------+------------------------------+---------------------------+--------------+----------------+ | Ubuntu 20.04 | SKIPPED | SKIPPED | PASS | PASS | +------------------------------+------------------------------+---------------------------+--------------+----------------+ | Fedora Linux 40 | SKIPPED | SKIPPED | SKIPPED | PASS | +------------------------------+------------------------------+---------------------------+--------------+----------------+ | CentOS Stream 10 | SKIPPED | SKIPPED | SKIPPED | PASS | +------------------------------+------------------------------+---------------------------+--------------+----------------+ | Debian GNU/Linux 12 | SKIPPED | SKIPPED | SKIPPED | PASS | +------------------------------+------------------------------+---------------------------+--------------+----------------+ | Fedora Linux 42 | SKIPPED | SKIPPED | SKIPPED | PASS | +------------------------------+------------------------------+---------------------------+--------------+----------------+ | CentOS Stream 9 | SKIPPED | SKIPPED | SKIPPED | PASS | +------------------------------+------------------------------+---------------------------+--------------+----------------+ | Ubuntu 22.04 | SKIPPED | SKIPPED | SKIPPED | PASS | +------------------------------+------------------------------+---------------------------+--------------+----------------+ | Red Hat Enterprise Linux 9.5 | SKIPPED | SKIPPED | SKIPPED | PASS | +------------------------------+------------------------------+---------------------------+--------------+----------------+ | Ubuntu 24.04 | SKIPPED | SKIPPED | SKIPPED | PASS | +------------------------------+------------------------------+---------------------------+--------------+----------------+ | Fedora Linux 41 | SKIPPED | SKIPPED | SKIPPED | PASS | +------------------------------+------------------------------+---------------------------+--------------+----------------+ Debian 12 (arm) Kernel: Depends on container host Compiler: gcc (Debian 12.2.0-14) 12.2.0 Ubuntu 20.04 Kernel: 5.4 Compiler: gcc gcc (Ubuntu 9.4.0-1ubuntu1~20.04.2) 9.4.0 Fedora Linux 40 Kernel: 5.4 Compiler: clang gcc (GCC) 14.2.1 20240912 (Red Hat 14.2.1-3) CentOS Stream 10 Kernel: 5.4 Compiler: gcc gcc (GCC) 14.2.1 20250110 (Red Hat 14.2.1-8) Debian GNU/Linux 12 Kernel: 5.4 Compiler: gcc gcc (Debian 12.2.0-14+deb12u1) 12.2.0 Fedora Linux 42 Kernel: 5.4 Compiler: gcc gcc (GCC) 15.2.1 20250808 (Red Hat 15.2.1-1) CentOS Stream 9 Kernel: 5.4 Compiler: gcc gcc (GCC) 11.5.0 20240719 (Red Hat 11.5.0-11) Ubuntu 22.04 Kernel: 5.15 Compiler: gcc gcc (Ubuntu 11.4.0-1ubuntu1~22.04.2) 11.4.0 Red Hat Enterprise Linux 9.5 Kernel: 5.4 Compiler: gcc gcc (GCC) 11.5.0 20240719 (Red Hat 11.5.0-2) Ubuntu 24.04 Kernel: 5.4 Compiler: gcc gcc (Ubuntu 13.3.0-6ubuntu2~24.04) 13.3.0 Fedora Linux 41 Kernel: 5.4 Compiler: clang gcc (GCC) 14.3.1 20250523 (Red Hat 14.3.1-1) To view detailed results, visit: https://lab.dpdk.org/results/dashboard/patchsets/34530/ UNH-IOL DPDK Community Lab To manage your email subscriptions, visit: https://lab.dpdk.org/results/dashboard/preferences/subscriptions/