From mboxrd@z Thu Jan 1 00:00:00 1970 Return-Path: Received: from mails.dpdk.org (mails.dpdk.org [217.70.189.124]) by inbox.dpdk.org (Postfix) with ESMTP id 653F248ADF for ; Tue, 11 Nov 2025 17:59:47 +0100 (CET) Received: from mails.dpdk.org (localhost [127.0.0.1]) by mails.dpdk.org (Postfix) with ESMTP id 3C32C4026D; Tue, 11 Nov 2025 17:59:47 +0100 (CET) Received: from mail-il1-f228.google.com (mail-il1-f228.google.com [209.85.166.228]) by mails.dpdk.org (Postfix) with ESMTP id 28F254026D for ; Tue, 11 Nov 2025 17:59:45 +0100 (CET) Received: by mail-il1-f228.google.com with SMTP id e9e14a558f8ab-43346da8817so6273615ab.0 for ; Tue, 11 Nov 2025 08:59:45 -0800 (PST) DKIM-Signature: v=1; a=rsa-sha256; c=relaxed/relaxed; d=iol.unh.edu; s=unh-iol; t=1762880384; x=1763485184; darn=dpdk.org; h=references:in-reply-to:cc:to:from:subject:message-id:date:from:to :cc:subject:date:message-id:reply-to; bh=3bwOZZPeT+ewZBbSanaPkgljzpFJIMNbzqEfKVbew5A=; b=XX1qDfscMATFaUk8W4F2qSUt6QxfG+UD7JNrBVKpy1JBMKYC/3d7sIldTyt7jbXs9I GSm3QCrA0ABXC3KF6C7ljXDpbcQz+BemXlL9r1NYFMVxU8yCWt5tnmLn6DktpNYyypZj y27F9LgrhrC0FTyi9pfoR5t6uIBGMKt6yl0oc= X-Google-DKIM-Signature: v=1; a=rsa-sha256; c=relaxed/relaxed; d=1e100.net; s=20230601; t=1762880384; x=1763485184; h=references:in-reply-to:cc:to:from:subject:message-id:date:x-gm-gg :x-gm-message-state:from:to:cc:subject:date:message-id:reply-to; bh=3bwOZZPeT+ewZBbSanaPkgljzpFJIMNbzqEfKVbew5A=; b=fZNZC07DdSMwbk3tFbkpIkBh4kNmgbeXeyj/erf77Y7kHTrtBJzfy9Fq39bf6jK8tn 7Bs5W/wRnZCskvEa+HkuNv1CvPEVpc9y1Bu2mwJwAKmH1AlD3U9jlMJZG2jc73BMyTPb AKBdp0gJUH7QRO87QRvhNLhutvI/wBqXEShHJPxmYpQxzpuSyXIjFJ9AwQ97ElPaWWNx xNQMgm4B+4hyOTe/NxZiw1bOHQvAfqufTCMXBJAhpnx1IshpjWONk8JVHqgC72xENVRU dFvVCM21mTBtIZ2mMg09D0X/47sumMJZDjXdxf6ALLWhtvyfRd0V4HL+EEdqtlA7sOwi +Byw== X-Gm-Message-State: AOJu0YxWE/VQpL7LiqxM3l8EqVUcZvv1Wy+X5GWfRJNXzkwL3Jihih/u nCv/Yuz+OWku822oqhqOdufA2q3Vy0s351qhFG+UDbOLlhyNdf/QeSjXlI96KFQV5QeIxY48Ae5 YU5sIYw0vjLjRy3BWppxmUpyzh5Mfq5gsWWXo4GtnCgU7 X-Gm-Gg: ASbGncuVn973s94x27r7uIUik4HmOdLc9/lqH7wquugVrWa3eW3ZPshU316kXFV8u8q mejZ72tYKthJEYIYQ+u7nABRkqgs4u46xqYIO2L5wHK9CSmwBoKpkvLLWtrMMpJiegwBaeCBonv nsZJBzFj4srJ55dQdwS/7ednnJENGErs3mz1uaiezBOZOrZa85+/dG3tGKQFQuXc4T6M2/2u6Yl 4r25bn6zaTu0Gw2h+HClGP/PEjDCW4T6wr0Z+8MP/7gjuOpDv7DGbBMYNooSp0VLqF9M6pejITx PqvNN3kZ9vEBVRokwbYTomQMYItP87XHbS6v7T4I2ryEGMR329JNf9V+VtnP/IAhi1k0VwYPHz5 hzWUPnJK/oOwS7Rxksd+Z13crCEfmFX4= X-Google-Smtp-Source: AGHT+IE6FSpSlNfECpzTRs1j1rH1qWimNMpeTbf4Kug0DFeG9/czCbY7u7X9Kg1NC5KJo4FuIoAiSZK2l0lJ X-Received: by 2002:a05:6e02:1c0e:b0:430:da51:95f3 with SMTP id e9e14a558f8ab-4338be3743bmr62887875ab.3.1762880384359; Tue, 11 Nov 2025 08:59:44 -0800 (PST) Received: from postal.iol.unh.edu (postal.iol.unh.edu. [132.177.123.84]) by smtp-relay.gmail.com with ESMTPS id e9e14a558f8ab-43473302d80sm176615ab.4.2025.11.11.08.59.44 (version=TLS1_2 cipher=ECDHE-ECDSA-AES128-GCM-SHA256 bits=128/128); Tue, 11 Nov 2025 08:59:44 -0800 (PST) X-Relaying-Domain: iol.unh.edu Date: Tue, 11 Nov 2025 08:59:44 -0800 (PST) Message-ID: <69136b80.050a0220.be4d8.1060SMTPIN_ADDED_MISSING@mx.google.com> Received: from [172.21.0.3] (unknown [172.18.0.240]) by postal.iol.unh.edu (Postfix) with ESMTP id E63B86050A61; Tue, 11 Nov 2025 11:59:43 -0500 (EST) Subject: |SUCCESS| pw158646-158647 [PATCH] [v7,2/2] app/testpmd: support mult From: dpdklab@iol.unh.edu To: Test Report Cc: dpdk-test-reports@iol.unh.edu, Stephen Hemminger In-Reply-To: <20251111091303.39491-3-fengchengwen@huawei.com> References: <20251111091303.39491-3-fengchengwen@huawei.com> Content-Type: text/plain X-BeenThere: test-report@dpdk.org X-Mailman-Version: 2.1.29 Precedence: list List-Id: automatic DPDK test reports List-Unsubscribe: , List-Archive: List-Post: List-Help: List-Subscribe: , Errors-To: test-report-bounces@dpdk.org Test-Label: iol-unit-arm64-testing Test-Status: SUCCESS http://dpdk.org/patch/158647 _Testing PASS_ Submitter: Chengwen Feng Date: Tuesday, November 11 2025 09:13:03 DPDK git baseline: Repo:dpdk-next-net Branch: master CommitID:591ee7f468aebec30d68d30afa8d5e4dcfc897dc 158646-158647 --> testing pass Upstream job id: Generic-Unit-Test-DPDK#390967 Test environment and result as below: +------------------------------+--------------+------------------------------+---------------------------+----------------+ | Environment | lpm_autotest | cryptodev_sw_snow3g_autotest | cryptodev_sw_zuc_autotest | dpdk_unit_test | +==============================+==============+==============================+===========================+================+ | Ubuntu 20.04 | PASS | SKIPPED | SKIPPED | PASS | +------------------------------+--------------+------------------------------+---------------------------+----------------+ | Debian 12 (arm) | SKIPPED | PASS | PASS | SKIPPED | +------------------------------+--------------+------------------------------+---------------------------+----------------+ | Debian GNU/Linux 12 | SKIPPED | SKIPPED | SKIPPED | PASS | +------------------------------+--------------+------------------------------+---------------------------+----------------+ | CentOS Stream 10 | SKIPPED | SKIPPED | SKIPPED | PASS | +------------------------------+--------------+------------------------------+---------------------------+----------------+ | Fedora Linux 42 | SKIPPED | SKIPPED | SKIPPED | PASS | +------------------------------+--------------+------------------------------+---------------------------+----------------+ | CentOS Stream 9 | SKIPPED | SKIPPED | SKIPPED | PASS | +------------------------------+--------------+------------------------------+---------------------------+----------------+ | Red Hat Enterprise Linux 9.5 | SKIPPED | SKIPPED | SKIPPED | PASS | +------------------------------+--------------+------------------------------+---------------------------+----------------+ | Fedora Linux 40 | SKIPPED | SKIPPED | SKIPPED | PASS | +------------------------------+--------------+------------------------------+---------------------------+----------------+ | Fedora Linux 41 | SKIPPED | SKIPPED | SKIPPED | PASS | +------------------------------+--------------+------------------------------+---------------------------+----------------+ | Ubuntu 22.04 | SKIPPED | SKIPPED | SKIPPED | PASS | +------------------------------+--------------+------------------------------+---------------------------+----------------+ | Ubuntu 24.04 | SKIPPED | SKIPPED | SKIPPED | PASS | +------------------------------+--------------+------------------------------+---------------------------+----------------+ Ubuntu 20.04 Kernel: 5.4 Compiler: gcc gcc (Ubuntu 9.4.0-1ubuntu1~20.04.2) 9.4.0 Debian 12 (arm) Kernel: Depends on container host Compiler: gcc (Debian 12.2.0-14) 12.2.0 Debian GNU/Linux 12 Kernel: 5.4 Compiler: gcc gcc (Debian 12.2.0-14+deb12u1) 12.2.0 CentOS Stream 10 Kernel: 5.4 Compiler: gcc gcc (GCC) 14.2.1 20250110 (Red Hat 14.2.1-8) Fedora Linux 42 Kernel: 5.4 Compiler: clang gcc (GCC) 15.2.1 20250808 (Red Hat 15.2.1-1) CentOS Stream 9 Kernel: 5.4 Compiler: gcc gcc (GCC) 11.5.0 20240719 (Red Hat 11.5.0-11) Red Hat Enterprise Linux 9.5 Kernel: 5.4 Compiler: gcc gcc (GCC) 11.5.0 20240719 (Red Hat 11.5.0-2) Fedora Linux 40 Kernel: 5.4 Compiler: gcc gcc (GCC) 14.2.1 20240912 (Red Hat 14.2.1-3) Fedora Linux 41 Kernel: 5.4 Compiler: clang gcc (GCC) 14.3.1 20250523 (Red Hat 14.3.1-1) Ubuntu 22.04 Kernel: 5.4 Compiler: gcc gcc (Ubuntu 11.4.0-1ubuntu1~22.04) 11.4.0 Ubuntu 24.04 Kernel: 5.4 Compiler: gcc gcc (Ubuntu 13.3.0-6ubuntu2~24.04) 13.3.0 To view detailed results, visit: https://lab.dpdk.org/results/dashboard/patchsets/34531/ UNH-IOL DPDK Community Lab To manage your email subscriptions, visit: https://lab.dpdk.org/results/dashboard/preferences/subscriptions/