From mboxrd@z Thu Jan 1 00:00:00 1970 Return-Path: Received: from mails.dpdk.org (mails.dpdk.org [217.70.189.124]) by inbox.dpdk.org (Postfix) with ESMTP id EC82248AE0 for ; Tue, 11 Nov 2025 18:05:26 +0100 (CET) Received: from mails.dpdk.org (localhost [127.0.0.1]) by mails.dpdk.org (Postfix) with ESMTP id E3E1D4026D; Tue, 11 Nov 2025 18:05:26 +0100 (CET) Received: from mail-pg1-f228.google.com (mail-pg1-f228.google.com [209.85.215.228]) by mails.dpdk.org (Postfix) with ESMTP id 8ACF14026D for ; Tue, 11 Nov 2025 18:05:26 +0100 (CET) Received: by mail-pg1-f228.google.com with SMTP id 41be03b00d2f7-bbbc58451a3so601164a12.0 for ; Tue, 11 Nov 2025 09:05:26 -0800 (PST) DKIM-Signature: v=1; a=rsa-sha256; c=relaxed/relaxed; d=iol.unh.edu; s=unh-iol; t=1762880726; x=1763485526; darn=dpdk.org; h=references:in-reply-to:cc:to:from:subject:message-id:date:from:to :cc:subject:date:message-id:reply-to; bh=qXgBtFbZ/wzYSVajAycpTVRC1ZNdzGTe1HsPAQ2yebM=; b=eh+9IOdaUkbsYHoqu7dOfAYmYQ+0l8yiFG6E2jUrXuSjEz2onpiauZ8GKuhYVadupU BRVcYTcVYG3FcFxc2gm4hH2tidmI4b0Knpx7NuhxIChxnCW/bkYe9HOh4/hkTY2AOURd ADEERv3cKfst/yN0mb0dl3gM+WD0TptNFVYHY= X-Google-DKIM-Signature: v=1; a=rsa-sha256; c=relaxed/relaxed; d=1e100.net; s=20230601; t=1762880726; x=1763485526; h=references:in-reply-to:cc:to:from:subject:message-id:date:x-gm-gg :x-gm-message-state:from:to:cc:subject:date:message-id:reply-to; bh=qXgBtFbZ/wzYSVajAycpTVRC1ZNdzGTe1HsPAQ2yebM=; b=poG0y06XuDofLeFd+h4K45T1pn0zqVPcZ3d/h25shLYQbqYJ0L2PsidiJHztY5UJqB sDlv8G810X3pDDZkpP7XeMh/pKoc7iyg3+YiluI2fyuJBcImLBP82X+l5f0GcW993uyd 125uLojxKqPt230wzk06JGI+JZ1ZdjpnbV4VEfrHkKXnUPEiLbVwofawt25a3PdMs1yG SsRLJLvfWti3YIM1aJ1fGu/Q/yAWCFw8XQqQC3u+lSo0X2gdmzFy8SBTnghOhpDQDHbf slXATqBScEs2rLI2GjROpIz5a9+vrCcSNwLNO2np140O7skhScc9o8evQCDp+XQDMj79 04jA== X-Gm-Message-State: AOJu0YzzZ5zm6btEqHnFMDiqe5l8mDm4cPb46A7vjHxXir8kbCcgNkQX WshChLlLN4FcYLDpqTz/H0Dg2skmRHLe2Tswas3n8mUvl6Heg3543RZlWn0IkandzFlhhvzfI7R Pg7mYzsdxxW7371CGBWmgC+sGQzgE4ImxMK1Poio1jec8 X-Gm-Gg: ASbGncvo6s2PrfzC+JkE+TDwdmIEVu0fcDW/FBgAT5+m88ed7qZpmlbxeY5xULS6LxP XC6x26nPQWjKToYs0ERzpvpvkAR6DCTHZGMVlWc/7N2Yrq376lMcW5VEeI0aJnF1UJBHexPmUHH w9fLB4F+YLMr6WIE2VAaZegWI1EWWCEyb4BxaBIfEWY4SPdmtksnaQIGfU9OehaovUH0sPrwsoj vd+Z0qt24iuABMOOHztdm+TSzzImfHxLuQRWnBwkzzfUjjqdmMKlLgYKfkIHrze+7AfBao3OAbZ CxRlVTcewTT/SE7VFdj2CIQYVVDZ4StdVQdiLN2kz2w7CROvB3rCH/RmCkG94QmiCa/6tvK6+7E Huzhcfxa9vu0yvOegjAM6alenl2999c4= X-Google-Smtp-Source: AGHT+IHu3qkyzVBNYOsrpPWT3JSv/7XwTTiMPilV5C0V4iHONVe/MlwNC+V+Z4XhfOZy8kQz3/V9hwqX+Rsa X-Received: by 2002:a17:903:3c25:b0:295:6d30:e26f with SMTP id d9443c01a7336-2984ed3695dmr537315ad.22.1762880724089; Tue, 11 Nov 2025 09:05:24 -0800 (PST) Received: from postal.iol.unh.edu (postal.iol.unh.edu. [132.177.123.84]) by smtp-relay.gmail.com with ESMTPS id d9443c01a7336-2984dbe6ad3sm220935ad.8.2025.11.11.09.05.23 (version=TLS1_2 cipher=ECDHE-ECDSA-AES128-GCM-SHA256 bits=128/128); Tue, 11 Nov 2025 09:05:24 -0800 (PST) X-Relaying-Domain: iol.unh.edu Date: Tue, 11 Nov 2025 09:05:24 -0800 (PST) Message-ID: <69136cd4.170a0220.2ab6b5.17beSMTPIN_ADDED_MISSING@mx.google.com> Received: from [172.21.0.2] (unknown [172.18.0.240]) by postal.iol.unh.edu (Postfix) with ESMTP id 90C446050A61; Tue, 11 Nov 2025 12:05:23 -0500 (EST) Subject: |SUCCESS| pw158645 [PATCH] [v3] lib/ring: do not allow zero size rin From: dpdklab@iol.unh.edu To: Test Report Cc: dpdk-test-reports@iol.unh.edu In-Reply-To: <20251111062253.578121-1-iboukris@gmail.com> References: <20251111062253.578121-1-iboukris@gmail.com> Content-Type: text/plain X-BeenThere: test-report@dpdk.org X-Mailman-Version: 2.1.29 Precedence: list List-Id: automatic DPDK test reports List-Unsubscribe: , List-Archive: List-Post: List-Help: List-Subscribe: , Errors-To: test-report-bounces@dpdk.org Test-Label: iol-compile-arm64-testing Test-Status: SUCCESS http://dpdk.org/patch/158645 _Testing PASS_ Submitter: Isaac Boukris Date: Tuesday, November 11 2025 06:22:52 DPDK git baseline: Repo:dpdk Branch: master CommitID:8ae4f1d511226fd65a979e9f8a1e51835281a59b 158645 --> testing pass Upstream job id: Generic-DPDK-Compile-Meson#442883 Test environment and result as below: +------------------------------+--------------------+ | Environment | dpdk_meson_compile | +==============================+====================+ | Ubuntu 20.04 | PASS | +------------------------------+--------------------+ | Debian GNU/Linux 12 | PASS | +------------------------------+--------------------+ | Fedora Linux 42 | PASS | +------------------------------+--------------------+ | Red Hat Enterprise Linux 9.5 | PASS | +------------------------------+--------------------+ | Ubuntu 22.04 | PASS | +------------------------------+--------------------+ | CentOS Stream 10 | PASS | +------------------------------+--------------------+ | CentOS Stream 9 | PASS | +------------------------------+--------------------+ | Ubuntu 24.04 | PASS | +------------------------------+--------------------+ Ubuntu 20.04 Kernel: 5.4 Compiler: gcc gcc (Ubuntu 9.4.0-1ubuntu1~20.04.2) 9.4.0 Debian GNU/Linux 12 Kernel: 5.4 Compiler: gcc gcc (Debian 12.2.0-14+deb12u1) 12.2.0 Fedora Linux 42 Kernel: 5.4 Compiler: clang gcc (GCC) 15.2.1 20250808 (Red Hat 15.2.1-1) Red Hat Enterprise Linux 9.5 Kernel: 5.4 Compiler: gcc gcc (GCC) 11.5.0 20240719 (Red Hat 11.5.0-2) Ubuntu 22.04 Kernel: 5.4 Compiler: gcc gcc (Ubuntu 11.4.0-1ubuntu1~22.04) 11.4.0 CentOS Stream 10 Kernel: 5.4 Compiler: gcc gcc (GCC) 14.2.1 20250110 (Red Hat 14.2.1-8) CentOS Stream 9 Kernel: 5.4 Compiler: gcc gcc (GCC) 11.5.0 20240719 (Red Hat 11.5.0-11) Ubuntu 24.04 Kernel: 5.4 Compiler: gcc gcc (Ubuntu 13.3.0-6ubuntu2~24.04) 13.3.0 To view detailed results, visit: https://lab.dpdk.org/results/dashboard/patchsets/34529/ UNH-IOL DPDK Community Lab To manage your email subscriptions, visit: https://lab.dpdk.org/results/dashboard/preferences/subscriptions/