From mboxrd@z Thu Jan 1 00:00:00 1970 Return-Path: Received: from mails.dpdk.org (mails.dpdk.org [217.70.189.124]) by inbox.dpdk.org (Postfix) with ESMTP id 969E848AE0 for ; Tue, 11 Nov 2025 18:42:15 +0100 (CET) Received: from mails.dpdk.org (localhost [127.0.0.1]) by mails.dpdk.org (Postfix) with ESMTP id 83D884026D; Tue, 11 Nov 2025 18:42:15 +0100 (CET) Received: from mail-pf1-f226.google.com (mail-pf1-f226.google.com [209.85.210.226]) by mails.dpdk.org (Postfix) with ESMTP id 7433A4026D for ; Tue, 11 Nov 2025 18:42:14 +0100 (CET) Received: by mail-pf1-f226.google.com with SMTP id d2e1a72fcca58-7af603c06easo15126b3a.0 for ; Tue, 11 Nov 2025 09:42:14 -0800 (PST) DKIM-Signature: v=1; a=rsa-sha256; c=relaxed/relaxed; d=iol.unh.edu; s=unh-iol; t=1762882933; x=1763487733; darn=dpdk.org; h=references:in-reply-to:cc:to:from:subject:message-id:date:from:to :cc:subject:date:message-id:reply-to; bh=Dk82UFf9poei76nMVRWFH7crQ9Y2HWMw6xlraEfz7c8=; b=MUvGFWcyxYXyJAOvBCu9Y3cfBbhT8sTIYOEQQdv7WtpfniNUd7eMjCPqRJDap8+z2r IyzBmi118R6uBnlpC48RLG6zO+hLYJlkUyWowctwpkoWHkL78Bdk+zolr958/BR9rNaY Y5jC399DCYG04evR2i2MoblW/YAkM/GZrh+WQ= X-Google-DKIM-Signature: v=1; a=rsa-sha256; c=relaxed/relaxed; d=1e100.net; s=20230601; t=1762882933; x=1763487733; h=references:in-reply-to:cc:to:from:subject:message-id:date:x-gm-gg :x-gm-message-state:from:to:cc:subject:date:message-id:reply-to; bh=Dk82UFf9poei76nMVRWFH7crQ9Y2HWMw6xlraEfz7c8=; b=Fz8ZqgYSyyMgWXnrwD7aoaQMhWTdbXaXu3ccSXdTUyXDUi24npnX+xCPMDI9FnAjZv mOeTKTIHivUaZ/R5ILlrkN1T9oMvlcTBDLddjiIFf4hggguNc3gYVL2kEzd42i3Vs+Zs /gwcXY8OEzlRFVohBb1MGPg0X7j28ZkgPPqDG0nBkSnJoB/V/mUXaMcTbj+4rTxnpyA4 ivrfuDH5OAwhT6I1CQjMRkJ/2Mb5iTpnjXLfV3tTVHpivv8cZQoCl34Mdzy81ntHA7rU BUp6URObI7vUTShuhTDlT0hkq9gsNa/MUQlgK5f0U3C0U4Fhppdx7IFsLPKPDQvweP0H S6fQ== X-Gm-Message-State: AOJu0Ywzs7XomnXeg466wbbV3wj/wfmgwms+KCyMMVKGI/4qABm9wmDI Oeo8X3fFk+JOQHr/ze+STx2r2Nggydvo96eVAXRf/UoPy8i1xasWArvOrICRFam1Ij5/jkYxu6n 9v3Fd3xl56mVYK5rUxmrCBU5pcRzaXHn/Sxxp6hAD0UZs X-Gm-Gg: ASbGnctBCqBgYZlBeHoX2wvUg+ZEEquJyEBNvoJGkRreBoYC491t+TKBqKwSN3R1C9O nGStu2iPLeAN92cRdFAdqJ2f1C870MvjRZwBxfhJ1jP/reNWDBI5Q4SoAdl0tH8/cq7xZIth7lj t7HWJDr/Ua+CKYptuHlHGJwkCjlewghuGRZHeLR08vxteARL3Xxs1Nme2gwvbuecPi/ygoNBTGk iN/JIUhMqoCZdGpqqV/CE4Dks+3Om7kOqyIlP8vK/QQcT6qr9j8EAPAcvCkVIHJkCnERzlj9nC/ u2VhmdNdCuihkTag4CoemMuT8gYj0UjGWjq4BZfY7ih9jKxtWjV1t4bmwZLltCyD9jNJP9kW3i+ DlrEIJwQWABfDG4lthGVGoFuDaYQn02w= X-Google-Smtp-Source: AGHT+IEUY0DF2Sq9Y+f+ZuofJjP5kjMTSDQMNwfUBsMT382C/XH9YsAASdBvi+vCyzJ7tbIWGaDGlwaNE190 X-Received: by 2002:a17:90b:584f:b0:343:87b3:6fbb with SMTP id 98e67ed59e1d1-343bf0bd8bdmr5047802a91.8.1762882933381; Tue, 11 Nov 2025 09:42:13 -0800 (PST) Received: from postal.iol.unh.edu (postal.iol.unh.edu. [132.177.123.84]) by smtp-relay.gmail.com with ESMTPS id 98e67ed59e1d1-341aee107f8sm2030903a91.4.2025.11.11.09.42.13 (version=TLS1_2 cipher=ECDHE-ECDSA-AES128-GCM-SHA256 bits=128/128); Tue, 11 Nov 2025 09:42:13 -0800 (PST) X-Relaying-Domain: iol.unh.edu Date: Tue, 11 Nov 2025 09:42:13 -0800 (PST) Message-ID: <69137575.170a0220.1f8287.96c7SMTPIN_ADDED_MISSING@mx.google.com> Received: from [172.21.0.2] (unknown [172.18.0.240]) by postal.iol.unh.edu (Postfix) with ESMTP id 9ED106050A61; Tue, 11 Nov 2025 12:42:12 -0500 (EST) Subject: |SUCCESS| pw158648-158652 [PATCH] [v4,5/5] vhost_user: Increase numb From: dpdklab@iol.unh.edu To: Test Report Cc: dpdk-test-reports@iol.unh.edu, Chenbo Xia , Maxime Coquelin In-Reply-To: <20251111111235.2902146-6-pravin.bathija@dell.com> References: <20251111111235.2902146-6-pravin.bathija@dell.com> Content-Type: text/plain X-BeenThere: test-report@dpdk.org X-Mailman-Version: 2.1.29 Precedence: list List-Id: automatic DPDK test reports List-Unsubscribe: , List-Archive: List-Post: List-Help: List-Subscribe: , Errors-To: test-report-bounces@dpdk.org Test-Label: iol-compile-arm64-testing Test-Status: SUCCESS http://dpdk.org/patch/158652 _Testing PASS_ Submitter: Pravin M Bathija Date: Tuesday, November 11 2025 11:12:35 DPDK git baseline: Repo:dpdk-next-virtio Branch: master CommitID:6b37c26a95388aa41bb5267c7c42f604fd571a38 158648-158652 --> testing pass Upstream job id: Generic-DPDK-Compile-Meson#442898 Test environment and result as below: +------------------------------+--------------------+ | Environment | dpdk_meson_compile | +==============================+====================+ | Red Hat Enterprise Linux 9.5 | PASS | +------------------------------+--------------------+ | Ubuntu 20.04 | PASS | +------------------------------+--------------------+ | Debian GNU/Linux 12 | PASS | +------------------------------+--------------------+ | Fedora Linux 42 | PASS | +------------------------------+--------------------+ | CentOS Stream 9 | PASS | +------------------------------+--------------------+ | Ubuntu 24.04 | PASS | +------------------------------+--------------------+ | CentOS Stream 10 | PASS | +------------------------------+--------------------+ | Ubuntu 22.04 | PASS | +------------------------------+--------------------+ Red Hat Enterprise Linux 9.5 Kernel: 5.4 Compiler: gcc gcc (GCC) 11.5.0 20240719 (Red Hat 11.5.0-2) Ubuntu 20.04 Kernel: 5.15 Compiler: aarch64-linux-gnu-gcc gcc (Ubuntu 9.4.0-1ubuntu1~20.04.2) 9.4.0 Debian GNU/Linux 12 Kernel: 5.4 Compiler: gcc gcc (Debian 12.2.0-14+deb12u1) 12.2.0 Fedora Linux 42 Kernel: 5.4 Compiler: clang gcc (GCC) 15.2.1 20250808 (Red Hat 15.2.1-1) CentOS Stream 9 Kernel: 5.4 Compiler: gcc gcc (GCC) 11.5.0 20240719 (Red Hat 11.5.0-11) Ubuntu 24.04 Kernel: 5.4 Compiler: gcc gcc (Ubuntu 13.3.0-6ubuntu2~24.04) 13.3.0 CentOS Stream 10 Kernel: 5.4 Compiler: gcc gcc (GCC) 14.2.1 20250110 (Red Hat 14.2.1-8) Ubuntu 22.04 Kernel: 5.4 Compiler: gcc gcc (Ubuntu 11.4.0-1ubuntu1~22.04) 11.4.0 To view detailed results, visit: https://lab.dpdk.org/results/dashboard/patchsets/34530/ UNH-IOL DPDK Community Lab To manage your email subscriptions, visit: https://lab.dpdk.org/results/dashboard/preferences/subscriptions/