From mboxrd@z Thu Jan 1 00:00:00 1970 Return-Path: Received: from mails.dpdk.org (mails.dpdk.org [217.70.189.124]) by inbox.dpdk.org (Postfix) with ESMTP id 988DD48AE0 for ; Tue, 11 Nov 2025 18:52:42 +0100 (CET) Received: from mails.dpdk.org (localhost [127.0.0.1]) by mails.dpdk.org (Postfix) with ESMTP id 928CE40280; Tue, 11 Nov 2025 18:52:42 +0100 (CET) Received: from mail-il1-f225.google.com (mail-il1-f225.google.com [209.85.166.225]) by mails.dpdk.org (Postfix) with ESMTP id 301114026D for ; Tue, 11 Nov 2025 18:52:41 +0100 (CET) Received: by mail-il1-f225.google.com with SMTP id e9e14a558f8ab-4337076ae3fso16730475ab.1 for ; Tue, 11 Nov 2025 09:52:41 -0800 (PST) DKIM-Signature: v=1; a=rsa-sha256; c=relaxed/relaxed; d=iol.unh.edu; s=unh-iol; t=1762883560; x=1763488360; darn=dpdk.org; h=references:in-reply-to:cc:to:from:subject:message-id:date:from:to :cc:subject:date:message-id:reply-to; bh=ZooMiDCL/KbKJLGwVjv1a9W6cDRp5zUUMWM3fOZ2a2A=; b=gH8fMJFfpqNerShOeM9Glsks6NV4uv5Ns+8YOdiLlpIp44GWdT1GQ6rX8EsaeTxa4Q k/jmrluF1ub/MqUZRtpWE2bTqlCKJmDVtuz/Qb9M6RXrjl6U8/nTssIBHE4S7oU3g826 RxWW8b315dAbw4/2sRhhvHMbwaAPVUkflGeiw= X-Google-DKIM-Signature: v=1; a=rsa-sha256; c=relaxed/relaxed; d=1e100.net; s=20230601; t=1762883560; x=1763488360; h=references:in-reply-to:cc:to:from:subject:message-id:date:x-gm-gg :x-gm-message-state:from:to:cc:subject:date:message-id:reply-to; bh=ZooMiDCL/KbKJLGwVjv1a9W6cDRp5zUUMWM3fOZ2a2A=; b=PquoY1tWHCNqZZBEdHQpI6gx2cawNd+30R8mXvoXpYjhj5Sa8pMWNaWavG/5bc+UKu KbUh84mZ1bAqBMgWe3icLA8+RU5JsP1Wqy0tee/KAGfJJbqxOpejI4YwhhyClQPHxfZA jSuGjjK17wi7sAPybviJI5XjjJESKdVWJy8xpQbfrgaMFlbnoXmKKdZltL+5ZJ/FDbXv Snoyg0TlxroGLe4BHzx/VvbjcK3Xs34DmXAlXBSw+jQaMjLg7mtUBwP8i50ejPqFwppN 8tpbh53oUFphnSpLljmKB9CgnQ5ElOKCQ888qHsInTZ8WGvV6L4HN3rrxHCGRP50offl SXQA== X-Gm-Message-State: AOJu0Yz8LHSebsfFmXy/4gBIESxSTAzGlsKlFpkYKQMT8qnCtgK4fJEf Dac9gw8TprcbLjC2b955rj7UlevpDI2DZmCT27XuAY6+oClnLFOLDoL42JOzjcBmyScVGtVGt75 FeQx9YHTkA2Rkf2hJfJCk4p/oSiLvAbTjnN/2143uCI37 X-Gm-Gg: ASbGncud96/jeNWLGqxaXXRJ+wtqw4UcxXEtB7uqUwdMufLJPf9KsPm7b/JpgC7x6zY B4VME7GXk4czJND6B2HhpzHdTpypYfm2Sg7WW70buvGEAfE4YlWGVmM2UIwtCPb6HchMLnLnATc 0PBSgVhfFcmQbIAhbQZfoqJQHC4ZOmoqHCG4xNhyfX+GhaaofhzRlZ+tE0nNmOPfQ8Q0tLOLzA9 /sZ8PfFKPu2diVZF749X31xD8OGoY623tg92OJpi+g+5Pl9ONVgoVGBffqjqGmqZvQfs2x+4i0R pN2P0MHV8wPO1OggHeJSR4PLJNW2bZueGbIhZaZz8O5y75HIKhZzcEOQqZoSxalcAUZGLMVkdn4 Ff0HauVYskepvNC9t3MQHiCYsoFpuuyE= X-Google-Smtp-Source: AGHT+IFJZD5nrlAXDKcT3QJ51BA35euv8iO5J921Jh8W2+Ne0P0vQLftRVp4/kZh+wYXnoMEFKZIqIvzwIwW X-Received: by 2002:a05:6e02:3f06:b0:433:2dbd:e93c with SMTP id e9e14a558f8ab-43367dd02admr203957635ab.4.1762883560511; Tue, 11 Nov 2025 09:52:40 -0800 (PST) Received: from postal.iol.unh.edu (postal.iol.unh.edu. [132.177.123.84]) by smtp-relay.gmail.com with ESMTPS id e9e14a558f8ab-434733a6106sm270515ab.24.2025.11.11.09.52.40 (version=TLS1_2 cipher=ECDHE-ECDSA-AES128-GCM-SHA256 bits=128/128); Tue, 11 Nov 2025 09:52:40 -0800 (PST) X-Relaying-Domain: iol.unh.edu Date: Tue, 11 Nov 2025 09:52:40 -0800 (PST) Message-ID: <691377e8.050a0220.1ac7d2.192fSMTPIN_ADDED_MISSING@mx.google.com> Received: from [172.21.0.3] (unknown [172.18.0.240]) by postal.iol.unh.edu (Postfix) with ESMTP id 036A56050A61; Tue, 11 Nov 2025 12:52:40 -0500 (EST) Subject: |SUCCESS| pw158646-158647 [PATCH] [v7,2/2] app/testpmd: support mult From: dpdklab@iol.unh.edu To: Test Report Cc: dpdk-test-reports@iol.unh.edu, Stephen Hemminger In-Reply-To: <20251111091303.39491-3-fengchengwen@huawei.com> References: <20251111091303.39491-3-fengchengwen@huawei.com> Content-Type: text/plain X-BeenThere: test-report@dpdk.org X-Mailman-Version: 2.1.29 Precedence: list List-Id: automatic DPDK test reports List-Unsubscribe: , List-Archive: List-Post: List-Help: List-Subscribe: , Errors-To: test-report-bounces@dpdk.org Test-Label: iol-compile-arm64-testing Test-Status: SUCCESS http://dpdk.org/patch/158647 _Testing PASS_ Submitter: Chengwen Feng Date: Tuesday, November 11 2025 09:13:03 DPDK git baseline: Repo:dpdk-next-net Branch: master CommitID:591ee7f468aebec30d68d30afa8d5e4dcfc897dc 158646-158647 --> testing pass Upstream job id: Generic-DPDK-Compile-Meson#442925 Test environment and result as below: +------------------------------+--------------------+ | Environment | dpdk_meson_compile | +==============================+====================+ | Red Hat Enterprise Linux 9.5 | PASS | +------------------------------+--------------------+ | Ubuntu 20.04 | PASS | +------------------------------+--------------------+ | Debian GNU/Linux 12 | PASS | +------------------------------+--------------------+ | Fedora Linux 42 | PASS | +------------------------------+--------------------+ | Ubuntu 22.04 | PASS | +------------------------------+--------------------+ | Ubuntu 24.04 | PASS | +------------------------------+--------------------+ | CentOS Stream 10 | PASS | +------------------------------+--------------------+ | CentOS Stream 9 | PASS | +------------------------------+--------------------+ Red Hat Enterprise Linux 9.5 Kernel: 5.4 Compiler: gcc gcc (GCC) 11.5.0 20240719 (Red Hat 11.5.0-2) Ubuntu 20.04 Kernel: 5.15 Compiler: aarch64-linux-gnu-gcc gcc (Ubuntu 9.4.0-1ubuntu1~20.04.2) 9.4.0 Debian GNU/Linux 12 Kernel: 5.4 Compiler: gcc gcc (Debian 12.2.0-14+deb12u1) 12.2.0 Fedora Linux 42 Kernel: 5.4 Compiler: clang gcc (GCC) 15.2.1 20250808 (Red Hat 15.2.1-1) Ubuntu 22.04 Kernel: 5.4 Compiler: gcc gcc (Ubuntu 11.4.0-1ubuntu1~22.04) 11.4.0 Ubuntu 24.04 Kernel: 5.4 Compiler: gcc gcc (Ubuntu 13.3.0-6ubuntu2~24.04) 13.3.0 CentOS Stream 10 Kernel: 5.4 Compiler: gcc gcc (GCC) 14.2.1 20250110 (Red Hat 14.2.1-8) CentOS Stream 9 Kernel: 5.4 Compiler: gcc gcc (GCC) 11.5.0 20240719 (Red Hat 11.5.0-11) To view detailed results, visit: https://lab.dpdk.org/results/dashboard/patchsets/34531/ UNH-IOL DPDK Community Lab To manage your email subscriptions, visit: https://lab.dpdk.org/results/dashboard/preferences/subscriptions/