From mboxrd@z Thu Jan 1 00:00:00 1970 Return-Path: Received: from mails.dpdk.org (mails.dpdk.org [217.70.189.124]) by inbox.dpdk.org (Postfix) with ESMTP id 6ECD848AE1 for ; Tue, 11 Nov 2025 20:11:57 +0100 (CET) Received: from mails.dpdk.org (localhost [127.0.0.1]) by mails.dpdk.org (Postfix) with ESMTP id 701514026D; Tue, 11 Nov 2025 20:11:57 +0100 (CET) Received: from mail-pl1-f228.google.com (mail-pl1-f228.google.com [209.85.214.228]) by mails.dpdk.org (Postfix) with ESMTP id 02E78402B0 for ; Tue, 11 Nov 2025 20:11:55 +0100 (CET) Received: by mail-pl1-f228.google.com with SMTP id d9443c01a7336-2953e415b27so330425ad.2 for ; Tue, 11 Nov 2025 11:11:54 -0800 (PST) DKIM-Signature: v=1; a=rsa-sha256; c=relaxed/relaxed; d=iol.unh.edu; s=unh-iol; t=1762888314; x=1763493114; darn=dpdk.org; h=references:in-reply-to:cc:to:from:subject:message-id:date:from:to :cc:subject:date:message-id:reply-to; bh=xLri/vFLB41tq0u7hOsUmpy3CDwwQHyQbYmYoB4NMf8=; b=Jr/62FIO32Vm4QE7n8dhlp67W7MOWGO0fPdBcZVf0VJ1J3OKmTVCgOT3YzGZZ1NRhs 5T7Bl7+rnONIo1NSy/rGKdinFnNBOVHeocgSOEiu7sDIlpzIQGGHKCOI9Ec+wsM3NKHM 1ITJCm+nD+IqAhcGm8HtiOCHnIPbfIF15dXjg= X-Google-DKIM-Signature: v=1; a=rsa-sha256; c=relaxed/relaxed; d=1e100.net; s=20230601; t=1762888314; x=1763493114; h=references:in-reply-to:cc:to:from:subject:message-id:date:x-gm-gg :x-gm-message-state:from:to:cc:subject:date:message-id:reply-to; bh=xLri/vFLB41tq0u7hOsUmpy3CDwwQHyQbYmYoB4NMf8=; b=RWzLZG/k0ruEVXeMvO8tqVoXZjs8SxW8rP2ODU647X+mqL8tQDQ/G0ki3cVc+7qM/g H+0jiRlPlQS093F84d+z7NkGXjFhuCBDS98hB397+0yX5yblRClJlMxuYbG4fCVGkLEi R8NEGSOCXSDSgsebeVKN0qzIuczE2QjSg6VSFVbHShsht65Q9u7uKWY2PiQQLLe7qEK1 F9bFKmBiGrK0R58WmGJu8ag/Gzg0CsTXKf1Op6n1KXzFlg5ENOWaIG8unm/Lqjthz5tx HjEaUtL/6srGhnkXDmOBWLpP854enw/ho2gdrix6eYzBfxuAcntSH1LYFbHxa2ak/2i7 ORTA== X-Gm-Message-State: AOJu0YxzckRc4tnq/Gn/6cpWoMB/3e01g6WA1WQxaoa/B60g/26Kh3ly hZ2rqfg4b2jReUdEFVP55PepXVTaFsAdQYz0rcP/XnAMHlchJsg6BY0EQAySn+BwlJmm8TiMmOv tkWWl+8wYiccSLKsFJdpIa7a6imb981+fYfUJ/uOHdGAt X-Gm-Gg: ASbGncuHdorhqw0cad4Kwv5wTT7oSWJKLItzyBnz9wfQN2mYU86lM7P//q+ytK0fk5V 59uF179PsVJKN4l804NsC826uTg7cug9AzE3ZPgYO12ZIQcH0ZBNqTon4UGzWS6wLeGKUuWfX8o uZ59PowCw0T1W6kYB97mXp/hzLMNTcOq6+x2yrMowrmb7u9PWqPW9JkRtJwqQ7hOZhJ6Y01am7B JpwpWnWBgTJit24hdRAqaY5Py2dp0oGYoWHCvt5eQ8iJuKNBpG3cuV71tCeSTxiRsXbevglI4bR omTfR6rk5X+cOo0Kt5GxjHdf15uCl4tRvF+7X9epwc6ce3rWRWfw+B+3GfYt/VIY7Mp1z/S30eJ Hqjzp5WzMZNj4lrLN6DTdSx/ZVSqHlvw= X-Google-Smtp-Source: AGHT+IFWg6GwacVSwUQGKKfK29xqeaEe8KHeXSaBxkS4MwdWkKocbQc8KbA3rDLl5IcatF44QnnKk/6sDN3k X-Received: by 2002:a17:903:1aac:b0:27d:6f49:febc with SMTP id d9443c01a7336-2984ed34441mr5032805ad.1.1762888313784; Tue, 11 Nov 2025 11:11:53 -0800 (PST) Received: from postal.iol.unh.edu (postal.iol.unh.edu. [132.177.123.84]) by smtp-relay.gmail.com with ESMTPS id d9443c01a7336-2984dbe6815sm529765ad.10.2025.11.11.11.11.53 (version=TLS1_2 cipher=ECDHE-ECDSA-AES128-GCM-SHA256 bits=128/128); Tue, 11 Nov 2025 11:11:53 -0800 (PST) X-Relaying-Domain: iol.unh.edu Date: Tue, 11 Nov 2025 11:11:53 -0800 (PST) Message-ID: <69138a79.170a0220.39a739.2e67SMTPIN_ADDED_MISSING@mx.google.com> Received: from [172.21.0.4] (unknown [172.18.0.240]) by postal.iol.unh.edu (Postfix) with ESMTP id 30B11604D420; Tue, 11 Nov 2025 14:11:53 -0500 (EST) Subject: |SUCCESS| pw158668 [PATCH] common/mlx5: add BlueField-4 DPU From: dpdklab@iol.unh.edu To: Test Report Cc: dpdk-test-reports@iol.unh.edu In-Reply-To: <20251111121628.75282-1-rasland@nvidia.com> References: <20251111121628.75282-1-rasland@nvidia.com> Content-Type: text/plain X-BeenThere: test-report@dpdk.org X-Mailman-Version: 2.1.29 Precedence: list List-Id: automatic DPDK test reports List-Unsubscribe: , List-Archive: List-Post: List-Help: List-Subscribe: , Errors-To: test-report-bounces@dpdk.org Test-Label: iol-unit-amd64-testing Test-Status: SUCCESS http://dpdk.org/patch/158668 _Testing PASS_ Submitter: Raslan Darawsheh Date: Tuesday, November 11 2025 12:16:28 DPDK git baseline: Repo:dpdk Branch: master CommitID:b63e7dbfb076d6a8247dcab014421d7b59e20255 158668 --> testing pass Upstream job id: Generic-Unit-Test-DPDK#391121 Test environment and result as below: +-------------------------------+----------------+ | Environment | dpdk_unit_test | +===============================+================+ | Fedora Linux 40 | PASS | +-------------------------------+----------------+ | CentOS Stream 9 | PASS | +-------------------------------+----------------+ | Debian GNU/Linux 12 | PASS | +-------------------------------+----------------+ | CentOS Stream 10 | PASS | +-------------------------------+----------------+ | Fedora Linux 41 | PASS | +-------------------------------+----------------+ | Red Hat Enterprise Linux 9.5 | PASS | +-------------------------------+----------------+ | Ubuntu 24.04 | PASS | +-------------------------------+----------------+ | Ubuntu 20.04 | PASS | +-------------------------------+----------------+ | Red Hat Enterprise Linux 8.10 | PASS | +-------------------------------+----------------+ | Fedora Linux 42 | PASS | +-------------------------------+----------------+ | Ubuntu 22.04 | PASS | +-------------------------------+----------------+ Fedora Linux 40 Kernel: 5.15 Compiler: gcc gcc (GCC) 14.2.1 20240912 (Red Hat 14.2.1-3) CentOS Stream 9 Kernel: 5.15 Compiler: gcc gcc (GCC) 11.5.0 20240719 (Red Hat 11.5.0-11) Debian GNU/Linux 12 Kernel: 5.15 Compiler: gcc gcc (Debian 12.2.0-14+deb12u1) 12.2.0 CentOS Stream 10 Kernel: 5.15 Compiler: gcc gcc (GCC) 14.2.1 20250110 (Red Hat 14.2.1-8) Fedora Linux 41 Kernel: 5.15 Compiler: gcc gcc (GCC) 14.3.1 20250523 (Red Hat 14.3.1-1) Red Hat Enterprise Linux 9.5 Kernel: 5.15 Compiler: gcc gcc (GCC) 11.5.0 20240719 (Red Hat 11.5.0-2) Ubuntu 24.04 Kernel: 5.15 Compiler: gcc gcc (Ubuntu 13.3.0-6ubuntu2~24.04) 13.3.0 Ubuntu 20.04 Kernel: 5.15 Compiler: gcc gcc (Ubuntu 9.4.0-1ubuntu1~20.04.2) 9.4.0 Red Hat Enterprise Linux 8.10 Kernel: 5.15 Compiler: gcc gcc (GCC) 8.5.0 20210514 (Red Hat 8.5.0-22) Fedora Linux 42 Kernel: 5.15 Compiler: gcc gcc (GCC) 15.2.1 20250808 (Red Hat 15.2.1-1) Ubuntu 22.04 Kernel: 5.15 Compiler: gcc gcc (Ubuntu 11.4.0-1ubuntu1~22.04) 11.4.0 To view detailed results, visit: https://lab.dpdk.org/results/dashboard/patchsets/34536/ UNH-IOL DPDK Community Lab To manage your email subscriptions, visit: https://lab.dpdk.org/results/dashboard/preferences/subscriptions/