From mboxrd@z Thu Jan 1 00:00:00 1970 Return-Path: Received: from mails.dpdk.org (mails.dpdk.org [217.70.189.124]) by inbox.dpdk.org (Postfix) with ESMTP id 19AA548AE1 for ; Tue, 11 Nov 2025 20:16:21 +0100 (CET) Received: from mails.dpdk.org (localhost [127.0.0.1]) by mails.dpdk.org (Postfix) with ESMTP id 1A93E4026D; Tue, 11 Nov 2025 20:16:21 +0100 (CET) Received: from mail-yw1-f227.google.com (mail-yw1-f227.google.com [209.85.128.227]) by mails.dpdk.org (Postfix) with ESMTP id 270DE4026D for ; Tue, 11 Nov 2025 20:16:20 +0100 (CET) Received: by mail-yw1-f227.google.com with SMTP id 00721157ae682-787ff3f462bso12123747b3.0 for ; Tue, 11 Nov 2025 11:16:20 -0800 (PST) DKIM-Signature: v=1; a=rsa-sha256; c=relaxed/relaxed; d=iol.unh.edu; s=unh-iol; t=1762888579; x=1763493379; darn=dpdk.org; h=references:in-reply-to:cc:to:from:subject:message-id:date:from:to :cc:subject:date:message-id:reply-to; bh=7yKKP4LJNZeyy7dOWEFmsAGXu/XIitqzBikV8Ksk7nw=; b=Ypd6bKUdJzAmuWNLU03fZlTVRaTNecEpqmQsMTpg6fCRIbRM9THwZiL/jeCigdJtmU T0xz8fEqOHVupTjTOkQfEqYF4C/ggU3RqbrjDteXW4Z7l/IqcmvIlqyjMQ2TEfv/289h 3+CUvoSgNH3g2VJYQc/ydWFdDNaVq8Jzua/0A= X-Google-DKIM-Signature: v=1; a=rsa-sha256; c=relaxed/relaxed; d=1e100.net; s=20230601; t=1762888579; x=1763493379; h=references:in-reply-to:cc:to:from:subject:message-id:date:x-gm-gg :x-gm-message-state:from:to:cc:subject:date:message-id:reply-to; bh=7yKKP4LJNZeyy7dOWEFmsAGXu/XIitqzBikV8Ksk7nw=; b=QbgCKO3E3s064hKQbtN8NRPXLR+D9ViopsO9w7vYrXVLdcdr7vUA/c2s8bmGgZ+rfJ 7DGYg5lUgG7jFdjFuR9h8odSbfpwy+x26YOEKMYZnMbfn39Oi5XsdrK/tnTCxoioarC5 PlMFMNSTTtTuNq1xF9XPJgW4+Gr70BxMSx+PbuNPjLE/AOLl2xg/4wf0ci0woDTlATlY KPqul0lv4JRGmzxhXFOI+n2kRpelT9EMWF0s5tKL7IKOBaSjbZZgP9Le/NU69hCAryNP +xGO/l3haZ27LqY6l2ibMoEs7i+4vbzUNz9ZwxYdYt1TgSQTzZElqLtHHjwV0vWmwWJU 2a4g== X-Gm-Message-State: AOJu0Yy2FKuBSHfz5TVSHIhY3w3jbOIajSmzLkw8UjBMVfs+I5Ymuei7 GalQGU98y0SE/SH8b5l6tyh6ebEeeXEl+fGGAa2UXZEbTvK9LbLSUB4tbiBZFXlhTG7mpFi0xTS 2rb4xhAoNIHOcSSsUArg6J6ccUBEtU1dWsYlTQ5XZVu9Y X-Gm-Gg: ASbGncsNTs8T1VBmTtNqezcjHYCjKxU40GWD0W54/Ad6kMJ6Xi05wyKvqokt3CIslLf sT6LnD169nBQCBRDR/tZzqEYT8yfY8Khbc2k1fdUYCGjIehJggvgqr4qI6uUqHAf7urWuWDHhGK XkLi5HMrdd+QfWIWj+/0gECqmiw/jsTpiL0fpVopVmbqXLS9hg3yGmPJ9XGKHfpVV9oqx4egkdg tPDfcXAqJ/m7Llowovoa96eqmGykcaJGG7uxZ4eH3CMt7uuG4L+5h3wakPCFmI2ti57Si9dNM9s 2D3s+JaKiavxujh7fU9hYTOqvonZoF9EdXQPBXacumkKTcBcus0OBXREQ0cZaaII4T0HI27jYgJ G/51sJ+tRVsXVls4lwKp3pCv/Y/EMMsk= X-Google-Smtp-Source: AGHT+IFR61Z1eF3gYUexKwFTFTMKagxJxFlbvxQL2lpoeFscesDD3UjHojxq/P4YlUVgoeGH7Mg7KkVv1wWf X-Received: by 2002:a53:bb43:0:b0:63e:1563:4801 with SMTP id 956f58d0204a3-64101ec95e0mr300732d50.22.1762888579519; Tue, 11 Nov 2025 11:16:19 -0800 (PST) Received: from postal.iol.unh.edu (postal.iol.unh.edu. [132.177.123.84]) by smtp-relay.gmail.com with ESMTPS id 956f58d0204a3-641015ad269sm34842d50.3.2025.11.11.11.16.19 (version=TLS1_2 cipher=ECDHE-ECDSA-AES128-GCM-SHA256 bits=128/128); Tue, 11 Nov 2025 11:16:19 -0800 (PST) X-Relaying-Domain: iol.unh.edu Date: Tue, 11 Nov 2025 11:16:19 -0800 (PST) Message-ID: <69138b83.050a0220.35ed51.1fddSMTPIN_ADDED_MISSING@mx.google.com> Received: from [172.21.0.2] (unknown [172.18.0.240]) by postal.iol.unh.edu (Postfix) with ESMTP id 2F130604D420; Tue, 11 Nov 2025 14:16:19 -0500 (EST) Subject: |SUCCESS| pw158668 [PATCH] common/mlx5: add BlueField-4 DPU From: dpdklab@iol.unh.edu To: Test Report Cc: dpdk-test-reports@iol.unh.edu In-Reply-To: <20251111121628.75282-1-rasland@nvidia.com> References: <20251111121628.75282-1-rasland@nvidia.com> Content-Type: text/plain X-BeenThere: test-report@dpdk.org X-Mailman-Version: 2.1.29 Precedence: list List-Id: automatic DPDK test reports List-Unsubscribe: , List-Archive: List-Post: List-Help: List-Subscribe: , Errors-To: test-report-bounces@dpdk.org Test-Label: iol-compile-amd64-testing Test-Status: SUCCESS http://dpdk.org/patch/158668 _Testing PASS_ Submitter: Raslan Darawsheh Date: Tuesday, November 11 2025 12:16:28 DPDK git baseline: Repo:dpdk Branch: master CommitID:b63e7dbfb076d6a8247dcab014421d7b59e20255 158668 --> testing pass Upstream job id: Generic-DPDK-Compile-Meson#443058 Test environment and result as below: +-------------------------------+--------------------+------------------+ | Environment | dpdk_meson_compile | dpdk_compile_ovs | +===============================+====================+==================+ | CentOS Stream 9 | PASS | SKIPPED | +-------------------------------+--------------------+------------------+ | CentOS Stream 10 | PASS | SKIPPED | +-------------------------------+--------------------+------------------+ | Debian GNU/Linux 12 | PASS | SKIPPED | +-------------------------------+--------------------+------------------+ | Fedora Linux 42 | PASS | PASS | +-------------------------------+--------------------+------------------+ | Red Hat Enterprise Linux 8.10 | PASS | SKIPPED | +-------------------------------+--------------------+------------------+ | Ubuntu 20.04 | PASS | SKIPPED | +-------------------------------+--------------------+------------------+ | openSUSE Leap 15.6 | PASS | SKIPPED | +-------------------------------+--------------------+------------------+ | Ubuntu 22.04 | PASS | SKIPPED | +-------------------------------+--------------------+------------------+ | Ubuntu 24.04 | PASS | PASS | +-------------------------------+--------------------+------------------+ | Red Hat Enterprise Linux 9.5 | PASS | SKIPPED | +-------------------------------+--------------------+------------------+ | Alpine Linux 3.22.0 | PASS | SKIPPED | +-------------------------------+--------------------+------------------+ | FreeBSD 14.2 | PASS | SKIPPED | +-------------------------------+--------------------+------------------+ CentOS Stream 9 Kernel: 5.15 Compiler: gcc gcc (GCC) 11.5.0 20240719 (Red Hat 11.5.0-11) CentOS Stream 10 Kernel: 5.15 Compiler: gcc gcc (GCC) 14.2.1 20250110 (Red Hat 14.2.1-8) Debian GNU/Linux 12 Kernel: 5.15 Compiler: gcc gcc (Debian 12.2.0-14+deb12u1) 12.2.0 Fedora Linux 42 Kernel: 5.15 Compiler: gcc gcc (GCC) 15.2.1 20250808 (Red Hat 15.2.1-1) Red Hat Enterprise Linux 8.10 Kernel: 5.15 Compiler: gcc gcc (GCC) 8.5.0 20210514 (Red Hat 8.5.0-22) Ubuntu 20.04 Kernel: 5.15 Compiler: gcc gcc (Ubuntu 9.4.0-1ubuntu1~20.04.2) 9.4.0 openSUSE Leap 15.6 Kernel: 5.15 Compiler: gcc gcc (SUSE Linux) 7.5.0 Ubuntu 22.04 Kernel: 5.15 Compiler: gcc gcc (Ubuntu 11.4.0-1ubuntu1~22.04) 11.4.0 Ubuntu 24.04 Kernel: 5.15 Compiler: gcc gcc (Ubuntu 13.3.0-6ubuntu2~24.04) 13.3.0 Red Hat Enterprise Linux 9.5 Kernel: 5.15 Compiler: gcc gcc (GCC) 11.5.0 20240719 (Red Hat 11.5.0-2) Alpine Linux 3.22.0 Kernel: 5.15 Compiler: gcc gcc (Alpine 14.2.0) 14.2.0 FreeBSD 14.2 Kernel: 14.2-RELEASE Compiler: clang 18.1.6 To view detailed results, visit: https://lab.dpdk.org/results/dashboard/patchsets/34536/ UNH-IOL DPDK Community Lab To manage your email subscriptions, visit: https://lab.dpdk.org/results/dashboard/preferences/subscriptions/