From mboxrd@z Thu Jan 1 00:00:00 1970 Return-Path: Received: from mails.dpdk.org (mails.dpdk.org [217.70.189.124]) by inbox.dpdk.org (Postfix) with ESMTP id EF84448AE1 for ; Tue, 11 Nov 2025 21:01:20 +0100 (CET) Received: from mails.dpdk.org (localhost [127.0.0.1]) by mails.dpdk.org (Postfix) with ESMTP id D0FA74026D; Tue, 11 Nov 2025 21:01:20 +0100 (CET) Received: from mail-yx1-f97.google.com (mail-yx1-f97.google.com [74.125.224.97]) by mails.dpdk.org (Postfix) with ESMTP id 6560C4026D for ; Tue, 11 Nov 2025 21:01:19 +0100 (CET) Received: by mail-yx1-f97.google.com with SMTP id 956f58d0204a3-63e393c4a8aso101043d50.2 for ; Tue, 11 Nov 2025 12:01:19 -0800 (PST) DKIM-Signature: v=1; a=rsa-sha256; c=relaxed/relaxed; d=iol.unh.edu; s=unh-iol; t=1762891278; x=1763496078; darn=dpdk.org; h=references:in-reply-to:cc:to:from:subject:message-id:date:from:to :cc:subject:date:message-id:reply-to; bh=P2lOB3FttrYhiiaFWtBkuAySO/LBnknRd8caxzwME5U=; b=G4pBYHFtxjYGX9Nye7anPa7dAFZozOMD4kAyp6vCFok1C+49mHWOQwYe3rQgShys+V s2jphARQ3DHMzSZcci4jmkVhKbzMSDqJBsnKfa7rcaBkdyoCZL9kcLjl0gk011k89n5N 5CuAvsU0i1ss8HqUe4mpdHObRjYl+xpZgYqVc= X-Google-DKIM-Signature: v=1; a=rsa-sha256; c=relaxed/relaxed; d=1e100.net; s=20230601; t=1762891278; x=1763496078; h=references:in-reply-to:cc:to:from:subject:message-id:date:x-gm-gg :x-gm-message-state:from:to:cc:subject:date:message-id:reply-to; bh=P2lOB3FttrYhiiaFWtBkuAySO/LBnknRd8caxzwME5U=; b=uzyCotSr4BhVfrYbCZUyRhTKU46bIDJpVtdmeDkzYX6VjxqQIQYgAwI/7XrPIIX1SV o1LYg2K+YsKsOCPCR4xYI0ZomAPpiEA2UWZEmlAyJe2+F0bAFRnxLoSkWO3RK5xAeQtJ ojBmG8tefMPkYvuH2UhCZebbpWEzWdiMyQ7PwCrQ7u+hKWd6P5DoqtME5vHYPoIZCEEd rya230vS5zQ1hg9AwzzrJtJJ83vuV5yU362hxLzuJsIn/3zS6x+Aa8qPXdSwrgu283iB UzSB8CDJjCIE6zh5A12+hHgYaSF0Ft0txFn7EPMYlS+YdG5YZCagcRVzDpBf37MFRKv3 4FlA== X-Gm-Message-State: AOJu0Yzjd43AIGQ1xXRQ2EBDpPdcXqjeQAPG/L1sRUn2ONYEpmaAMKk0 fDlwahM1pUjcn5hpA2ucWsi0hGQ7PuKfL1OTCTcmKvULpqUgb65JSpPtHUU64TRkVWObP7dBPz+ J+zBerB3XYdwVZbBbInHNILBuuIbMFC2B5OMjgkdvX5jlYPGBCKq2AO5/QKv1 X-Gm-Gg: ASbGncvVU5Y3QstRVGzHC00BmTIRURnY8PZhsDz3dTu6A0Pdu+KO+Sl6fxyfHBDZqnD FKoF1nhB/AMrP0OYoWMDpijR0XaaY5OZC5tirZWYFtfJPXETBqNT5hlhqduDYox83imqlWlnbQF vktGR14YT1+emVTIuQNwYiMToQT79WNsilcPR1Xo9hOcIFKNbLCTJbmGovYtuPsggq3gJXdl5sS /FwqghJ0Wq0emqxhtTFHEU8YexEoHq3nmVUyjIzJo+0PfZ29Foa13lS9PuHpBAopbglO4MH2Hmi vcRsrPh0k0WEIQRdhJsph6+I7Ay2ec+SNncT8z4zjYDXkV6JPP7UQEfTNafKvZdP0XtIfv0haA+ UFS2m/jWp X-Google-Smtp-Source: AGHT+IHMAFicmc5v4ASpuDxtsPhKXoiQXFpMtXOp5sIAfOzZf8m9ayCTifyY91sAZkRni5QwuRYvfm5EyoAV X-Received: by 2002:a05:690e:244e:b0:63f:ad22:f0a7 with SMTP id 956f58d0204a3-64101a0de91mr571871d50.6.1762891278660; Tue, 11 Nov 2025 12:01:18 -0800 (PST) Received: from postal.iol.unh.edu (postal.iol.unh.edu. [2606:4100:3880:1234::84]) by smtp-relay.gmail.com with ESMTPS id 956f58d0204a3-641015dd2dcsm38398d50.7.2025.11.11.12.01.18 (version=TLS1_2 cipher=ECDHE-ECDSA-AES128-GCM-SHA256 bits=128/128); Tue, 11 Nov 2025 12:01:18 -0800 (PST) X-Relaying-Domain: iol.unh.edu Date: Tue, 11 Nov 2025 12:01:18 -0800 (PST) Message-ID: <6913960e.050a0220.9e920.2100SMTPIN_ADDED_MISSING@mx.google.com> Received: from [172.21.0.3] (unknown [172.18.0.240]) by postal.iol.unh.edu (Postfix) with ESMTP id 4C044604D420; Tue, 11 Nov 2025 15:01:18 -0500 (EST) Subject: |SUCCESS| pw158669 [PATCH] [v2,1/1] eal: correct memory ordering in From: dpdklab@iol.unh.edu To: Test Report Cc: dpdk-test-reports@iol.unh.edu In-Reply-To: <20251111173850.790254-1-wathsala.vithanage@arm.com> References: <20251111173850.790254-1-wathsala.vithanage@arm.com> Content-Type: text/plain X-BeenThere: test-report@dpdk.org X-Mailman-Version: 2.1.29 Precedence: list List-Id: automatic DPDK test reports List-Unsubscribe: , List-Archive: List-Post: List-Help: List-Subscribe: , Errors-To: test-report-bounces@dpdk.org Test-Label: iol-unit-amd64-testing Test-Status: SUCCESS http://dpdk.org/patch/158669 _Testing PASS_ Submitter: Wathsala Vithanage Date: Tuesday, November 11 2025 17:38:50 DPDK git baseline: Repo:dpdk Branch: master CommitID:994644dcbdca1490bd831e4fd1d7d5b0b79d1874 158669 --> testing pass Upstream job id: Generic-Unit-Test-DPDK#391163 Test environment and result as below: +-------------------------------+----------------+ | Environment | dpdk_unit_test | +===============================+================+ | Fedora Linux 42 | PASS | +-------------------------------+----------------+ | Fedora Linux 41 | PASS | +-------------------------------+----------------+ | CentOS Stream 10 | PASS | +-------------------------------+----------------+ | CentOS Stream 9 | PASS | +-------------------------------+----------------+ | Debian GNU/Linux 12 | PASS | +-------------------------------+----------------+ | Red Hat Enterprise Linux 9.5 | PASS | +-------------------------------+----------------+ | Fedora Linux 40 | PASS | +-------------------------------+----------------+ | Ubuntu 20.04 | PASS | +-------------------------------+----------------+ | Ubuntu 22.04 | PASS | +-------------------------------+----------------+ | Red Hat Enterprise Linux 8.10 | PASS | +-------------------------------+----------------+ | Ubuntu 24.04 | PASS | +-------------------------------+----------------+ Fedora Linux 42 Kernel: 5.15 Compiler: gcc gcc (GCC) 15.2.1 20250808 (Red Hat 15.2.1-1) Fedora Linux 41 Kernel: 5.15 Compiler: clang gcc (GCC) 14.3.1 20250523 (Red Hat 14.3.1-1) CentOS Stream 10 Kernel: 5.15 Compiler: gcc gcc (GCC) 14.2.1 20250110 (Red Hat 14.2.1-8) CentOS Stream 9 Kernel: 5.15 Compiler: gcc gcc (GCC) 11.5.0 20240719 (Red Hat 11.5.0-11) Debian GNU/Linux 12 Kernel: 5.15 Compiler: gcc gcc (Debian 12.2.0-14+deb12u1) 12.2.0 Red Hat Enterprise Linux 9.5 Kernel: 5.15 Compiler: gcc gcc (GCC) 11.5.0 20240719 (Red Hat 11.5.0-2) Fedora Linux 40 Kernel: 5.15 Compiler: clang gcc (GCC) 14.2.1 20240912 (Red Hat 14.2.1-3) Ubuntu 20.04 Kernel: 5.15 Compiler: gcc gcc (Ubuntu 9.4.0-1ubuntu1~20.04.2) 9.4.0 Ubuntu 22.04 Kernel: 5.15 Compiler: gcc gcc (Ubuntu 11.4.0-1ubuntu1~22.04) 11.4.0 Red Hat Enterprise Linux 8.10 Kernel: 5.15 Compiler: gcc gcc (GCC) 8.5.0 20210514 (Red Hat 8.5.0-22) Ubuntu 24.04 Kernel: 5.15 Compiler: gcc gcc (Ubuntu 13.3.0-6ubuntu2~24.04) 13.3.0 To view detailed results, visit: https://lab.dpdk.org/results/dashboard/patchsets/34537/ UNH-IOL DPDK Community Lab To manage your email subscriptions, visit: https://lab.dpdk.org/results/dashboard/preferences/subscriptions/