From mboxrd@z Thu Jan 1 00:00:00 1970 Return-Path: Received: from mails.dpdk.org (mails.dpdk.org [217.70.189.124]) by inbox.dpdk.org (Postfix) with ESMTP id 3773448AE1 for ; Tue, 11 Nov 2025 21:15:02 +0100 (CET) Received: from mails.dpdk.org (localhost [127.0.0.1]) by mails.dpdk.org (Postfix) with ESMTP id 35A654026D; Tue, 11 Nov 2025 21:15:02 +0100 (CET) Received: from mail-io1-f98.google.com (mail-io1-f98.google.com [209.85.166.98]) by mails.dpdk.org (Postfix) with ESMTP id 57B264026D for ; Tue, 11 Nov 2025 21:15:00 +0100 (CET) Received: by mail-io1-f98.google.com with SMTP id ca18e2360f4ac-948a3979af4so2636339f.0 for ; Tue, 11 Nov 2025 12:15:00 -0800 (PST) DKIM-Signature: v=1; a=rsa-sha256; c=relaxed/relaxed; d=iol.unh.edu; s=unh-iol; t=1762892099; x=1763496899; darn=dpdk.org; h=references:in-reply-to:cc:to:from:subject:message-id:date:from:to :cc:subject:date:message-id:reply-to; bh=Ajg23mJJcXTXn7YLEWX7NNRIroEENH47rwEOEyESKA4=; b=CrnLNd8R+bvYR2eEkKQVIcAKCiMRflHiIRKb8PKpMX7T+YW7V7AOcEX2rIiyZSmSg/ 0zlRXH0rYxh5yGs0RnDh2bmG+EyRxNbZrVn1YqJCTJ+YJomXYrkx5CbcHgusmk6aOsnn T3n6fR5sPTKWVDNAxptWO3y8ioYzWJ89CK2rA= X-Google-DKIM-Signature: v=1; a=rsa-sha256; c=relaxed/relaxed; d=1e100.net; s=20230601; t=1762892099; x=1763496899; h=references:in-reply-to:cc:to:from:subject:message-id:date:x-gm-gg :x-gm-message-state:from:to:cc:subject:date:message-id:reply-to; bh=Ajg23mJJcXTXn7YLEWX7NNRIroEENH47rwEOEyESKA4=; b=CF3ioPBRBotYxoeur7axuwN1jzrQ1E9ILxnw3SQtdmkP3eVlKbm/FuwUuvRSVozq2j b4udsIDdFreZap0eisrsxNXl63jPfv2HVLihQgpQzPjKRLJE9SgSWTf7pLWgDV14Suwa q7/EY9eVl78UNYWyLfqLV7foAFttPo1F7O/+foWKfMkXESw9gtJ6tPy6Lb4iWEJHV/dh VtyFZosnRPyN36gIVBcQ20TUAzn6tQfdzE12HMhDZxnCqPo4G7pq9RC3tfcjeoovQXCH lyVrwd0BChxQeHRwHF+4pwctdPOYuDJEWVJBxNhv83ykTQI/JqWHuRRMsPXaup3iFBOg NbWw== X-Gm-Message-State: AOJu0YxsBZQar6rbOQ5sGc40FkW5ruUjT02yxYRQb8TLqF7Exi+4BFB4 NEwDsgsQ8IlF5s9QN6my/3xmxuDxsfGiygP2iof7XoepnuP281TkrBCdqRlpTfnvMVt71b0tr2c CSI/PUTPkFMNb3N4JcWIf+UNaHAggCR93odK/LblveUWY2XbOExFB+Mu2oRg4 X-Gm-Gg: ASbGnctaYPYJdT+jdFmTIzF4JOYOZou9Zp/HwNvC4EXHsWhp5g7t+EirkjbF0QAm9kk 7PUAzDxvXDAb1S5vOE2HBjaE2+a+Ug0yPIF+Ncx5plSof0qU92nTOynaeLUKrXe7sgFTT3FCcuD mB8mLhfA1mRI27YP2OZoiQ78yUREuBHpMe/TcT/gSOp+CK0y1n8VGoCg4skAqX0Z5q0o33HWNHy oF1bwtsMmy91Tcw9yM72XY2/uONxOpX3Xgg9jCruV0lRtTCbG2ESiiX7up0EKCKR/X5F11XCwbk BM3C0pnBbSP7k1rinwsLkhJLHeMd63fAPpne8KSpjT5ah3RJwH8Gd82/QciGsSoOY4OKdZzWTvg Ij/Nk0sBI X-Google-Smtp-Source: AGHT+IG4qz919FQo53F15EskFphO17mU4D1k1XmbbzvPfm0gPKeBeKxXcnNzqsNJu2hY9SlYp/kWX8uqASmu X-Received: by 2002:a05:6602:641a:b0:943:5a3c:7525 with SMTP id ca18e2360f4ac-948b47d656amr715948639f.1.1762892099540; Tue, 11 Nov 2025 12:14:59 -0800 (PST) Received: from postal.iol.unh.edu (postal.iol.unh.edu. [2606:4100:3880:1234::84]) by smtp-relay.gmail.com with ESMTPS id 8926c6da1cb9f-5b7ab16c063sm51384173.36.2025.11.11.12.14.59 (version=TLS1_2 cipher=ECDHE-ECDSA-AES128-GCM-SHA256 bits=128/128); Tue, 11 Nov 2025 12:14:59 -0800 (PST) X-Relaying-Domain: iol.unh.edu Date: Tue, 11 Nov 2025 12:14:59 -0800 (PST) Message-ID: <69139943.050a0220.27f3d7.2c23SMTPIN_ADDED_MISSING@mx.google.com> Received: from [172.21.0.5] (unknown [172.18.0.240]) by postal.iol.unh.edu (Postfix) with ESMTP id 1C6896051830; Tue, 11 Nov 2025 15:14:59 -0500 (EST) Subject: |SUCCESS| pw158669 [PATCH] [v2,1/1] eal: correct memory ordering in From: dpdklab@iol.unh.edu To: Test Report Cc: dpdk-test-reports@iol.unh.edu In-Reply-To: <20251111173850.790254-1-wathsala.vithanage@arm.com> References: <20251111173850.790254-1-wathsala.vithanage@arm.com> Content-Type: text/plain X-BeenThere: test-report@dpdk.org X-Mailman-Version: 2.1.29 Precedence: list List-Id: automatic DPDK test reports List-Unsubscribe: , List-Archive: List-Post: List-Help: List-Subscribe: , Errors-To: test-report-bounces@dpdk.org Test-Label: iol-compile-amd64-testing Test-Status: SUCCESS http://dpdk.org/patch/158669 _Testing PASS_ Submitter: Wathsala Vithanage Date: Tuesday, November 11 2025 17:38:50 DPDK git baseline: Repo:dpdk Branch: master CommitID:994644dcbdca1490bd831e4fd1d7d5b0b79d1874 158669 --> testing pass Upstream job id: Generic-DPDK-Compile-Meson#443108 Test environment and result as below: +-------------------------------+--------------------+------------------+ | Environment | dpdk_meson_compile | dpdk_compile_ovs | +===============================+====================+==================+ | Ubuntu 20.04 | PASS | SKIPPED | +-------------------------------+--------------------+------------------+ | FreeBSD 14.2 | PASS | SKIPPED | +-------------------------------+--------------------+------------------+ | CentOS Stream 9 | PASS | SKIPPED | +-------------------------------+--------------------+------------------+ | CentOS Stream 10 | PASS | SKIPPED | +-------------------------------+--------------------+------------------+ | Debian GNU/Linux 12 | PASS | SKIPPED | +-------------------------------+--------------------+------------------+ | Fedora Linux 42 | PASS | PASS | +-------------------------------+--------------------+------------------+ | openSUSE Leap 15.6 | PASS | SKIPPED | +-------------------------------+--------------------+------------------+ | Red Hat Enterprise Linux 8.10 | PASS | SKIPPED | +-------------------------------+--------------------+------------------+ | Red Hat Enterprise Linux 9.5 | PASS | SKIPPED | +-------------------------------+--------------------+------------------+ | Ubuntu 22.04 | PASS | SKIPPED | +-------------------------------+--------------------+------------------+ | Ubuntu 24.04 | PASS | PASS | +-------------------------------+--------------------+------------------+ | Alpine Linux 3.22.0 | PASS | SKIPPED | +-------------------------------+--------------------+------------------+ Ubuntu 20.04 Kernel: 4.19 Compiler: gcc gcc (Ubuntu 9.4.0-1ubuntu1~20.04.2) 9.4.0 FreeBSD 14.2 Kernel: 14.2-RELEASE Compiler: clang 18.1.6 CentOS Stream 9 Kernel: 5.15 Compiler: gcc gcc (GCC) 11.5.0 20240719 (Red Hat 11.5.0-11) CentOS Stream 10 Kernel: 5.15 Compiler: gcc gcc (GCC) 14.2.1 20250110 (Red Hat 14.2.1-8) Debian GNU/Linux 12 Kernel: 5.15 Compiler: gcc gcc (Debian 12.2.0-14+deb12u1) 12.2.0 Fedora Linux 42 Kernel: 5.15 Compiler: clang gcc (GCC) 15.2.1 20250808 (Red Hat 15.2.1-1) openSUSE Leap 15.6 Kernel: 5.15 Compiler: gcc gcc (SUSE Linux) 7.5.0 Red Hat Enterprise Linux 8.10 Kernel: 5.15 Compiler: gcc gcc (GCC) 8.5.0 20210514 (Red Hat 8.5.0-22) Red Hat Enterprise Linux 9.5 Kernel: 5.15 Compiler: gcc gcc (GCC) 11.5.0 20240719 (Red Hat 11.5.0-2) Ubuntu 22.04 Kernel: 5.15 Compiler: gcc gcc (Ubuntu 11.4.0-1ubuntu1~22.04) 11.4.0 Ubuntu 24.04 Kernel: 5.15 Compiler: gcc gcc (Ubuntu 13.3.0-6ubuntu2~24.04) 13.3.0 Alpine Linux 3.22.0 Kernel: 5.15 Compiler: gcc gcc (Alpine 14.2.0) 14.2.0 To view detailed results, visit: https://lab.dpdk.org/results/dashboard/patchsets/34537/ UNH-IOL DPDK Community Lab To manage your email subscriptions, visit: https://lab.dpdk.org/results/dashboard/preferences/subscriptions/