From mboxrd@z Thu Jan 1 00:00:00 1970 Return-Path: Received: from mails.dpdk.org (mails.dpdk.org [217.70.189.124]) by inbox.dpdk.org (Postfix) with ESMTP id 4169E48AE1 for ; Tue, 11 Nov 2025 21:15:08 +0100 (CET) Received: from mails.dpdk.org (localhost [127.0.0.1]) by mails.dpdk.org (Postfix) with ESMTP id 40CDD4026D; Tue, 11 Nov 2025 21:15:08 +0100 (CET) Received: from mail-pg1-f226.google.com (mail-pg1-f226.google.com [209.85.215.226]) by mails.dpdk.org (Postfix) with ESMTP id 5B6A94026D for ; Tue, 11 Nov 2025 21:15:06 +0100 (CET) Received: by mail-pg1-f226.google.com with SMTP id 41be03b00d2f7-b67684e2904so63268a12.2 for ; Tue, 11 Nov 2025 12:15:06 -0800 (PST) DKIM-Signature: v=1; a=rsa-sha256; c=relaxed/relaxed; d=iol.unh.edu; s=unh-iol; t=1762892105; x=1763496905; darn=dpdk.org; h=references:in-reply-to:cc:to:from:subject:message-id:date:from:to :cc:subject:date:message-id:reply-to; bh=FITYsM4hNU5F9z8prXwchodnmrWeOxOS7t1qOKX76vw=; b=G5rp1OS8g8mzAx6PA1dcIEHh7a3V1r7E/GGndnGDQeJWl0MiqT13OTHMlcDHqhbfNx qjXkjUT9JrlxJ+9tfsH/AVIlgh1qyPBZO/jsJRzs69uCKo9ARYy6Id7HSPFMF4ldNwKQ wI1I7mF1U2wivFbrshTeQO3jKePkpKoR5L9H4= X-Google-DKIM-Signature: v=1; a=rsa-sha256; c=relaxed/relaxed; d=1e100.net; s=20230601; t=1762892105; x=1763496905; h=references:in-reply-to:cc:to:from:subject:message-id:date:x-gm-gg :x-gm-message-state:from:to:cc:subject:date:message-id:reply-to; bh=FITYsM4hNU5F9z8prXwchodnmrWeOxOS7t1qOKX76vw=; b=MwA0NxHKeVf2vLvyG//81a0s+RBtwpmQIvj+Wektfr1krPaSSZPbVI9cRJtuJ0e2fv lPD6jwiMF1W7vFdGyjpds8lZzJp4n7exLqgN/CydxjYnTpN7m4U6NWuzAGy7H8nQFtt3 cy1Mo1YU95rOEjzF2yhaMVeqM1nNcHqgwKCuwpcO3WK55HioEVuy+uOtC/plveRHAc8j rpafrHUGCqwR037OLtMs6tYxVd9saRig4fmWBWU2BkZPhAWUOW7euAcSrCOHcOQMhq0B 607KievrjKDOGIsm1nm7Hn3f1VG4GCzDaWuhDL/e9H2hMTH6vS4iwnj0SkuVmLswlRvp JNrw== X-Gm-Message-State: AOJu0Yx2E1m2TJPfc042R0jyN2+B7KCNiSosPRrsfUK08AyugaTjOJx3 8YJPn6DPWcIfTaxFzmFWZ5u4fzKDpyF3WkH0nNRjwdq/A4+C7QhZ8xpxXs1tNtO5nOHpkAgUpsn Gcc+Ft8BiMKO9iEMCEfK+E/sAKamaVgxNs0Yw0/EKL5nn X-Gm-Gg: ASbGncsDs5CLkuyC+mFUv2zQRqubern5aYo2ycRoLbu2gMGg96OvPJrai2XLgwgdnNL +ip4J3dgNPy2VuwuNXVWcPrEZswnzg0kyKrNymr2AZ8LZfuMopddsQyjWpdjJFQ7+w0PLOo+Fen QvmWD/GOL+Gpo3GhkAvdb7plOHzZZhSVFOnLp5EOybxAMz/12fDiaYWIPpPML2sgtHlgM2Ih6Lx FDOyHmYOIebb0Cb6k0DbyA40RGPXX5P7MXa+dOKeMyVwUGpkBmq2QqrVVNtIcJRnKsj1sw2Pgwn MX3jpV1hZSrkeODpaVt59aeKHn4SR2YLmPy+UPLCoAAnSBLZLA98FqkwgalCMjlQ3wl2NsNEGuv Ze2NwJ0yWHYd1WBrSB2WQQS6DLeFRpv0= X-Google-Smtp-Source: AGHT+IHxIl1RaRnkrGGSg6dCH0BPJlW1uODx05uXnVPdmHCXgn7XRUUf1VH4nayIwGdoN7htpi3mWshM/tGD X-Received: by 2002:a17:902:dace:b0:295:915d:1eed with SMTP id d9443c01a7336-2984edcd3b4mr7070975ad.47.1762892105414; Tue, 11 Nov 2025 12:15:05 -0800 (PST) Received: from postal.iol.unh.edu (postal.iol.unh.edu. [132.177.123.84]) by smtp-relay.gmail.com with ESMTPS id d9443c01a7336-2984dc26471sm608945ad.27.2025.11.11.12.15.05 (version=TLS1_2 cipher=ECDHE-ECDSA-AES128-GCM-SHA256 bits=128/128); Tue, 11 Nov 2025 12:15:05 -0800 (PST) X-Relaying-Domain: iol.unh.edu Date: Tue, 11 Nov 2025 12:15:05 -0800 (PST) Message-ID: <69139949.170a0220.3aa1bb.369cSMTPIN_ADDED_MISSING@mx.google.com> Received: from [172.21.0.3] (unknown [172.18.0.240]) by postal.iol.unh.edu (Postfix) with ESMTP id D55AE6051830; Tue, 11 Nov 2025 15:15:04 -0500 (EST) Subject: |SUCCESS| pw158669 [PATCH] [v2,1/1] eal: correct memory ordering in From: dpdklab@iol.unh.edu To: Test Report Cc: dpdk-test-reports@iol.unh.edu In-Reply-To: <20251111173850.790254-1-wathsala.vithanage@arm.com> References: <20251111173850.790254-1-wathsala.vithanage@arm.com> Content-Type: text/plain X-BeenThere: test-report@dpdk.org X-Mailman-Version: 2.1.29 Precedence: list List-Id: automatic DPDK test reports List-Unsubscribe: , List-Archive: List-Post: List-Help: List-Subscribe: , Errors-To: test-report-bounces@dpdk.org Test-Label: iol-compile-amd64-testing Test-Status: SUCCESS http://dpdk.org/patch/158669 _Testing PASS_ Submitter: Wathsala Vithanage Date: Tuesday, November 11 2025 17:38:50 DPDK git baseline: Repo:dpdk Branch: master CommitID:994644dcbdca1490bd831e4fd1d7d5b0b79d1874 158669 --> testing pass Upstream job id: Generic-DPDK-Compile-Meson#443100 Test environment and result as below: +-------------------------------+--------------------+------------------+ | Environment | dpdk_meson_compile | dpdk_compile_ovs | +===============================+====================+==================+ | Ubuntu 20.04 | PASS | SKIPPED | +-------------------------------+--------------------+------------------+ | FreeBSD 14.2 | PASS | SKIPPED | +-------------------------------+--------------------+------------------+ | CentOS Stream 9 | PASS | SKIPPED | +-------------------------------+--------------------+------------------+ | CentOS Stream 10 | PASS | SKIPPED | +-------------------------------+--------------------+------------------+ | Debian GNU/Linux 12 | PASS | SKIPPED | +-------------------------------+--------------------+------------------+ | Fedora Linux 42 | PASS | PASS | +-------------------------------+--------------------+------------------+ | openSUSE Leap 15.6 | PASS | SKIPPED | +-------------------------------+--------------------+------------------+ | Red Hat Enterprise Linux 8.10 | PASS | SKIPPED | +-------------------------------+--------------------+------------------+ | Red Hat Enterprise Linux 9.5 | PASS | SKIPPED | +-------------------------------+--------------------+------------------+ | Ubuntu 22.04 | PASS | SKIPPED | +-------------------------------+--------------------+------------------+ | Ubuntu 24.04 | PASS | PASS | +-------------------------------+--------------------+------------------+ | Alpine Linux 3.22.0 | PASS | SKIPPED | +-------------------------------+--------------------+------------------+ Ubuntu 20.04 Kernel: 4.19 Compiler: gcc gcc (Ubuntu 9.4.0-1ubuntu1~20.04.2) 9.4.0 FreeBSD 14.2 Kernel: 14.2-RELEASE Compiler: clang 18.1.6 CentOS Stream 9 Kernel: 5.15 Compiler: gcc gcc (GCC) 11.5.0 20240719 (Red Hat 11.5.0-11) CentOS Stream 10 Kernel: 5.15 Compiler: gcc gcc (GCC) 14.2.1 20250110 (Red Hat 14.2.1-8) Debian GNU/Linux 12 Kernel: 5.15 Compiler: gcc gcc (Debian 12.2.0-14+deb12u1) 12.2.0 Fedora Linux 42 Kernel: 5.15 Compiler: clang gcc (GCC) 15.2.1 20250808 (Red Hat 15.2.1-1) openSUSE Leap 15.6 Kernel: 5.15 Compiler: gcc gcc (SUSE Linux) 7.5.0 Red Hat Enterprise Linux 8.10 Kernel: 5.15 Compiler: gcc gcc (GCC) 8.5.0 20210514 (Red Hat 8.5.0-22) Red Hat Enterprise Linux 9.5 Kernel: 5.15 Compiler: gcc gcc (GCC) 11.5.0 20240719 (Red Hat 11.5.0-2) Ubuntu 22.04 Kernel: 5.15 Compiler: gcc gcc (Ubuntu 11.4.0-1ubuntu1~22.04) 11.4.0 Ubuntu 24.04 Kernel: 5.15 Compiler: gcc gcc (Ubuntu 13.3.0-6ubuntu2~24.04) 13.3.0 Alpine Linux 3.22.0 Kernel: 5.15 Compiler: gcc gcc (Alpine 14.2.0) 14.2.0 To view detailed results, visit: https://lab.dpdk.org/results/dashboard/patchsets/34537/ UNH-IOL DPDK Community Lab To manage your email subscriptions, visit: https://lab.dpdk.org/results/dashboard/preferences/subscriptions/