From mboxrd@z Thu Jan 1 00:00:00 1970 Return-Path: Received: from mails.dpdk.org (mails.dpdk.org [217.70.189.124]) by inbox.dpdk.org (Postfix) with ESMTP id 5F7E548AE1 for ; Tue, 11 Nov 2025 21:38:18 +0100 (CET) Received: from mails.dpdk.org (localhost [127.0.0.1]) by mails.dpdk.org (Postfix) with ESMTP id 5CD434026D; Tue, 11 Nov 2025 21:38:18 +0100 (CET) Received: from mail-ot1-f98.google.com (mail-ot1-f98.google.com [209.85.210.98]) by mails.dpdk.org (Postfix) with ESMTP id 055514026D for ; Tue, 11 Nov 2025 21:38:12 +0100 (CET) Received: by mail-ot1-f98.google.com with SMTP id 46e09a7af769-7c2846c961fso118427a34.2 for ; Tue, 11 Nov 2025 12:38:11 -0800 (PST) DKIM-Signature: v=1; a=rsa-sha256; c=relaxed/relaxed; d=iol.unh.edu; s=unh-iol; t=1762893491; x=1763498291; darn=dpdk.org; h=references:in-reply-to:cc:to:from:subject:message-id:date:from:to :cc:subject:date:message-id:reply-to; bh=VsjaLUR4M5dvKTDJbzVLfxlt+fL4thTMj5cFeaNGWP4=; b=LFQgDnEKy695SP82BfW9Z5XZqDlD1g0IHXZ60u/9ETtgiRsfzHKS8GsrAX9wTD7Mui EpOoTEfQaE6P9eTdy3K57mw+NPODbdyv/OTo+T7Zu1ozdPlmgKofyPZhysF/mcTKgHii KK6BibElQuDGMn842/2E/mTOTA/3HZ1WCYT6E= X-Google-DKIM-Signature: v=1; a=rsa-sha256; c=relaxed/relaxed; d=1e100.net; s=20230601; t=1762893491; x=1763498291; h=references:in-reply-to:cc:to:from:subject:message-id:date:x-gm-gg :x-gm-message-state:from:to:cc:subject:date:message-id:reply-to; bh=VsjaLUR4M5dvKTDJbzVLfxlt+fL4thTMj5cFeaNGWP4=; b=oCLQlegZx0A9q8BW/HIa9Mvo3j+yIv0XvttP3/5/9yhuIu+4H91E19I7jhz4lYEpUa G87WcKWpRe1C0VtCdtxjjrYD8a1jbuWlEYmVgY37Y/rDApIuHy3ltsufzdnYpQwPmqkV S5mHxwb/NRbnrLAuCtmlc6/LKs5hNuNVY9+rf+th8nPAhg2Tmr7LIzYi3Le5kOSlj8RH n9PHayAyesT9wWU3CUvgw5JMIyDQmRG0fVicc0SKyom3JqWn8ZpsS512lCH0QGkHUblw KZO+YyETLlDhtfdsZwu15GZlOviKeCLDbdlye5kKFZT39W44sDVvZAWzGEKse+Rzg5wc 2/cw== X-Gm-Message-State: AOJu0YwyO+xpYg6R0lLwwNuxm4BYxHzqjU+/UeMrIZuupbBPhOCU98rG Zkoy60BczZtSZeDDmLbcn6flhxVV0dGMVIj3l8jnBgd4fZrhtyOk4IK/LySJ5tfaLMj/GqZaRkM JhNZeo7IWjokqtylrC8UZ/o/VxO/KG7LKjSUVRIKFAWpoKPrm2x7V3hRb/fVe X-Gm-Gg: ASbGncso4b4Pbx7AD7oQDOACYrgMLePcpWEiESnFzNlHc91ebGEcNJUVEouoM/nyrb/ I3MJeWlcbXtolt3oaWdloUj3AhlQ3JoygwB0oH2evMVV2YFGee8W0La7kD7Kw5a0vKNe7RqsBRI 7hjHnM58I18LDV2/i/SjI1H98rBrgQeo/HQg0L60HfTeAl4/Zb7+UCNkAnXP8FUB17qpq/kuOwC duU1E+zYTcCpSgi8Yw+Qx5elsXGtUW95txqpgL62y9qWQ6WjxPbcX4Fb4x+AXGTbNgr6iIADbOo opqXQTvsloG2Tr3tawInFd3UAgOuGIaj990vGTjZ7Klk0O5AgS/2hze0tKER/SXucTeFaFY2sIg Btpdc4ifT X-Google-Smtp-Source: AGHT+IGG7MSdSdcolJHJKv1sdsaJbdNDobjgPVzovs8Vaxm8SMvprzsByk+fxbK7f8eucu6wWBXVOAP2o+Nl X-Received: by 2002:a05:6808:220f:b0:44f:6a19:433e with SMTP id 5614622812f47-45074428684mr325390b6e.15.1762893490994; Tue, 11 Nov 2025 12:38:10 -0800 (PST) Received: from postal.iol.unh.edu (postal.iol.unh.edu. [2606:4100:3880:1234::84]) by smtp-relay.gmail.com with ESMTPS id 006d021491bc7-656c5743e63sm638962eaf.9.2025.11.11.12.38.10 (version=TLS1_2 cipher=ECDHE-ECDSA-AES128-GCM-SHA256 bits=128/128); Tue, 11 Nov 2025 12:38:10 -0800 (PST) X-Relaying-Domain: iol.unh.edu Date: Tue, 11 Nov 2025 12:38:10 -0800 (PST) Message-ID: <69139eb2.4a0a0220.386298.1714SMTPIN_ADDED_MISSING@mx.google.com> Received: from [172.21.0.3] (unknown [172.18.0.240]) by postal.iol.unh.edu (Postfix) with ESMTP id CDD776051830; Tue, 11 Nov 2025 15:38:08 -0500 (EST) Subject: |SUCCESS| pw158653 [PATCH] crypto/cnxk: add CPT CQ support for cn20k From: dpdklab@iol.unh.edu To: Test Report Cc: dpdk-test-reports@iol.unh.edu, Akhil Goyal In-Reply-To: <20251111111643.2279586-1-ktejasree@marvell.com> References: <20251111111643.2279586-1-ktejasree@marvell.com> Content-Type: text/plain X-BeenThere: test-report@dpdk.org X-Mailman-Version: 2.1.29 Precedence: list List-Id: automatic DPDK test reports List-Unsubscribe: , List-Archive: List-Post: List-Help: List-Subscribe: , Errors-To: test-report-bounces@dpdk.org Test-Label: iol-unit-arm64-testing Test-Status: SUCCESS http://dpdk.org/patch/158653 _Testing PASS_ Submitter: Tejasree Kondoj Date: Tuesday, November 11 2025 11:16:43 DPDK git baseline: Repo:dpdk-next-crypto Branch: master CommitID:8ae4f1d511226fd65a979e9f8a1e51835281a59b 158653 --> testing pass Upstream job id: Generic-Unit-Test-DPDK#391007 Test environment and result as below: +------------------------------+----------------+--------------+---------------------------+------------------------------+ | Environment | dpdk_unit_test | lpm_autotest | cryptodev_sw_zuc_autotest | cryptodev_sw_snow3g_autotest | +==============================+================+==============+===========================+==============================+ | Ubuntu 22.04 | PASS | SKIPPED | SKIPPED | SKIPPED | +------------------------------+----------------+--------------+---------------------------+------------------------------+ | CentOS Stream 10 | PASS | SKIPPED | SKIPPED | SKIPPED | +------------------------------+----------------+--------------+---------------------------+------------------------------+ | Fedora Linux 40 | PASS | SKIPPED | SKIPPED | SKIPPED | +------------------------------+----------------+--------------+---------------------------+------------------------------+ | Fedora Linux 42 | PASS | SKIPPED | SKIPPED | SKIPPED | +------------------------------+----------------+--------------+---------------------------+------------------------------+ | Ubuntu 24.04 | PASS | SKIPPED | SKIPPED | SKIPPED | +------------------------------+----------------+--------------+---------------------------+------------------------------+ | CentOS Stream 9 | PASS | SKIPPED | SKIPPED | SKIPPED | +------------------------------+----------------+--------------+---------------------------+------------------------------+ | Fedora Linux 41 | PASS | SKIPPED | SKIPPED | SKIPPED | +------------------------------+----------------+--------------+---------------------------+------------------------------+ | Red Hat Enterprise Linux 9.5 | PASS | SKIPPED | SKIPPED | SKIPPED | +------------------------------+----------------+--------------+---------------------------+------------------------------+ | Debian GNU/Linux 12 | PASS | SKIPPED | SKIPPED | SKIPPED | +------------------------------+----------------+--------------+---------------------------+------------------------------+ | Ubuntu 20.04 | PASS | PASS | SKIPPED | SKIPPED | +------------------------------+----------------+--------------+---------------------------+------------------------------+ | Debian 12 (arm) | SKIPPED | SKIPPED | PASS | PASS | +------------------------------+----------------+--------------+---------------------------+------------------------------+ Ubuntu 22.04 Kernel: 5.15 Compiler: gcc gcc (Ubuntu 11.4.0-1ubuntu1~22.04.2) 11.4.0 CentOS Stream 10 Kernel: 5.4 Compiler: gcc gcc (GCC) 14.2.1 20250110 (Red Hat 14.2.1-8) Fedora Linux 40 Kernel: 5.4 Compiler: gcc gcc (GCC) 14.2.1 20240912 (Red Hat 14.2.1-3) Fedora Linux 42 Kernel: 5.4 Compiler: clang gcc (GCC) 15.2.1 20250808 (Red Hat 15.2.1-1) Ubuntu 24.04 Kernel: 5.4 Compiler: gcc gcc (Ubuntu 13.3.0-6ubuntu2~24.04) 13.3.0 CentOS Stream 9 Kernel: 5.4 Compiler: gcc gcc (GCC) 11.5.0 20240719 (Red Hat 11.5.0-11) Fedora Linux 41 Kernel: 5.4 Compiler: gcc gcc (GCC) 14.3.1 20250523 (Red Hat 14.3.1-1) Red Hat Enterprise Linux 9.5 Kernel: 5.4 Compiler: gcc gcc (GCC) 11.5.0 20240719 (Red Hat 11.5.0-2) Debian GNU/Linux 12 Kernel: 5.4 Compiler: gcc gcc (Debian 12.2.0-14+deb12u1) 12.2.0 Ubuntu 20.04 Kernel: 5.4 Compiler: gcc gcc (Ubuntu 9.4.0-1ubuntu1~20.04.2) 9.4.0 Debian 12 (arm) Kernel: Depends on container host Compiler: gcc (Debian 12.2.0-14) 12.2.0 To view detailed results, visit: https://lab.dpdk.org/results/dashboard/patchsets/34532/ UNH-IOL DPDK Community Lab To manage your email subscriptions, visit: https://lab.dpdk.org/results/dashboard/preferences/subscriptions/