From mboxrd@z Thu Jan 1 00:00:00 1970 Return-Path: Received: from mails.dpdk.org (mails.dpdk.org [217.70.189.124]) by inbox.dpdk.org (Postfix) with ESMTP id 9A96348AE1 for ; Tue, 11 Nov 2025 21:50:34 +0100 (CET) Received: from mails.dpdk.org (localhost [127.0.0.1]) by mails.dpdk.org (Postfix) with ESMTP id 876104026D; Tue, 11 Nov 2025 21:50:34 +0100 (CET) Received: from mail-io1-f99.google.com (mail-io1-f99.google.com [209.85.166.99]) by mails.dpdk.org (Postfix) with ESMTP id AE88E4026D for ; Tue, 11 Nov 2025 21:50:32 +0100 (CET) Received: by mail-io1-f99.google.com with SMTP id ca18e2360f4ac-948c58fe8c2so3023239f.1 for ; Tue, 11 Nov 2025 12:50:32 -0800 (PST) DKIM-Signature: v=1; a=rsa-sha256; c=relaxed/relaxed; d=iol.unh.edu; s=unh-iol; t=1762894232; x=1763499032; darn=dpdk.org; h=references:in-reply-to:cc:to:from:subject:message-id:date:from:to :cc:subject:date:message-id:reply-to; bh=Z5vFenPC6fcFuMb140Fq5P3by1CCZqbytX/uXSKSxOU=; b=GHJKwURlfzSqXAy1PDUzHWDSbgWYeIGVSFxSxjOJISgyM6MFjcoe0H6SuZCmQAAJvo 9AIxpAI2dRALsap1pcwoOwsw42SQpye4dLdkAmIS5oM+WQh0cBwtogYujgWD5Dn3TXN0 EeO4zgnafIfoXekiOgCR+De5hn+yb7Wo9k/fs= X-Google-DKIM-Signature: v=1; a=rsa-sha256; c=relaxed/relaxed; d=1e100.net; s=20230601; t=1762894232; x=1763499032; h=references:in-reply-to:cc:to:from:subject:message-id:date:x-gm-gg :x-gm-message-state:from:to:cc:subject:date:message-id:reply-to; bh=Z5vFenPC6fcFuMb140Fq5P3by1CCZqbytX/uXSKSxOU=; b=Fc7/sAlcDmZKtrKn7Kt5HK0B5Jx+zFZukL9fs1uckP01XnjAdJSE48zFmIAPxgeWOj vOwz22WSLnmISBRZhmOmDaHl+wDM6OZEywjcJ1QNVlvRBVwXTCA+GlTazDTEmeESNdSq WgQUel+QVTwA580GpkQkc9Qm4GsvpL6yFIfdMJAwGczELaTgxwwMEH0BFa4tyyh2AIy9 9Jmo4upWIV+BB152KnRObFajELVq2Anm1WLoJrLvb8IvOi+y+AXeJEiotLPoh9RWeSoI Qb2ioL/zQoYY4FnZlluvsnHmXkDM/yR8+W0Gz1n1Hj9MaakfDXHmmCG2oKujmWtH1NBj zQZA== X-Gm-Message-State: AOJu0Yx7YtfH14hhiT1Nmly7+bVAZk5dptcSIGFCvhE7CbxHDEWtJsq7 IZSzri7JN7sPpNWIk5Dggw2QVM0uBoZoXU2YhUhtLE14eT/tp9PMOQ8bMhmzoEXBQ0WbKBxu26Z 9MpI5Z6DDDawkbeK1n5+K+hcHulA7BTqvWQvb9z2yj5YiPJCnX9yVe1R+Gyga X-Gm-Gg: ASbGncs9bojVYEJjQCRjaMfLwjsk60iQql0lvOBdWrtld7TfZtsK2FGRY/+c536F4xe EHywNNUV0i4LWgvu9RxfZuNo/zx7UEvE3+2cRMo/EbXxO4VNonQDIzl1W9Tb+edpA29uqH4akJM HcWBsXf1jBVyr68ADkBX0RTFV33SLmz5LwMRT2AzfH8wJwWkRlskKR/jRYIieczmi1ptO1Ehf1L APrcUzSO7NObuhTeaB96g2tuep2KnDjJzYRK6HG1Zxb5uMqPcsbtgEQExVJeMtpFptjeGUGPRsc oqkhFlfOlM2Ocba6OJPeMNw/6ceAysTtxLRZ1v6uHwn06WdR30VL/KAvoALRqI1uz2z8XCxtnWS 3E4tozNwl X-Google-Smtp-Source: AGHT+IGfr31rdOFe0aD9eGyvO4Rrhj1+X+HuI28fDigmE93sW8JL+fVn0Alps6VOnNdNJDpb+BdRQwZv3MGf X-Received: by 2002:a05:6e02:3091:b0:434:6f6a:fba4 with SMTP id e9e14a558f8ab-43473d2121cmr7264965ab.5.1762894232024; Tue, 11 Nov 2025 12:50:32 -0800 (PST) Received: from postal.iol.unh.edu (postal.iol.unh.edu. [2606:4100:3880:1234::84]) by smtp-relay.gmail.com with ESMTPS id e9e14a558f8ab-4347339e581sm641715ab.17.2025.11.11.12.50.31 (version=TLS1_2 cipher=ECDHE-ECDSA-AES128-GCM-SHA256 bits=128/128); Tue, 11 Nov 2025 12:50:32 -0800 (PST) X-Relaying-Domain: iol.unh.edu Date: Tue, 11 Nov 2025 12:50:32 -0800 (PST) Message-ID: <6913a198.050a0220.2c8f4a.395eSMTPIN_ADDED_MISSING@mx.google.com> Received: from [172.21.0.2] (unknown [172.18.0.240]) by postal.iol.unh.edu (Postfix) with ESMTP id 87AD46051830; Tue, 11 Nov 2025 15:50:31 -0500 (EST) Subject: |SUCCESS| pw158673-158675 [PATCH] [v5,3/3] ring: establish a safe pa From: dpdklab@iol.unh.edu To: Test Report Cc: dpdk-test-reports@iol.unh.edu In-Reply-To: <20251111183720.833295-3-wathsala.vithanage@arm.com> References: <20251111183720.833295-3-wathsala.vithanage@arm.com> Content-Type: text/plain X-BeenThere: test-report@dpdk.org X-Mailman-Version: 2.1.29 Precedence: list List-Id: automatic DPDK test reports List-Unsubscribe: , List-Archive: List-Post: List-Help: List-Subscribe: , Errors-To: test-report-bounces@dpdk.org Test-Label: iol-unit-amd64-testing Test-Status: SUCCESS http://dpdk.org/patch/158675 _Testing PASS_ Submitter: Wathsala Vithanage Date: Tuesday, November 11 2025 18:37:19 DPDK git baseline: Repo:dpdk Branch: master CommitID:2f8d3fda56754b13a09098fac1140d781366672f 158673-158675 --> testing pass Upstream job id: Generic-Unit-Test-DPDK#391190 Test environment and result as below: +-------------------------------+----------------+ | Environment | dpdk_unit_test | +===============================+================+ | Fedora Linux 40 | PASS | +-------------------------------+----------------+ | Debian GNU/Linux 12 | PASS | +-------------------------------+----------------+ | CentOS Stream 9 | PASS | +-------------------------------+----------------+ | Red Hat Enterprise Linux 8.10 | PASS | +-------------------------------+----------------+ | CentOS Stream 10 | PASS | +-------------------------------+----------------+ | Fedora Linux 42 | PASS | +-------------------------------+----------------+ | Ubuntu 20.04 | PASS | +-------------------------------+----------------+ | Red Hat Enterprise Linux 9.5 | PASS | +-------------------------------+----------------+ | Fedora Linux 41 | PASS | +-------------------------------+----------------+ | Ubuntu 22.04 | PASS | +-------------------------------+----------------+ | Ubuntu 24.04 | PASS | +-------------------------------+----------------+ Fedora Linux 40 Kernel: 5.15 Compiler: gcc gcc (GCC) 14.2.1 20240912 (Red Hat 14.2.1-3) Debian GNU/Linux 12 Kernel: 5.15 Compiler: gcc gcc (Debian 12.2.0-14+deb12u1) 12.2.0 CentOS Stream 9 Kernel: 5.15 Compiler: gcc gcc (GCC) 11.5.0 20240719 (Red Hat 11.5.0-11) Red Hat Enterprise Linux 8.10 Kernel: 5.15 Compiler: gcc gcc (GCC) 8.5.0 20210514 (Red Hat 8.5.0-22) CentOS Stream 10 Kernel: 5.15 Compiler: gcc gcc (GCC) 14.2.1 20250110 (Red Hat 14.2.1-8) Fedora Linux 42 Kernel: 5.15 Compiler: gcc gcc (GCC) 15.2.1 20250808 (Red Hat 15.2.1-1) Ubuntu 20.04 Kernel: 5.15 Compiler: gcc gcc (Ubuntu 9.4.0-1ubuntu1~20.04.2) 9.4.0 Red Hat Enterprise Linux 9.5 Kernel: 5.15 Compiler: gcc gcc (GCC) 11.5.0 20240719 (Red Hat 11.5.0-2) Fedora Linux 41 Kernel: 5.15 Compiler: clang gcc (GCC) 14.3.1 20250523 (Red Hat 14.3.1-1) Ubuntu 22.04 Kernel: 5.15 Compiler: gcc gcc (Ubuntu 11.4.0-1ubuntu1~22.04) 11.4.0 Ubuntu 24.04 Kernel: 5.15 Compiler: gcc gcc (Ubuntu 13.3.0-6ubuntu2~24.04) 13.3.0 To view detailed results, visit: https://lab.dpdk.org/results/dashboard/patchsets/34539/ UNH-IOL DPDK Community Lab To manage your email subscriptions, visit: https://lab.dpdk.org/results/dashboard/preferences/subscriptions/