automatic DPDK test reports
 help / color / mirror / Atom feed
From: dpdklab@iol.unh.edu
To: Test Report <test-report@dpdk.org>
Cc: dpdk-test-reports@iol.unh.edu
Subject: |SUCCESS| pw158673-158675 [PATCH] [v5,3/3] ring: establish a safe pa
Date: Tue, 11 Nov 2025 13:17:16 -0800 (PST)	[thread overview]
Message-ID: <6913a7dc.050a0220.117dc0.3880SMTPIN_ADDED_MISSING@mx.google.com> (raw)
In-Reply-To: <20251111183720.833295-3-wathsala.vithanage@arm.com>

Test-Label: iol-sample-apps-testing
Test-Status: SUCCESS
http://dpdk.org/patch/158675

_Testing PASS_

Submitter: Wathsala Vithanage <wathsala.vithanage@arm.com>
Date: Tuesday, November 11 2025 18:37:19 
DPDK git baseline: Repo:dpdk
  Branch: master
  CommitID:2f8d3fda56754b13a09098fac1140d781366672f

158673-158675 --> testing pass

Upstream job id: ACVP-FIPS-testing#11765

Test environment and result as below:

+--------------+----------------------+----------------------+
| Environment  | compressdev_zlib_pmd | dpdk_fips_validation |
+==============+======================+======================+
| Ubuntu 22.04 | PASS                 | SKIPPED              |
+--------------+----------------------+----------------------+
| Ubuntu 20.04 | SKIPPED              | PASS                 |
+--------------+----------------------+----------------------+


Ubuntu 22.04
	Kernel: 5.15
	Compiler: gcc gcc (Ubuntu 11.4.0-1ubuntu1~22.04.2) 11.4.0

Ubuntu 20.04
	Kernel: 5.15
	Compiler: gcc gcc (Ubuntu 9.4.0-1ubuntu1~20.04.2) 9.4.0

To view detailed results, visit:
https://lab.dpdk.org/results/dashboard/patchsets/34539/

UNH-IOL DPDK Community Lab

To manage your email subscriptions, visit: 
https://lab.dpdk.org/results/dashboard/preferences/subscriptions/

      parent reply	other threads:[~2025-11-11 21:17 UTC|newest]

Thread overview: 17+ messages / expand[flat|nested]  mbox.gz  Atom feed  top
     [not found] <20251111183720.833295-3-wathsala.vithanage@arm.com>
2025-11-11 18:03 ` |SUCCESS| pw158673-158675 [PATCH v5 3/3] ring: establish a safe partial order in rts-ring qemudev
2025-11-11 18:08 ` qemudev
2025-11-11 18:37 ` |WARNING| pw158675 " checkpatch
2025-11-11 19:25 ` |SUCCESS| " 0-day Robot
2025-11-11 19:25 ` 0-day Robot
2025-11-11 19:36 ` |SUCCESS| pw158673-158675 [PATCH] [v5,3/3] ring: establish a safe pa dpdklab
2025-11-11 19:37 ` |PENDING| " dpdklab
2025-11-11 19:40 ` |SUCCESS| " dpdklab
2025-11-11 19:58 ` dpdklab
2025-11-11 20:11 ` dpdklab
2025-11-11 20:14 ` |PENDING| " dpdklab
2025-11-11 20:22 ` dpdklab
2025-11-11 20:37 ` |SUCCESS| " dpdklab
2025-11-11 20:43 ` dpdklab
2025-11-11 20:50 ` dpdklab
2025-11-11 21:14 ` dpdklab
2025-11-11 21:17 ` dpdklab [this message]

Reply instructions:

You may reply publicly to this message via plain-text email
using any one of the following methods:

* Save the following mbox file, import it into your mail client,
  and reply-to-all from there: mbox

  Avoid top-posting and favor interleaved quoting:
  https://en.wikipedia.org/wiki/Posting_style#Interleaved_style

* Reply using the --to, --cc, and --in-reply-to
  switches of git-send-email(1):

  git send-email \
    --in-reply-to=6913a7dc.050a0220.117dc0.3880SMTPIN_ADDED_MISSING@mx.google.com \
    --to=dpdklab@iol.unh.edu \
    --cc=dpdk-test-reports@iol.unh.edu \
    --cc=test-report@dpdk.org \
    /path/to/YOUR_REPLY

  https://kernel.org/pub/software/scm/git/docs/git-send-email.html

* If your mail client supports setting the In-Reply-To header
  via mailto: links, try the mailto: link
Be sure your reply has a Subject: header at the top and a blank line before the message body.
This is a public inbox, see mirroring instructions
for how to clone and mirror all data and code used for this inbox;
as well as URLs for NNTP newsgroup(s).