From mboxrd@z Thu Jan 1 00:00:00 1970 Return-Path: Received: from mails.dpdk.org (mails.dpdk.org [217.70.189.124]) by inbox.dpdk.org (Postfix) with ESMTP id A5C2548AE5 for ; Wed, 12 Nov 2025 00:01:48 +0100 (CET) Received: from mails.dpdk.org (localhost [127.0.0.1]) by mails.dpdk.org (Postfix) with ESMTP id 859F440281; Wed, 12 Nov 2025 00:01:48 +0100 (CET) Received: from mail-pj1-f99.google.com (mail-pj1-f99.google.com [209.85.216.99]) by mails.dpdk.org (Postfix) with ESMTP id 6A12940281 for ; Wed, 12 Nov 2025 00:01:46 +0100 (CET) Received: by mail-pj1-f99.google.com with SMTP id 98e67ed59e1d1-3438d4ae152so322260a91.1 for ; Tue, 11 Nov 2025 15:01:46 -0800 (PST) DKIM-Signature: v=1; a=rsa-sha256; c=relaxed/relaxed; d=iol.unh.edu; s=unh-iol; t=1762902105; x=1763506905; darn=dpdk.org; h=references:in-reply-to:cc:to:from:subject:message-id:date:from:to :cc:subject:date:message-id:reply-to; bh=aeYTbJMHgUC1unyfYNxjOPMEThrIZJb0+BtjC+lRvBU=; b=HQwjfMq2ckKAvRhtKnGmj5X43pz98S9wDuEaiC/llLnypHgY6UL2Yy+JVGh8J/cM/i kZZipTl0KKnGCzvleMcyuR/NA8NOik2ikWkd65hPL1REb+y7GoVMNkSEFLasqLPAnUiI /Rgw1c+CaIqOOPuJcB3Yhu+GEjAmaVpmU9j0Q= X-Google-DKIM-Signature: v=1; a=rsa-sha256; c=relaxed/relaxed; d=1e100.net; s=20230601; t=1762902105; x=1763506905; h=references:in-reply-to:cc:to:from:subject:message-id:date:x-gm-gg :x-gm-message-state:from:to:cc:subject:date:message-id:reply-to; bh=aeYTbJMHgUC1unyfYNxjOPMEThrIZJb0+BtjC+lRvBU=; b=ZgeIKox6ozXQFnjqWwOqgql2vxNl6SkUGG/lWQPTKviTxm066KIXhr1UE5pvT5DDLq +4Z9LfCiMoRikXUTpBMHTtMtXlKFVHI3vLRNJgSsVifOrc/nCIYAU+OE+bs1MNfqsnlG o61as2uqD9m9s31LJHgyEKTUllkr9RR3xtF8oBHlPFFL7q6UDOJwiuXIKg8plAZomPL0 I15wrXyNb7vfgiQv1cc0fHvbaMGhuZgNvqWI35NNgsmOGcLhIH6iVGMRmpR47x5Ij/SO jLpnmyovyim15byqyyYTAaBsHZGToBu3Ry6HASmxcF0+IX1N+5MgP3RxOl2zG9l5wp1S jGNQ== X-Gm-Message-State: AOJu0YwdKm8Xb+s2T9s3LPsfK7bGVjTtVGMuDQYRKr1BvA6eDhavhWFq zG82WEb6+bjzLFACuw8NxavIi3QuIlTZ6MTpwiSBgzGTKI3D2lvJ+vSK10ZJhtL6/anFkwFW2Ow ArCY6lFrcQK4gLPRh6V7qkCvxR7V5UJoHQnoI/jKyGS3hkZRq2HmiftJiuhez X-Gm-Gg: ASbGncvY06Rr+FEw/JzN9AKDthK2qcrWwK51cTFrYWaUd1YOduknTHQol/wWnR2W0jM QaGMIYgFlWwwAsHqfcHBhKjtBVSC/6BTaiUP+SkINEttb/GmXi4bWfcqu99ORaVQpMCcHTwrcJM ACRnDuQWg0za1ZcqTTLZFHL/RGOT6PTr2fAFCoH9g09WQ4Tq6w5eji8ccqHpaZAbqjViiw3FXkh 6nUrIdGzcNvHynxBivdZtCXTAta2BTWF/pyXMPE4bFP+xOhYgHf08DdvhciS/zWQ1SrrdD6H6SI W4tcZHEkQkCehli2ZULmJdykbhgDcmM04XFzH/7Di+LdrppAqAL0pIFK+dzjkzrfFzrmG9rH+qY 4mdUQa4P1 X-Google-Smtp-Source: AGHT+IHNhDMUikFZa5DiupQGhgf2IkKut8zXmAOhD5Q4rxxClnQUWwy8+GPKpN2pLEoY+J1RNr5EO57JztWT X-Received: by 2002:a17:90b:270e:b0:32e:3c57:8a9e with SMTP id 98e67ed59e1d1-343ddebfc78mr1125853a91.35.1762902105485; Tue, 11 Nov 2025 15:01:45 -0800 (PST) Received: from postal.iol.unh.edu (postal.iol.unh.edu. [2606:4100:3880:1234::84]) by smtp-relay.gmail.com with ESMTPS id d9443c01a7336-2984dafd6a7sm1014865ad.0.2025.11.11.15.01.45 (version=TLS1_2 cipher=ECDHE-ECDSA-AES128-GCM-SHA256 bits=128/128); Tue, 11 Nov 2025 15:01:45 -0800 (PST) X-Relaying-Domain: iol.unh.edu Date: Tue, 11 Nov 2025 15:01:45 -0800 (PST) Message-ID: <6913c059.170a0220.21356b.665cSMTPIN_ADDED_MISSING@mx.google.com> Received: from [172.21.0.2] (unknown [172.18.0.240]) by postal.iol.unh.edu (Postfix) with ESMTP id 8E3146051830; Tue, 11 Nov 2025 18:01:44 -0500 (EST) Subject: |SUCCESS| pw158655-158657 [PATCH] [v2,4/4] net/nbl: add IOVA mode ch From: dpdklab@iol.unh.edu To: Test Report Cc: dpdk-test-reports@iol.unh.edu, Stephen Hemminger In-Reply-To: <20251111113144.3567291-5-dimon.zhao@nebula-matrix.com> References: <20251111113144.3567291-5-dimon.zhao@nebula-matrix.com> Content-Type: text/plain X-BeenThere: test-report@dpdk.org X-Mailman-Version: 2.1.29 Precedence: list List-Id: automatic DPDK test reports List-Unsubscribe: , List-Archive: List-Post: List-Help: List-Subscribe: , Errors-To: test-report-bounces@dpdk.org Test-Label: iol-unit-arm64-testing Test-Status: SUCCESS http://dpdk.org/patch/158657 _Testing PASS_ Submitter: Dimon Zhao Date: Tuesday, November 11 2025 11:31:43 DPDK git baseline: Repo:dpdk-next-net Branch: master CommitID:591ee7f468aebec30d68d30afa8d5e4dcfc897dc 158655-158657 --> testing pass Upstream job id: Generic-Unit-Test-DPDK#391065 Test environment and result as below: +------------------------------+----------------+--------------+---------------------------+------------------------------+ | Environment | dpdk_unit_test | lpm_autotest | cryptodev_sw_zuc_autotest | cryptodev_sw_snow3g_autotest | +==============================+================+==============+===========================+==============================+ | CentOS Stream 9 | PASS | SKIPPED | SKIPPED | SKIPPED | +------------------------------+----------------+--------------+---------------------------+------------------------------+ | Debian GNU/Linux 12 | PASS | SKIPPED | SKIPPED | SKIPPED | +------------------------------+----------------+--------------+---------------------------+------------------------------+ | CentOS Stream 10 | PASS | SKIPPED | SKIPPED | SKIPPED | +------------------------------+----------------+--------------+---------------------------+------------------------------+ | Fedora Linux 40 | PASS | SKIPPED | SKIPPED | SKIPPED | +------------------------------+----------------+--------------+---------------------------+------------------------------+ | Ubuntu 22.04 | PASS | SKIPPED | SKIPPED | SKIPPED | +------------------------------+----------------+--------------+---------------------------+------------------------------+ | Fedora Linux 41 | PASS | SKIPPED | SKIPPED | SKIPPED | +------------------------------+----------------+--------------+---------------------------+------------------------------+ | Red Hat Enterprise Linux 9.5 | PASS | SKIPPED | SKIPPED | SKIPPED | +------------------------------+----------------+--------------+---------------------------+------------------------------+ | Fedora Linux 42 | PASS | SKIPPED | SKIPPED | SKIPPED | +------------------------------+----------------+--------------+---------------------------+------------------------------+ | Ubuntu 24.04 | PASS | SKIPPED | SKIPPED | SKIPPED | +------------------------------+----------------+--------------+---------------------------+------------------------------+ | Ubuntu 20.04 | PASS | PASS | SKIPPED | SKIPPED | +------------------------------+----------------+--------------+---------------------------+------------------------------+ | Debian 12 (arm) | SKIPPED | SKIPPED | PASS | PASS | +------------------------------+----------------+--------------+---------------------------+------------------------------+ CentOS Stream 9 Kernel: 5.4 Compiler: gcc gcc (GCC) 11.5.0 20240719 (Red Hat 11.5.0-11) Debian GNU/Linux 12 Kernel: 5.4 Compiler: gcc gcc (Debian 12.2.0-14+deb12u1) 12.2.0 CentOS Stream 10 Kernel: 5.4 Compiler: gcc gcc (GCC) 14.2.1 20250110 (Red Hat 14.2.1-8) Fedora Linux 40 Kernel: 5.4 Compiler: gcc gcc (GCC) 14.2.1 20240912 (Red Hat 14.2.1-3) Ubuntu 22.04 Kernel: 5.15 Compiler: gcc gcc (Ubuntu 11.4.0-1ubuntu1~22.04.2) 11.4.0 Fedora Linux 41 Kernel: 5.4 Compiler: gcc gcc (GCC) 14.3.1 20250523 (Red Hat 14.3.1-1) Red Hat Enterprise Linux 9.5 Kernel: 5.4 Compiler: gcc gcc (GCC) 11.5.0 20240719 (Red Hat 11.5.0-2) Fedora Linux 42 Kernel: 5.4 Compiler: clang gcc (GCC) 15.2.1 20250808 (Red Hat 15.2.1-1) Ubuntu 24.04 Kernel: 5.4 Compiler: gcc gcc (Ubuntu 13.3.0-6ubuntu2~24.04) 13.3.0 Ubuntu 20.04 Kernel: 5.4 Compiler: gcc gcc (Ubuntu 9.4.0-1ubuntu1~20.04.2) 9.4.0 Debian 12 (arm) Kernel: Depends on container host Compiler: gcc (Debian 12.2.0-14) 12.2.0 To view detailed results, visit: https://lab.dpdk.org/results/dashboard/patchsets/34534/ UNH-IOL DPDK Community Lab To manage your email subscriptions, visit: https://lab.dpdk.org/results/dashboard/preferences/subscriptions/