From mboxrd@z Thu Jan 1 00:00:00 1970 Return-Path: Received: from mails.dpdk.org (mails.dpdk.org [217.70.189.124]) by inbox.dpdk.org (Postfix) with ESMTP id 6EA3E48AE2 for ; Wed, 12 Nov 2025 00:45:34 +0100 (CET) Received: from mails.dpdk.org (localhost [127.0.0.1]) by mails.dpdk.org (Postfix) with ESMTP id 63EB540281; Wed, 12 Nov 2025 00:45:34 +0100 (CET) Received: from mail-il1-f228.google.com (mail-il1-f228.google.com [209.85.166.228]) by mails.dpdk.org (Postfix) with ESMTP id 2E33C40281 for ; Wed, 12 Nov 2025 00:45:32 +0100 (CET) Received: by mail-il1-f228.google.com with SMTP id e9e14a558f8ab-43320988dcfso1000035ab.3 for ; Tue, 11 Nov 2025 15:45:32 -0800 (PST) DKIM-Signature: v=1; a=rsa-sha256; c=relaxed/relaxed; d=iol.unh.edu; s=unh-iol; t=1762904731; x=1763509531; darn=dpdk.org; h=references:in-reply-to:cc:to:from:subject:message-id:date:from:to :cc:subject:date:message-id:reply-to; bh=hCKttAHbUgEosniPi9uhq1bfQ0YQTKRlxiJqxjYJZok=; b=Y6O2EkGjYUpMrVP62Ymc2XvuyO1WGNmqvXTaNEFaZo5LyaaUdjF1Mh8vkAKQSueA/L v01vThlYcJQg7LFia4e5FNDo6oLtJBPBoNkASFpGgzWYY2MldNx7ap2mRfwMmrNMMpDJ PeeG9O2uQRA+2RA66fjn1VyoyXrWl6w3FJTiQ= X-Google-DKIM-Signature: v=1; a=rsa-sha256; c=relaxed/relaxed; d=1e100.net; s=20230601; t=1762904731; x=1763509531; h=references:in-reply-to:cc:to:from:subject:message-id:date:x-gm-gg :x-gm-message-state:from:to:cc:subject:date:message-id:reply-to; bh=hCKttAHbUgEosniPi9uhq1bfQ0YQTKRlxiJqxjYJZok=; b=HyEIrmDvEK9xCIZkxOPePUzEg2bKquCzf2T0UMhK6Ke/uX86z7DZr5zv0htaB9vLkk pgONjRTpjo5JCbyvT4jI59Jwk02yryH9UC+08EdWbn9WdU51j1gsUqEy8mIcBWeBK63C eYp45n/MH3YhLhWCC+mmFNBqZRzSkpc8k4nFk7ax6ghzhpLFFhgiY5xz+pTqk/ZhVOem xyE9tGYNKsB5MbKKB9aP9SJHBJhxOpkEWDKGBQoWkbZlElySlmZjQGJXC/wUQzYVl7Dj NdsU4KLMg0vPPJdS77Fco/Iv0lRSAESJVO0jAwOsolKioHMl1WsKcrMyzb9Fx8+9Du1R ybsw== X-Gm-Message-State: AOJu0YyUJuUyzomjJiptaEDcBUpnfBiBuGyYqMi2tMtmwqPDL2quqSai DD3+TBMwGIoBrs3VneKsIiCCnGk4uESzv/j+dKygH1f9RS/qDZx5MJNVEPXCyKqjT6Jx8KkGebu abVa3/T3Ru3xmcnuwCdt3+o3hiu14tbARVMO43uzrsAHk X-Gm-Gg: ASbGncsKqtKqygTAeLlFLgpPcZAxqjUkBRNTAip95833ddPv2fV4/fb+zpQWWTDxwnP NSC7vZV+j9hsvQiIThTB+mu3BHd9PUlMMMZM4XrGAgUIf019vU7m3VeX81Bk+5ngD0GItU03mlB MMj6puv8nC6NdeAZXtucBzc540nAUuojYShBZ9dllxRRW8KMWGKiDwrSd8IfsR3SGDz6yZLepTW FBBCNpwkF9L/RCyP9fTpmuduvudtZKV6Trdavv7LdMD5gSW8R0OpakwJM8wWnRl9YyRakqp7Vzh V+n9WankgdmCF7E0HG8IVcncfzwAgvut14Fdbzur0Jb5vGPGenAHIDjTYeE791rR4x9JLT1NlFB Szv38zUuKAFMhKhz8AHZYz8gWwF3pChs= X-Google-Smtp-Source: AGHT+IHaYJdyg2LHy6X9G7ETaUQkupUaExkokdH2pCw/vV5/hqNacXDYcN1OXwiFxqyF8xmwpj5Dde1foqF7 X-Received: by 2002:a05:6e02:3521:b0:433:481d:fd61 with SMTP id e9e14a558f8ab-43473d92995mr13851075ab.18.1762904731387; Tue, 11 Nov 2025 15:45:31 -0800 (PST) Received: from postal.iol.unh.edu (postal.iol.unh.edu. [132.177.123.84]) by smtp-relay.gmail.com with ESMTPS id 8926c6da1cb9f-5b7aaf51535sm91417173.4.2025.11.11.15.45.31 (version=TLS1_2 cipher=ECDHE-ECDSA-AES128-GCM-SHA256 bits=128/128); Tue, 11 Nov 2025 15:45:31 -0800 (PST) X-Relaying-Domain: iol.unh.edu Date: Tue, 11 Nov 2025 15:45:31 -0800 (PST) Message-ID: <6913ca9b.050a0220.10573.5288SMTPIN_ADDED_MISSING@mx.google.com> Received: from [172.21.0.2] (unknown [172.18.0.240]) by postal.iol.unh.edu (Postfix) with ESMTP id 0D64E6051830; Tue, 11 Nov 2025 18:45:31 -0500 (EST) Subject: |SUCCESS| pw158676 [PATCH] config/arm: update mcpu for Cobalt-100 So From: dpdklab@iol.unh.edu To: Test Report Cc: dpdk-test-reports@iol.unh.edu In-Reply-To: <20251111190639.3470596-1-doug.foster@arm.com> References: <20251111190639.3470596-1-doug.foster@arm.com> Content-Type: text/plain X-BeenThere: test-report@dpdk.org X-Mailman-Version: 2.1.29 Precedence: list List-Id: automatic DPDK test reports List-Unsubscribe: , List-Archive: List-Post: List-Help: List-Subscribe: , Errors-To: test-report-bounces@dpdk.org Test-Label: iol-unit-amd64-testing Test-Status: SUCCESS http://dpdk.org/patch/158676 _Testing PASS_ Submitter: Doug Foster Date: Tuesday, November 11 2025 19:06:38 DPDK git baseline: Repo:dpdk Branch: master CommitID:be0112878b4fc3a1b918370ed2fe615c52039d77 158676 --> testing pass Upstream job id: Generic-Unit-Test-DPDK#391213 Test environment and result as below: +-------------------------------+----------------+ | Environment | dpdk_unit_test | +===============================+================+ | Fedora Linux 42 | PASS | +-------------------------------+----------------+ | CentOS Stream 10 | PASS | +-------------------------------+----------------+ | Ubuntu 24.04 | PASS | +-------------------------------+----------------+ | Fedora Linux 40 | PASS | +-------------------------------+----------------+ | Debian GNU/Linux 12 | PASS | +-------------------------------+----------------+ | Ubuntu 20.04 | PASS | +-------------------------------+----------------+ | Red Hat Enterprise Linux 9.5 | PASS | +-------------------------------+----------------+ | Ubuntu 22.04 | PASS | +-------------------------------+----------------+ | Fedora Linux 41 | PASS | +-------------------------------+----------------+ | Red Hat Enterprise Linux 8.10 | PASS | +-------------------------------+----------------+ | CentOS Stream 9 | PASS | +-------------------------------+----------------+ Fedora Linux 42 Kernel: 5.15 Compiler: gcc gcc (GCC) 15.2.1 20250808 (Red Hat 15.2.1-1) CentOS Stream 10 Kernel: 5.15 Compiler: gcc gcc (GCC) 14.2.1 20250110 (Red Hat 14.2.1-8) Ubuntu 24.04 Kernel: 5.15 Compiler: gcc gcc (Ubuntu 13.3.0-6ubuntu2~24.04) 13.3.0 Fedora Linux 40 Kernel: 5.15 Compiler: gcc gcc (GCC) 14.2.1 20240912 (Red Hat 14.2.1-3) Debian GNU/Linux 12 Kernel: 5.15 Compiler: gcc gcc (Debian 12.2.0-14+deb12u1) 12.2.0 Ubuntu 20.04 Kernel: 5.15 Compiler: gcc gcc (Ubuntu 9.4.0-1ubuntu1~20.04.2) 9.4.0 Red Hat Enterprise Linux 9.5 Kernel: 5.15 Compiler: gcc gcc (GCC) 11.5.0 20240719 (Red Hat 11.5.0-2) Ubuntu 22.04 Kernel: 5.15 Compiler: gcc gcc (Ubuntu 11.4.0-1ubuntu1~22.04) 11.4.0 Fedora Linux 41 Kernel: 5.15 Compiler: clang gcc (GCC) 14.3.1 20250523 (Red Hat 14.3.1-1) Red Hat Enterprise Linux 8.10 Kernel: 5.15 Compiler: gcc gcc (GCC) 8.5.0 20210514 (Red Hat 8.5.0-22) CentOS Stream 9 Kernel: 5.15 Compiler: gcc gcc (GCC) 11.5.0 20240719 (Red Hat 11.5.0-11) To view detailed results, visit: https://lab.dpdk.org/results/dashboard/patchsets/34540/ UNH-IOL DPDK Community Lab To manage your email subscriptions, visit: https://lab.dpdk.org/results/dashboard/preferences/subscriptions/