From mboxrd@z Thu Jan 1 00:00:00 1970 Return-Path: Received: from mails.dpdk.org (mails.dpdk.org [217.70.189.124]) by inbox.dpdk.org (Postfix) with ESMTP id BD35848AE5 for ; Wed, 12 Nov 2025 00:55:32 +0100 (CET) Received: from mails.dpdk.org (localhost [127.0.0.1]) by mails.dpdk.org (Postfix) with ESMTP id B20C940281; Wed, 12 Nov 2025 00:55:32 +0100 (CET) Received: from mail-io1-f99.google.com (mail-io1-f99.google.com [209.85.166.99]) by mails.dpdk.org (Postfix) with ESMTP id AD6A040281 for ; Wed, 12 Nov 2025 00:55:31 +0100 (CET) Received: by mail-io1-f99.google.com with SMTP id ca18e2360f4ac-948a7964a41so9389939f.2 for ; Tue, 11 Nov 2025 15:55:31 -0800 (PST) DKIM-Signature: v=1; a=rsa-sha256; c=relaxed/relaxed; d=iol.unh.edu; s=unh-iol; t=1762905331; x=1763510131; darn=dpdk.org; h=references:in-reply-to:cc:to:from:subject:message-id:date:from:to :cc:subject:date:message-id:reply-to; bh=Ev08+veECfb2hV2+S4Ao/YAn1AkLoRooVaDIGJ7yokU=; b=fyDY26MwGZvf2XkOOTmsxmQOWlFTXevrJmJI34tcEYHcviooD9+VfAfQrDVwUz9lm4 mu7KgiIP595IEt2bKqTB2kSluHACpSXRWQqWnPO9R6WjfJ+PCap9KgKeKhI13y9cnsCS +iGQSDrWKySBJBc+IwMwfB29nLIOiR6j8u+Xw= X-Google-DKIM-Signature: v=1; a=rsa-sha256; c=relaxed/relaxed; d=1e100.net; s=20230601; t=1762905331; x=1763510131; h=references:in-reply-to:cc:to:from:subject:message-id:date:x-gm-gg :x-gm-message-state:from:to:cc:subject:date:message-id:reply-to; bh=Ev08+veECfb2hV2+S4Ao/YAn1AkLoRooVaDIGJ7yokU=; b=Ahk10Ml0oGNP8BdH4VUD6fj0tw3dzfiz7hHgA8Ojzr1WgOes8fBBQgOg6O3s8ICtQS D6xZ9Rn3Z4QXhcAZatdlzhH0p3Pv9PuAhyP4SPdnJIMYhbDM2nfVhh8PavPdY8lXbbJD WmHCAri1xBiKBtvbi+4rnH2b1KNdWVJO7XnPCwUUT77NGgGdNHCna8zHTWOyFojsjNgY jGfcCT4/sAij1dB44yiJeqY/Y6HB4vGniXuMiQwxGg7fdxGWFitMBjSrKPx7G9ykgV5k JfGuy4Lan3Dya/IV+VfW+FI0zAtt12nEm52Fz6HXPIAXp5Azf5Qvx1KRNSOkbMbNRqWV Lgcg== X-Gm-Message-State: AOJu0YxRSeujY1ID5UD559B+7ADMl1T5G+ZaTptYMWF4JlAcRaY3ht7C MQrkHuOMNlEp8sjPmBCaledk8Zr/hTuVNvi3HzbKP1M/eublnUro8kqbVpK12zXZShqsee7J+rP rN5WJuWd6tkqflBOmjzNWl69/HKO8d2dkj00iwhWg21z4 X-Gm-Gg: ASbGncvhRD4bZGOODUBT+YtbwhAknGAqVi11IF2dX8f8JOLvMHx+6doWMnz8yRQpsAk YTGy4rDduuTSU6kmxMbSsplkb1CKjRSlQizcbm5EgXV0qWanaMrJ2Lu9YaeDUNftKfdK+5xMK8S HtMPeUArp46ldKi9tmK6IN0Bw40tallYOiLnBQhxUQXuBhqifzyO+S43kz/c42xuKuokEnASWnW 4l1xD/DLTdFGfBhOcaW8NolzAam05oZUGg5bNCLi/nRMNkXEkxuIxbDNGj8lPUt/Tu8TnNSiwus Cmb0Ki6KPRoeMRtWiPNuF+XOvOuSrkhLYbM7IyCLEcLPVCZO+Pd5kjKmDligvcvypXDhRdx9Il2 kkDqX5znB8OPMdZQwMh1vhkoRvzT6Q1g= X-Google-Smtp-Source: AGHT+IGD4DJDks2pn2jh0Zgv6Met/IXQu8+JtmJplrb/Vn3nEGAz7voqUeTy4vAAG3RD/vTR/b5R7KHAWer2 X-Received: by 2002:a05:6602:1410:b0:948:3ec6:7813 with SMTP id ca18e2360f4ac-948c46393e1mr136980939f.12.1762905330969; Tue, 11 Nov 2025 15:55:30 -0800 (PST) Received: from postal.iol.unh.edu (postal.iol.unh.edu. [132.177.123.84]) by smtp-relay.gmail.com with ESMTPS id ca18e2360f4ac-94888c1e70csm88521139f.10.2025.11.11.15.55.30 (version=TLS1_2 cipher=ECDHE-ECDSA-AES128-GCM-SHA256 bits=128/128); Tue, 11 Nov 2025 15:55:30 -0800 (PST) X-Relaying-Domain: iol.unh.edu Date: Tue, 11 Nov 2025 15:55:30 -0800 (PST) Message-ID: <6913ccf2.050a0220.1b5838.d8dcSMTPIN_ADDED_MISSING@mx.google.com> Received: from [172.21.0.3] (unknown [172.18.0.240]) by postal.iol.unh.edu (Postfix) with ESMTP id 87DF36051830; Tue, 11 Nov 2025 18:55:30 -0500 (EST) Subject: |SUCCESS| pw158676 [PATCH] config/arm: update mcpu for Cobalt-100 So From: dpdklab@iol.unh.edu To: Test Report Cc: dpdk-test-reports@iol.unh.edu In-Reply-To: <20251111190639.3470596-1-doug.foster@arm.com> References: <20251111190639.3470596-1-doug.foster@arm.com> Content-Type: text/plain X-BeenThere: test-report@dpdk.org X-Mailman-Version: 2.1.29 Precedence: list List-Id: automatic DPDK test reports List-Unsubscribe: , List-Archive: List-Post: List-Help: List-Subscribe: , Errors-To: test-report-bounces@dpdk.org Test-Label: iol-compile-amd64-testing Test-Status: SUCCESS http://dpdk.org/patch/158676 _Testing PASS_ Submitter: Doug Foster Date: Tuesday, November 11 2025 19:06:38 DPDK git baseline: Repo:dpdk Branch: master CommitID:be0112878b4fc3a1b918370ed2fe615c52039d77 158676 --> testing pass Upstream job id: Generic-DPDK-Compile-Meson#443153 Test environment and result as below: +-------------------------------+--------------------+------------------+ | Environment | dpdk_meson_compile | dpdk_compile_ovs | +===============================+====================+==================+ | CentOS Stream 9 | PASS | SKIPPED | +-------------------------------+--------------------+------------------+ | Fedora Linux 42 | PASS | PASS | +-------------------------------+--------------------+------------------+ | Debian GNU/Linux 12 | PASS | SKIPPED | +-------------------------------+--------------------+------------------+ | CentOS Stream 10 | PASS | SKIPPED | +-------------------------------+--------------------+------------------+ | Ubuntu 22.04 | PASS | SKIPPED | +-------------------------------+--------------------+------------------+ | Ubuntu 24.04 | PASS | PASS | +-------------------------------+--------------------+------------------+ | openSUSE Leap 15.6 | PASS | SKIPPED | +-------------------------------+--------------------+------------------+ | Ubuntu 20.04 | PASS | SKIPPED | +-------------------------------+--------------------+------------------+ | Red Hat Enterprise Linux 8.10 | PASS | SKIPPED | +-------------------------------+--------------------+------------------+ | Red Hat Enterprise Linux 9.5 | PASS | SKIPPED | +-------------------------------+--------------------+------------------+ | Alpine Linux 3.22.0 | PASS | SKIPPED | +-------------------------------+--------------------+------------------+ | FreeBSD 14.2 | PASS | SKIPPED | +-------------------------------+--------------------+------------------+ CentOS Stream 9 Kernel: 5.15 Compiler: gcc gcc (GCC) 11.5.0 20240719 (Red Hat 11.5.0-11) Fedora Linux 42 Kernel: 5.15 Compiler: clang gcc (GCC) 15.2.1 20250808 (Red Hat 15.2.1-1) Debian GNU/Linux 12 Kernel: 5.15 Compiler: gcc gcc (Debian 12.2.0-14+deb12u1) 12.2.0 CentOS Stream 10 Kernel: 5.15 Compiler: gcc gcc (GCC) 14.2.1 20250110 (Red Hat 14.2.1-8) Ubuntu 22.04 Kernel: 5.15 Compiler: gcc gcc (Ubuntu 11.4.0-1ubuntu1~22.04) 11.4.0 Ubuntu 24.04 Kernel: 5.15 Compiler: gcc gcc (Ubuntu 13.3.0-6ubuntu2~24.04) 13.3.0 openSUSE Leap 15.6 Kernel: 5.15 Compiler: gcc gcc (SUSE Linux) 7.5.0 Ubuntu 20.04 Kernel: 5.15 Compiler: gcc gcc (Ubuntu 9.4.0-1ubuntu1~20.04.2) 9.4.0 Red Hat Enterprise Linux 8.10 Kernel: 5.15 Compiler: gcc gcc (GCC) 8.5.0 20210514 (Red Hat 8.5.0-22) Red Hat Enterprise Linux 9.5 Kernel: 5.15 Compiler: gcc gcc (GCC) 11.5.0 20240719 (Red Hat 11.5.0-2) Alpine Linux 3.22.0 Kernel: 5.15 Compiler: gcc gcc (Alpine 14.2.0) 14.2.0 FreeBSD 14.2 Kernel: 14.2-RELEASE Compiler: clang 18.1.6 To view detailed results, visit: https://lab.dpdk.org/results/dashboard/patchsets/34540/ UNH-IOL DPDK Community Lab To manage your email subscriptions, visit: https://lab.dpdk.org/results/dashboard/preferences/subscriptions/