From mboxrd@z Thu Jan 1 00:00:00 1970 Return-Path: Received: from mails.dpdk.org (mails.dpdk.org [217.70.189.124]) by inbox.dpdk.org (Postfix) with ESMTP id BF24F48AE5 for ; Wed, 12 Nov 2025 01:06:30 +0100 (CET) Received: from mails.dpdk.org (localhost [127.0.0.1]) by mails.dpdk.org (Postfix) with ESMTP id B791F40281; Wed, 12 Nov 2025 01:06:30 +0100 (CET) Received: from mail-il1-f227.google.com (mail-il1-f227.google.com [209.85.166.227]) by mails.dpdk.org (Postfix) with ESMTP id B031B40281 for ; Wed, 12 Nov 2025 01:06:28 +0100 (CET) Received: by mail-il1-f227.google.com with SMTP id e9e14a558f8ab-4330d2ea04eso1025925ab.3 for ; Tue, 11 Nov 2025 16:06:28 -0800 (PST) DKIM-Signature: v=1; a=rsa-sha256; c=relaxed/relaxed; d=iol.unh.edu; s=unh-iol; t=1762905988; x=1763510788; darn=dpdk.org; h=references:in-reply-to:cc:to:from:subject:message-id:date:from:to :cc:subject:date:message-id:reply-to; bh=qK2YcWRaiLD9JcifmnVg/UDcKvREv3wsGYLEAgMEpLw=; b=E1fhvROiFgJ2dPmAgxHGG5t3rmaLLc3lQInr1MmKLEWNVa1fiByVN4K3Zpmd2Gre9u hTyvCJtcmH3bb5GmJjtpy0sUXHReF6m72pbjG4nXZW6BlP1gy+s73nfAkeJk/KXxnNdL S5dveuqPhuE2MrGkh1Ng+j+faRrlXM1P4i1Ko= X-Google-DKIM-Signature: v=1; a=rsa-sha256; c=relaxed/relaxed; d=1e100.net; s=20230601; t=1762905988; x=1763510788; h=references:in-reply-to:cc:to:from:subject:message-id:date:x-gm-gg :x-gm-message-state:from:to:cc:subject:date:message-id:reply-to; bh=qK2YcWRaiLD9JcifmnVg/UDcKvREv3wsGYLEAgMEpLw=; b=TPayckS/K29Bzi7fHb5+8sLeCRPlVrQKy1bsCqELGjFj7Ny9rWmLgayv4ivvmltdCM HCa2/W0ZHheIY//jk2lucUkkVJLOORQCLtkQWBYH53zZ28HirTrdW/sKE4F4tVruDe5F HibZ+AVugx8wPxaB3Deh8wA5qQQC/0LmARsfVmy/rXqZca2ijETGTmIC9q3qkeiajSa6 hqjZlpUqxJc1lBHTz8aTHXtNfRuHY2Oy8diZxt+8Ib/jjJj7R5EfKlV28hoSLwhc/K10 aAtJYx/B5x0tAs63jr+XluZqSeWTuIxaucy9yOIIH+XE8rCtphVWpQpr9J1br16WuHtx djbQ== X-Gm-Message-State: AOJu0Yy5hlwFaGu+fO+CfL1Lkvif1GRHSj93j7mlCLli6Yx5+LOse9cS goMGZvnmZ2syZLKPDj6SiPYIVXfp3k8wxvbpkrE3XWScdj+8xg+cXyHCqtERddNlvlHZQli9FcQ x2wr+JlPgKE9gj0L6Uscca6vGOPW2+HsLV7dgxRf8Bmff X-Gm-Gg: ASbGncufkAAW9pSpH/n/340QDXTrpB7+2twTAtTTIIR3u4/irPJuNSalUqaiLF5zE0q 36y4kxf561b4x9tKPAFKu7F1ZHIEktyviPfeCeVnRpA7haQ50NajgypnagF0nWmZkKxTJ/xk6TF 166VEFhpCvNac+KsFafyqvrq9GakFNYzmPYlpk5D4muHtgjIXHcWqA5vN+TQYrBctYmbs+tOtEW XGHUHPIySVmEGUrIQSt93usXykXoTveycx+gDUE/AINTcahLByOEMfpo9lubA4VWSArBypwijGb JOrDuS1e1LuoSAmDnF/S9al1foyd7nhuZqYMueW3YTKPulP6yWaR8lo6vwpvX33EhLCMfdJ7ERc 0HyKeBBoQic+iInktmiA8r2BkU+ndFn0= X-Google-Smtp-Source: AGHT+IFdifWfncA1WROkWjB/0dqMi1cFlynGtkOAgxz1Tl2TZ5IW13+ViG+kufEX/53Fa8IDhgEcRtynnFlX X-Received: by 2002:a92:c24d:0:b0:434:6fff:bb8d with SMTP id e9e14a558f8ab-43473d74f29mr14514585ab.17.1762905987977; Tue, 11 Nov 2025 16:06:27 -0800 (PST) Received: from postal.iol.unh.edu (postal.iol.unh.edu. [132.177.123.84]) by smtp-relay.gmail.com with ESMTPS id e9e14a558f8ab-434733a60e6sm997955ab.23.2025.11.11.16.06.27 (version=TLS1_2 cipher=ECDHE-ECDSA-AES128-GCM-SHA256 bits=128/128); Tue, 11 Nov 2025 16:06:27 -0800 (PST) X-Relaying-Domain: iol.unh.edu Date: Tue, 11 Nov 2025 16:06:27 -0800 (PST) Message-ID: <6913cf83.050a0220.1be8fa.5763SMTPIN_ADDED_MISSING@mx.google.com> Received: from [172.21.0.2] (unknown [172.18.0.240]) by postal.iol.unh.edu (Postfix) with ESMTP id 73AD46051830; Tue, 11 Nov 2025 19:06:27 -0500 (EST) Subject: |SUCCESS| pw158663-158667 [PATCH] [v4,5/5] vhost_user: Increase numb From: dpdklab@iol.unh.edu To: Test Report Cc: dpdk-test-reports@iol.unh.edu, Chenbo Xia , Maxime Coquelin In-Reply-To: <20251111114521.2902867-6-pravin.bathija@dell.com> References: <20251111114521.2902867-6-pravin.bathija@dell.com> Content-Type: text/plain X-BeenThere: test-report@dpdk.org X-Mailman-Version: 2.1.29 Precedence: list List-Id: automatic DPDK test reports List-Unsubscribe: , List-Archive: List-Post: List-Help: List-Subscribe: , Errors-To: test-report-bounces@dpdk.org Test-Label: iol-unit-arm64-testing Test-Status: SUCCESS http://dpdk.org/patch/158667 _Testing PASS_ Submitter: Pravin M Bathija Date: Tuesday, November 11 2025 11:45:21 DPDK git baseline: Repo:dpdk-next-virtio Branch: master CommitID:6b37c26a95388aa41bb5267c7c42f604fd571a38 158663-158667 --> testing pass Upstream job id: Generic-Unit-Test-DPDK#391087 Test environment and result as below: +------------------------------+----------------+--------------+------------------------------+---------------------------+ | Environment | dpdk_unit_test | lpm_autotest | cryptodev_sw_snow3g_autotest | cryptodev_sw_zuc_autotest | +==============================+================+==============+==============================+===========================+ | Debian GNU/Linux 12 | PASS | SKIPPED | SKIPPED | SKIPPED | +------------------------------+----------------+--------------+------------------------------+---------------------------+ | CentOS Stream 9 | PASS | SKIPPED | SKIPPED | SKIPPED | +------------------------------+----------------+--------------+------------------------------+---------------------------+ | CentOS Stream 10 | PASS | SKIPPED | SKIPPED | SKIPPED | +------------------------------+----------------+--------------+------------------------------+---------------------------+ | Fedora Linux 41 | PASS | SKIPPED | SKIPPED | SKIPPED | +------------------------------+----------------+--------------+------------------------------+---------------------------+ | Fedora Linux 40 | PASS | SKIPPED | SKIPPED | SKIPPED | +------------------------------+----------------+--------------+------------------------------+---------------------------+ | Fedora Linux 42 | PASS | SKIPPED | SKIPPED | SKIPPED | +------------------------------+----------------+--------------+------------------------------+---------------------------+ | Red Hat Enterprise Linux 9.5 | PASS | SKIPPED | SKIPPED | SKIPPED | +------------------------------+----------------+--------------+------------------------------+---------------------------+ | Ubuntu 20.04 | PASS | PASS | SKIPPED | SKIPPED | +------------------------------+----------------+--------------+------------------------------+---------------------------+ | Ubuntu 24.04 | PASS | SKIPPED | SKIPPED | SKIPPED | +------------------------------+----------------+--------------+------------------------------+---------------------------+ | Ubuntu 22.04 | PASS | SKIPPED | SKIPPED | SKIPPED | +------------------------------+----------------+--------------+------------------------------+---------------------------+ | Debian 12 (arm) | SKIPPED | SKIPPED | PASS | PASS | +------------------------------+----------------+--------------+------------------------------+---------------------------+ Debian GNU/Linux 12 Kernel: 5.4 Compiler: gcc gcc (Debian 12.2.0-14+deb12u1) 12.2.0 CentOS Stream 9 Kernel: 5.4 Compiler: gcc gcc (GCC) 11.5.0 20240719 (Red Hat 11.5.0-11) CentOS Stream 10 Kernel: 5.4 Compiler: gcc gcc (GCC) 14.2.1 20250110 (Red Hat 14.2.1-8) Fedora Linux 41 Kernel: 5.4 Compiler: gcc gcc (GCC) 14.3.1 20250523 (Red Hat 14.3.1-1) Fedora Linux 40 Kernel: 5.4 Compiler: gcc gcc (GCC) 14.2.1 20240912 (Red Hat 14.2.1-3) Fedora Linux 42 Kernel: 5.4 Compiler: gcc gcc (GCC) 15.2.1 20250808 (Red Hat 15.2.1-1) Red Hat Enterprise Linux 9.5 Kernel: 5.4 Compiler: gcc gcc (GCC) 11.5.0 20240719 (Red Hat 11.5.0-2) Ubuntu 20.04 Kernel: 5.4 Compiler: gcc gcc (Ubuntu 9.4.0-1ubuntu1~20.04.2) 9.4.0 Ubuntu 24.04 Kernel: 5.4 Compiler: gcc gcc (Ubuntu 13.3.0-6ubuntu2~24.04) 13.3.0 Ubuntu 22.04 Kernel: 5.4 Compiler: gcc gcc (Ubuntu 11.4.0-1ubuntu1~22.04) 11.4.0 Debian 12 (arm) Kernel: Depends on container host Compiler: gcc (Debian 12.2.0-14) 12.2.0 To view detailed results, visit: https://lab.dpdk.org/results/dashboard/patchsets/34535/ UNH-IOL DPDK Community Lab To manage your email subscriptions, visit: https://lab.dpdk.org/results/dashboard/preferences/subscriptions/