From mboxrd@z Thu Jan 1 00:00:00 1970 Return-Path: Received: from mails.dpdk.org (mails.dpdk.org [217.70.189.124]) by inbox.dpdk.org (Postfix) with ESMTP id 0857148AE5 for ; Wed, 12 Nov 2025 01:38:18 +0100 (CET) Received: from mails.dpdk.org (localhost [127.0.0.1]) by mails.dpdk.org (Postfix) with ESMTP id CC5044026A; Wed, 12 Nov 2025 01:38:17 +0100 (CET) Received: from mail-qt1-f226.google.com (mail-qt1-f226.google.com [209.85.160.226]) by mails.dpdk.org (Postfix) with ESMTP id 225AF4026A for ; Wed, 12 Nov 2025 01:38:17 +0100 (CET) Received: by mail-qt1-f226.google.com with SMTP id d75a77b69052e-4ed9c1924adso2588241cf.1 for ; Tue, 11 Nov 2025 16:38:17 -0800 (PST) DKIM-Signature: v=1; a=rsa-sha256; c=relaxed/relaxed; d=iol.unh.edu; s=unh-iol; t=1762907896; x=1763512696; darn=dpdk.org; h=references:in-reply-to:cc:to:from:subject:message-id:date:from:to :cc:subject:date:message-id:reply-to; bh=jTXBe3HKbthZm+HrX4O3UEqBec+mdK0yBd9GOYMCbyY=; b=jZZ4akaIO1Q7jQ+A1/BNXocT5OS07ben08Fw6u2GE3lIiStgs07CKbA+s2d8yZgmFx Tx5mvXRmXsLXNvox8vXhLbr4KCwlXWVljThh4boxOwPd/6LvuhjPDDIAsOwP7XSE1uAe /XAm6O/gf6Dh5UEaBsRFvMvAquUftTRtdAC5g= X-Google-DKIM-Signature: v=1; a=rsa-sha256; c=relaxed/relaxed; d=1e100.net; s=20230601; t=1762907896; x=1763512696; h=references:in-reply-to:cc:to:from:subject:message-id:date:x-gm-gg :x-gm-message-state:from:to:cc:subject:date:message-id:reply-to; bh=jTXBe3HKbthZm+HrX4O3UEqBec+mdK0yBd9GOYMCbyY=; b=MiOBTtYPXeS+4qp9m6ORHVOHjqNjV2uiiqURgqm/j/VmdGsnNMeio02UOugj1OqaMC upS4MEKiVMk0shkYmYJDcqAdwHqKB9fyCp95jWpg0p+rw3sTfuwEoBvSZtig4Yc84RMq RGJxfvLPpxR/uilhFnmnx7MbHYo1vWluKNmXgXWc57fyoHNL0qAawtVmvQi5CoG90+77 9MBqT0l6guIYr/tAehnR6U3y/0FS78U3B3Q0Q4yyHdcPodk478UZS1qRLAbJLWqCB17h CliuR60oqaEhvGQGO7c3FxzxCiS94W9dVD4GiVgA60xg20WMWDOvWD1kAsNBvuN4Nm2F N7+g== X-Gm-Message-State: AOJu0YxuvPi+ZBCXT2nyjGA5QuE3++bfDgEsnNxGyjtpK7PLS7iEAce2 H3paFnXw5SF+8JHBTNpqWGJqGLtpoU63LthPc6QhXd5wGp2+7V5VJ10aUPxxFqwpOEUNFan5GaI YW09cwWZCr2kTn3ZekPB3rXNN7bXE6cBiRL+POJjyAo9M X-Gm-Gg: ASbGncs0kSDA4xtVIj/XQG3v/M/DlXE3CTdRU/0KjrbAHwefIbyJXHmUP6NuH/hzm73 yO2jtwkgJ2YLS2EIldnAD6onavIRxWrJDPYbGfae/lGWMMLKIbYtF7NF1DI2qALl3j0nINJJ1+G YVJxSYwUvultyoLWMJnu8zH1ZSwJNY7zMlb9ijBPRElRE05U0IolA5sFsqSFXmfzZnA2Oi2s2sq gpMwIivcEROMQz9OZ9cvFmG/RIIINyogpWBhnfb2lZt78WHa6Tk+WluoBVpSWM1j/zlKhmx9y90 Zyc85Cenz9bh8rRR39J8aBgyjC2SYzytmchYN9yjhRziR8XgSHjtcctFBO8Gd2IdLGanHtlAuYl Y9Wxg0f6jD58EPa6L1INGLTjjl1JgdYM= X-Google-Smtp-Source: AGHT+IGYrI8+7ep3/2ld2mPCcDm4X8dKef28BW6FffKHGBlHoUXaERgXU4NetRz8gx4fN2UEUXrI0IDhX4R7 X-Received: by 2002:ac8:5ac2:0:b0:4e8:aff9:a7a8 with SMTP id d75a77b69052e-4eddbda8e40mr16971741cf.52.1762907896338; Tue, 11 Nov 2025 16:38:16 -0800 (PST) Received: from postal.iol.unh.edu (postal.iol.unh.edu. [132.177.123.84]) by smtp-relay.gmail.com with ESMTPS id d75a77b69052e-4eda55de49csm2922011cf.1.2025.11.11.16.38.16 (version=TLS1_2 cipher=ECDHE-ECDSA-AES128-GCM-SHA256 bits=128/128); Tue, 11 Nov 2025 16:38:16 -0800 (PST) X-Relaying-Domain: iol.unh.edu Date: Tue, 11 Nov 2025 16:38:16 -0800 (PST) Message-ID: <6913d6f8.c80a0220.1a9d77.ebbbSMTPIN_ADDED_MISSING@mx.google.com> Received: from [172.21.0.3] (unknown [172.18.0.240]) by postal.iol.unh.edu (Postfix) with ESMTP id E2D676051830; Tue, 11 Nov 2025 19:38:15 -0500 (EST) Subject: |SUCCESS| pw158658-158662 [PATCH] [v4,5/5] vhost_user: Increase numb From: dpdklab@iol.unh.edu To: Test Report Cc: dpdk-test-reports@iol.unh.edu, Chenbo Xia , Maxime Coquelin In-Reply-To: <20251111114002.2902696-6-pravin.bathija@dell.com> References: <20251111114002.2902696-6-pravin.bathija@dell.com> Content-Type: text/plain X-BeenThere: test-report@dpdk.org X-Mailman-Version: 2.1.29 Precedence: list List-Id: automatic DPDK test reports List-Unsubscribe: , List-Archive: List-Post: List-Help: List-Subscribe: , Errors-To: test-report-bounces@dpdk.org Test-Label: iol-compile-arm64-testing Test-Status: SUCCESS http://dpdk.org/patch/158662 _Testing PASS_ Submitter: Pravin M Bathija Date: Tuesday, November 11 2025 11:40:02 DPDK git baseline: Repo:dpdk-next-virtio Branch: master CommitID:6b37c26a95388aa41bb5267c7c42f604fd571a38 158658-158662 --> testing pass Upstream job id: Generic-DPDK-Compile-Meson#442992 Test environment and result as below: +------------------------------+--------------------+ | Environment | dpdk_meson_compile | +==============================+====================+ | Red Hat Enterprise Linux 9.5 | PASS | +------------------------------+--------------------+ | Ubuntu 20.04 | PASS | +------------------------------+--------------------+ | Debian GNU/Linux 12 | PASS | +------------------------------+--------------------+ | Fedora Linux 42 | PASS | +------------------------------+--------------------+ | Ubuntu 22.04 | PASS | +------------------------------+--------------------+ | Ubuntu 24.04 | PASS | +------------------------------+--------------------+ | CentOS Stream 9 | PASS | +------------------------------+--------------------+ | CentOS Stream 10 | PASS | +------------------------------+--------------------+ Red Hat Enterprise Linux 9.5 Kernel: 5.4 Compiler: gcc gcc (GCC) 11.5.0 20240719 (Red Hat 11.5.0-2) Ubuntu 20.04 Kernel: 5.15 Compiler: aarch64-linux-gnu-gcc gcc (Ubuntu 9.4.0-1ubuntu1~20.04.2) 9.4.0 Debian GNU/Linux 12 Kernel: 5.4 Compiler: gcc gcc (Debian 12.2.0-14+deb12u1) 12.2.0 Fedora Linux 42 Kernel: 5.4 Compiler: gcc gcc (GCC) 15.2.1 20250808 (Red Hat 15.2.1-1) Ubuntu 22.04 Kernel: 5.4 Compiler: gcc gcc (Ubuntu 11.4.0-1ubuntu1~22.04) 11.4.0 Ubuntu 24.04 Kernel: 5.4 Compiler: gcc gcc (Ubuntu 13.3.0-6ubuntu2~24.04) 13.3.0 CentOS Stream 9 Kernel: 5.4 Compiler: gcc gcc (GCC) 11.5.0 20240719 (Red Hat 11.5.0-11) CentOS Stream 10 Kernel: 5.4 Compiler: gcc gcc (GCC) 14.2.1 20250110 (Red Hat 14.2.1-8) To view detailed results, visit: https://lab.dpdk.org/results/dashboard/patchsets/34533/ UNH-IOL DPDK Community Lab To manage your email subscriptions, visit: https://lab.dpdk.org/results/dashboard/preferences/subscriptions/