From mboxrd@z Thu Jan 1 00:00:00 1970 Return-Path: Received: from mails.dpdk.org (mails.dpdk.org [217.70.189.124]) by inbox.dpdk.org (Postfix) with ESMTP id 0154748AE6 for ; Wed, 12 Nov 2025 03:02:51 +0100 (CET) Received: from mails.dpdk.org (localhost [127.0.0.1]) by mails.dpdk.org (Postfix) with ESMTP id DC1B84026A; Wed, 12 Nov 2025 03:02:51 +0100 (CET) Received: from mail-il1-f227.google.com (mail-il1-f227.google.com [209.85.166.227]) by mails.dpdk.org (Postfix) with ESMTP id E4A894026A for ; Wed, 12 Nov 2025 03:02:50 +0100 (CET) Received: by mail-il1-f227.google.com with SMTP id e9e14a558f8ab-4330e912c51so1560675ab.3 for ; Tue, 11 Nov 2025 18:02:50 -0800 (PST) DKIM-Signature: v=1; a=rsa-sha256; c=relaxed/relaxed; d=iol.unh.edu; s=unh-iol; t=1762912970; x=1763517770; darn=dpdk.org; h=cc:to:from:subject:message-id:date:from:to:cc:subject:date :message-id:reply-to; bh=NT5DBDTNtQxZS54CXLx4k0GDohGrpSWsOsZ5vbqHc84=; b=B9qEIYu0a8feysKN3nmgvxltTwLxRTa/XZdWSSiEaG7KnUnE5vmoER50O7Btt7Dv+P T1lTiuHQbTuSQjiItMgn90UtxsRuN190/GsQZToacbEQk4+x60557JeSQMKjvbSGCG9+ fZTQkXr65mMwiD2V//wU1kQgCki4+iYHZ9F6k= X-Google-DKIM-Signature: v=1; a=rsa-sha256; c=relaxed/relaxed; d=1e100.net; s=20230601; t=1762912970; x=1763517770; h=cc:to:from:subject:message-id:date:x-gm-gg:x-gm-message-state:from :to:cc:subject:date:message-id:reply-to; bh=NT5DBDTNtQxZS54CXLx4k0GDohGrpSWsOsZ5vbqHc84=; b=BnZK7G1xyG0WiMNoh7egSukCpEp/qKHJMS9Bucy+nDhSKlJ+1SLpdHaUVT60NXMCQm EEzEGbCbdzzUFfS6wNjLPsSmOy/BrBxQTdaH5DY06sMgayh8splIygNyAVfPZlSaXylR mEFjV64rieVXyguqy/0P8CQH8jEt2zmgg8BZQkv7Sn6DpqOHrTK9YhXbYpYQErv615Ab goy4SyapaP9Sgb3mHkMOFfaMWP56pK5hnwNz5u70PyNzJvAuw265cB3cchkouBYlbrFH AMVHdHDiaE7kCjU7E6UjuAAOPz84gBGowruxqASck2olK7Cj22NThXnv4wAaEKWdV/+V RN1g== X-Gm-Message-State: AOJu0Yw2W1FsNbiIFIzeLCbscefHG09o2ky7CKa9VmQ2aUB2VzPwCDNp 6jbCJhLtHF057X4fgxX7Xr7XeFjoBUffosWVl5df47dyyVqE94qdFET3xbEwG8yM2szRYRzrZ8U wOLAbZfJv/U9luWKT3XrQdbK13fpzaXBelSNljHOmmJhcn/cFPcGTmEcli9Tz X-Gm-Gg: ASbGncu02iY4iufei7Yiv1Tho/8Q16Mq6ocLGz7ZqWoLgA6Ea/kMXS22rplhto3xQUr pzLZZv2CuUjnV0dt1Zg8Nqy3XJG0KSWEPC5K6ftOaWELBeMNoWwDkPc0L6E5+NKRMl1n5+8k2TZ yQr6djUo6Bu7ncLktj5utDdiiwo+wltZ1q0aSVcUXkZv8GiyO9Heqtn9MBkVyzv0j+ddYy03xmm ZRuIwdMibfVpTjZjJiA1YdB1UBxzQpCTt6PlPw+73byZkskvm7rcCNAE9DLV8i3ZAbpiyQYkGhX Y4mNXZ5EIxYuuek+PNYjAAdwkXzdgB2b6BydfznbZezCG1a5QMoQw4gBzNLHE0Ck3+45Rg5a0Ap jixGuCj9i X-Google-Smtp-Source: AGHT+IEn7gQLXNWx8Rd/Y23/6pFiMOarWd2+SPs/BtTi6oFwsA6pHu7VHz43joGdQ3h+NvS7YfmH7s7L0a/A X-Received: by 2002:a05:6e02:1a83:b0:433:2072:9d2c with SMTP id e9e14a558f8ab-43473d2a3a5mr20535615ab.10.1762912970118; Tue, 11 Nov 2025 18:02:50 -0800 (PST) Received: from postal.iol.unh.edu (postal.iol.unh.edu. [2606:4100:3880:1234::84]) by smtp-relay.gmail.com with ESMTPS id e9e14a558f8ab-43473315d53sm1286285ab.8.2025.11.11.18.02.50 (version=TLS1_2 cipher=ECDHE-ECDSA-AES128-GCM-SHA256 bits=128/128); Tue, 11 Nov 2025 18:02:50 -0800 (PST) X-Relaying-Domain: iol.unh.edu Date: Tue, 11 Nov 2025 18:02:50 -0800 (PST) Message-ID: <6913eaca.050a0220.345a4d.711eSMTPIN_ADDED_MISSING@mx.google.com> Received: from [172.21.0.2] (unknown [172.18.0.240]) by postal.iol.unh.edu (Postfix) with ESMTP id 7AF026051830; Tue, 11 Nov 2025 21:02:49 -0500 (EST) Subject: |SUCCESS| [GIT MASTER] be0112878b4fc3a1b918370ed2fe615c52039d77 From: dpdklab@iol.unh.edu To: Test Report Cc: dpdk-test-reports@iol.unh.edu Content-Type: text/plain X-BeenThere: test-report@dpdk.org X-Mailman-Version: 2.1.29 Precedence: list List-Id: automatic DPDK test reports List-Unsubscribe: , List-Archive: List-Post: List-Help: List-Subscribe: , Errors-To: test-report-bounces@dpdk.org _Testing PASS_ Branch: dpdk be0112878b4fc3a1b918370ed2fe615c52039d77 --> testing pass Upstream job id: Generic-Unit-Test-DPDK#391258 Test environment and result as below: +-------------------------------+----------------+ | Environment | dpdk_unit_test | +===============================+================+ | Fedora Linux 41 | PASS | +-------------------------------+----------------+ | Ubuntu 22.04 | PASS | +-------------------------------+----------------+ | Fedora Linux 40 | PASS | +-------------------------------+----------------+ | Red Hat Enterprise Linux 9.5 | PASS | +-------------------------------+----------------+ | Fedora Linux 42 | PASS | +-------------------------------+----------------+ | Arch Linux 20250613.0.365270 | PASS | +-------------------------------+----------------+ | Ubuntu 24.04 | PASS | +-------------------------------+----------------+ | Red Hat Enterprise Linux 8.10 | PASS | +-------------------------------+----------------+ | Debian GNU/Linux 12 | PASS | +-------------------------------+----------------+ | CentOS Stream 9 | PASS | +-------------------------------+----------------+ | CentOS Stream 10 | PASS | +-------------------------------+----------------+ | Ubuntu 20.04 | PASS | +-------------------------------+----------------+ Fedora Linux 41 Kernel: 5.15 Compiler: gcc gcc (GCC) 14.3.1 20250523 (Red Hat 14.3.1-1) Ubuntu 22.04 Kernel: 5.15 Compiler: gcc gcc (Ubuntu 11.4.0-1ubuntu1~22.04) 11.4.0 Fedora Linux 40 Kernel: 5.15 Compiler: clang gcc (GCC) 14.2.1 20240912 (Red Hat 14.2.1-3) Red Hat Enterprise Linux 9.5 Kernel: 5.15 Compiler: gcc gcc (GCC) 11.5.0 20240719 (Red Hat 11.5.0-2) Fedora Linux 42 Kernel: 5.15 Compiler: clang gcc (GCC) 15.2.1 20250808 (Red Hat 15.2.1-1) Arch Linux 20250613.0.365270 Kernel: 5.15 Compiler: gcc gcc (GCC) 15.1.1 20250425 Ubuntu 24.04 Kernel: 5.15 Compiler: gcc gcc (Ubuntu 13.3.0-6ubuntu2~24.04) 13.3.0 Red Hat Enterprise Linux 8.10 Kernel: 5.15 Compiler: gcc gcc (GCC) 8.5.0 20210514 (Red Hat 8.5.0-22) Debian GNU/Linux 12 Kernel: 5.15 Compiler: gcc gcc (Debian 12.2.0-14+deb12u1) 12.2.0 CentOS Stream 9 Kernel: 5.15 Compiler: gcc gcc (GCC) 11.5.0 20240719 (Red Hat 11.5.0-11) CentOS Stream 10 Kernel: 5.15 Compiler: gcc gcc (GCC) 14.2.1 20250110 (Red Hat 14.2.1-8) Ubuntu 20.04 Kernel: 5.15 Compiler: gcc gcc (Ubuntu 9.4.0-1ubuntu1~20.04.2) 9.4.0 To view detailed results, visit: https://lab.dpdk.org/results/dashboard/tarballs/35547/ UNH-IOL DPDK Community Lab To manage your email subscriptions, visit: https://lab.dpdk.org/results/dashboard/preferences/subscriptions/