From mboxrd@z Thu Jan 1 00:00:00 1970 Return-Path: Received: from mails.dpdk.org (mails.dpdk.org [217.70.189.124]) by inbox.dpdk.org (Postfix) with ESMTP id AB3C548AE7 for ; Wed, 12 Nov 2025 04:42:02 +0100 (CET) Received: from mails.dpdk.org (localhost [127.0.0.1]) by mails.dpdk.org (Postfix) with ESMTP id 908DB4026A; Wed, 12 Nov 2025 04:42:02 +0100 (CET) Received: from mail-il1-f228.google.com (mail-il1-f228.google.com [209.85.166.228]) by mails.dpdk.org (Postfix) with ESMTP id 902C34026A for ; Wed, 12 Nov 2025 04:42:01 +0100 (CET) Received: by mail-il1-f228.google.com with SMTP id e9e14a558f8ab-4330dfb6ea3so1652755ab.0 for ; Tue, 11 Nov 2025 19:42:01 -0800 (PST) DKIM-Signature: v=1; a=rsa-sha256; c=relaxed/relaxed; d=iol.unh.edu; s=unh-iol; t=1762918921; x=1763523721; darn=dpdk.org; h=references:in-reply-to:cc:to:from:subject:message-id:date:from:to :cc:subject:date:message-id:reply-to; bh=rM+ZPILDZB1QiE8CUlTQ7+lnbOZq6NlQfAwc3JOYfzQ=; b=RLf+fefQWYHeqLjExh7yN0tYX48ltKAg0Z7GqIKc5HZc8vNg+DZjFPexZ1Wr2ufRFW ubEZXC/v4ftHSDCxM9WYw25CKSKloqAJ7FJWl7MwFpKAGrszmTS2HUtkDLZC9ty3iRlx Lg9oa/3fH0OZSvY9fzsrEK64sgQS1A3A/jfA8= X-Google-DKIM-Signature: v=1; a=rsa-sha256; c=relaxed/relaxed; d=1e100.net; s=20230601; t=1762918921; x=1763523721; h=references:in-reply-to:cc:to:from:subject:message-id:date:x-gm-gg :x-gm-message-state:from:to:cc:subject:date:message-id:reply-to; bh=rM+ZPILDZB1QiE8CUlTQ7+lnbOZq6NlQfAwc3JOYfzQ=; b=G+Euur9fGuGDgQwtKbirn1uq/y6O+XyXtTT02fNqFn083Bp9eb50j6iBgObXRARfkV 5k6l0aLEcDqaHDFHsqsqL7DMucusWuMX7M5VIxQtgG+LdzRA3dywNISrAfm21VDd4Dd5 z9qm/oZ4i1T58V1aquqyK6iXNmfq8lsDlL6x3gwRCRM81TJca55ScZv/QZPtGVazDpZv VYzZVxatPbcmxhhRELnlAYO1kFzTjKN40Eu42fA9eLRywrUFwEgskL5cNhwU8w2surSY /Ntm166dcoOQCBztEG2w0vFxjhShn+75jCUUHoPWXgT2d32zG7kfeJw5uGDlsyF/+Ooq 0bog== X-Gm-Message-State: AOJu0YxYNw4q5ATcGaEKy4zLO+F+p2xfTh5H4Qrd9r4YWvFlWWss3pWj ePQ5XNKZ/QMAhQzHx2JwCnoflvcrkrs6aZPOsnTtxAN3LFPrACdSqrvXCYW2dzBRk1JSiRYMedA 4UaTB/LAMkfvYf2KT7auzeXHNIQxaQPK/BfjDuha4JAJY X-Gm-Gg: ASbGncsuVkcIS6XC8fAaZtQsdr51Ob6KmO1vG9vZAgh7QTYpzRBicPG0TUERuBGYo8p GD1XuH/k9Kf+iwa3qz8o9sUWoPQrWPK8JPcRu+IoXhsWt3AU7b/ShOokq0XwojOECcLMwytXL0i gxdGK0XBh7vn9cuO4QsglyRseooi9MkIDq6LwJUO9EyCj6DIaLtxqkP0VrouyLGDBTTjtt7K8ix 0ClTuKuWFywFvWiZRAtBzBg/RML4uk7/yWP3clkhGlNv3XUshOMWuxDvmPa/Pcx7DqqM3nAlojB w+ocU3vVwoZvo6hG2r2JSmo9rR4QRNqMREHnlFZVOITUcHyGoA3OH0LAWdJlSoCIusy+60NGRO+ MkI9Eh68fUiA2ktadrSjvuM44lSrMcEw= X-Google-Smtp-Source: AGHT+IEw19LJnjhT4LAvQnempEF1mJpr8DVcCtXVU3FkAnNmf+7yyKk3yvc29PvAcQIR2slq9RchXuF3RkTt X-Received: by 2002:a05:6e02:2194:b0:433:7f57:22fd with SMTP id e9e14a558f8ab-43473db7027mr20636265ab.30.1762918920813; Tue, 11 Nov 2025 19:42:00 -0800 (PST) Received: from postal.iol.unh.edu (postal.iol.unh.edu. [132.177.123.84]) by smtp-relay.gmail.com with ESMTPS id e9e14a558f8ab-434733b8059sm1293055ab.30.2025.11.11.19.42.00 (version=TLS1_2 cipher=ECDHE-ECDSA-AES128-GCM-SHA256 bits=128/128); Tue, 11 Nov 2025 19:42:00 -0800 (PST) X-Relaying-Domain: iol.unh.edu Date: Tue, 11 Nov 2025 19:42:00 -0800 (PST) Message-ID: <69140208.050a0220.8bf16.6f30SMTPIN_ADDED_MISSING@mx.google.com> Received: from [172.21.0.2] (unknown [172.18.0.240]) by postal.iol.unh.edu (Postfix) with ESMTP id 56E4B6051830; Tue, 11 Nov 2025 22:42:00 -0500 (EST) Subject: |SUCCESS| pw158684-158685 [PATCH] [v6,2/2] bpf: add test for Rx and From: dpdklab@iol.unh.edu To: Test Report Cc: dpdk-test-reports@iol.unh.edu In-Reply-To: <20251111225719.540140-3-stephen@networkplumber.org> References: <20251111225719.540140-3-stephen@networkplumber.org> Content-Type: text/plain X-BeenThere: test-report@dpdk.org X-Mailman-Version: 2.1.29 Precedence: list List-Id: automatic DPDK test reports List-Unsubscribe: , List-Archive: List-Post: List-Help: List-Subscribe: , Errors-To: test-report-bounces@dpdk.org Test-Label: iol-unit-amd64-testing Test-Status: SUCCESS http://dpdk.org/patch/158685 _Testing PASS_ Submitter: Stephen Hemminger Date: Tuesday, November 11 2025 22:55:47 DPDK git baseline: Repo:dpdk Branch: master CommitID:be0112878b4fc3a1b918370ed2fe615c52039d77 158684-158685 --> testing pass Upstream job id: Generic-Unit-Test-DPDK#391288 Test environment and result as below: +-------------------------------+----------------+ | Environment | dpdk_unit_test | +===============================+================+ | Red Hat Enterprise Linux 8.10 | PASS | +-------------------------------+----------------+ | Fedora Linux 42 | PASS | +-------------------------------+----------------+ | CentOS Stream 9 | PASS | +-------------------------------+----------------+ | Fedora Linux 40 | PASS | +-------------------------------+----------------+ | Ubuntu 22.04 | PASS | +-------------------------------+----------------+ | Fedora Linux 41 | PASS | +-------------------------------+----------------+ | Red Hat Enterprise Linux 9.5 | PASS | +-------------------------------+----------------+ | Debian GNU/Linux 12 | PASS | +-------------------------------+----------------+ | CentOS Stream 10 | PASS | +-------------------------------+----------------+ | Ubuntu 20.04 | PASS | +-------------------------------+----------------+ | Ubuntu 24.04 | PASS | +-------------------------------+----------------+ Red Hat Enterprise Linux 8.10 Kernel: 5.15 Compiler: gcc gcc (GCC) 8.5.0 20210514 (Red Hat 8.5.0-22) Fedora Linux 42 Kernel: 5.15 Compiler: gcc gcc (GCC) 15.2.1 20250808 (Red Hat 15.2.1-1) CentOS Stream 9 Kernel: 5.15 Compiler: gcc gcc (GCC) 11.5.0 20240719 (Red Hat 11.5.0-11) Fedora Linux 40 Kernel: 5.15 Compiler: clang gcc (GCC) 14.2.1 20240912 (Red Hat 14.2.1-3) Ubuntu 22.04 Kernel: 5.15 Compiler: gcc gcc (Ubuntu 11.4.0-1ubuntu1~22.04) 11.4.0 Fedora Linux 41 Kernel: 5.15 Compiler: clang gcc (GCC) 14.3.1 20250523 (Red Hat 14.3.1-1) Red Hat Enterprise Linux 9.5 Kernel: 5.15 Compiler: gcc gcc (GCC) 11.5.0 20240719 (Red Hat 11.5.0-2) Debian GNU/Linux 12 Kernel: 5.15 Compiler: gcc gcc (Debian 12.2.0-14+deb12u1) 12.2.0 CentOS Stream 10 Kernel: 5.15 Compiler: gcc gcc (GCC) 14.2.1 20250110 (Red Hat 14.2.1-8) Ubuntu 20.04 Kernel: 5.15 Compiler: gcc gcc (Ubuntu 9.4.0-1ubuntu1~20.04.2) 9.4.0 Ubuntu 24.04 Kernel: 5.15 Compiler: gcc gcc (Ubuntu 13.3.0-6ubuntu2~24.04) 13.3.0 To view detailed results, visit: https://lab.dpdk.org/results/dashboard/patchsets/34542/ UNH-IOL DPDK Community Lab To manage your email subscriptions, visit: https://lab.dpdk.org/results/dashboard/preferences/subscriptions/