From mboxrd@z Thu Jan 1 00:00:00 1970 Return-Path: Received: from mails.dpdk.org (mails.dpdk.org [217.70.189.124]) by inbox.dpdk.org (Postfix) with ESMTP id EC55B48AE7 for ; Wed, 12 Nov 2025 05:58:14 +0100 (CET) Received: from mails.dpdk.org (localhost [127.0.0.1]) by mails.dpdk.org (Postfix) with ESMTP id C67C44026A; Wed, 12 Nov 2025 05:58:14 +0100 (CET) Received: from mail-pj1-f99.google.com (mail-pj1-f99.google.com [209.85.216.99]) by mails.dpdk.org (Postfix) with ESMTP id 447CD4026A for ; Wed, 12 Nov 2025 05:58:13 +0100 (CET) Received: by mail-pj1-f99.google.com with SMTP id 98e67ed59e1d1-3437ea05540so428451a91.0 for ; Tue, 11 Nov 2025 20:58:13 -0800 (PST) DKIM-Signature: v=1; a=rsa-sha256; c=relaxed/relaxed; d=iol.unh.edu; s=unh-iol; t=1762923492; x=1763528292; darn=dpdk.org; h=references:in-reply-to:cc:to:from:subject:message-id:date:from:to :cc:subject:date:message-id:reply-to; bh=ac4aZDMke7GWqYNJPEgIPk6k7xspOnoFHz+V4RZoDfI=; b=RzVlEb4ecY5Bc0WNy3MLBm0fuiCQamI6oEzqbuyOM3Al2LXibwWftvz2DPPjpYvqwj oOmlxFS/pEMF01drk8HKLqnspkTAI7OelgJqsdjlYPH9ej5+bsfPzRGyiIL67BWVYqO4 zuHC+LQrrslMsIZGHRbh4EpkFDZrIrnb+IBkA= X-Google-DKIM-Signature: v=1; a=rsa-sha256; c=relaxed/relaxed; d=1e100.net; s=20230601; t=1762923492; x=1763528292; h=references:in-reply-to:cc:to:from:subject:message-id:date:x-gm-gg :x-gm-message-state:from:to:cc:subject:date:message-id:reply-to; bh=ac4aZDMke7GWqYNJPEgIPk6k7xspOnoFHz+V4RZoDfI=; b=lWTNv6ZYhxBFOKPr+0+c3veiwgWavNv4rvaIRVGOm6HN5avUUnKBNXWm8IKlgVPrb5 eGAsCdXixwlh7uKCb/yLss52HFfeN94P99wqtuZJ6SSmfASMPHS971iE8CPnysynxi/z WuIHQT4nPJFtrm9GGA+kXKwoIvkfNOZLtGINfgVFW8yW6zchj+sWIhVp4eJzCGay24bR jKi72De/04GHZ06qHVupUtBVFTo1n42m3rQCOF1kUu2NGuGg5SJ7O/Ub/Z3XhZwYEfdM 0Q1c2dxNMjTi2gWpM7aag41hnr34bhboldrmuepT2Sr+6sZLL51PpBjdzAF5MHlXsUIJ 6uBA== X-Gm-Message-State: AOJu0YwrAxTHDs9kreCC3dxNRsIHkIs2iJYAnXAQ61RBwD6iHNECCYcG p44jUdVnLj6wP5YfBvYfd/6x5dwfi8HoNDjsgtWFsqkZJwSFz9CQI7CRwaA02+W2kDXFExexpJZ Fre/Nuu0U+3AYNXMlQvSpiIseylCpgX4LbkPDiY+GprUi X-Gm-Gg: ASbGncvquCu0VRpg/FYIKtF+Q/A6WO23AL5fJtqU6Lw80Mlz8JR5JVkx1f9IaDQr5cE jnszAUcJBmdlas4gwRWRcaLNeL+aEJ49TTqGHCt1hAxGxnshdu7jinbdLeJhcfvpFfkHQGvFy5C SeLgz3qMW9GUcVXdluGxdWDH9wsBYdhBwZpK9bvpAepgAbaIR4IuxFQOUknfglrocaU6jlWtVb0 mA22AeU2LktiymYHDuW2Qgra8Ojwv1B3SKpQO2apelGGSwTU7l0JQgCgOqBHkfEEOrZdDnOsdD1 dl8ybZKcojc/cVmpNi3/biaasqmXKbixqJiBVyuucxBfSd14i27kivl/hHQNL5OiyoHPRn87Tlr vJJPHchVdUqqa/Nt95h4RKNSd01l1vpg= X-Google-Smtp-Source: AGHT+IHCGcaNlP6ukNRngEjOJ8IXkgK2swpSPeou0FlRsb1Pv+8NDgTZGRndlkcPuFcKlOLMAf0p5AWTzmHg X-Received: by 2002:a17:90b:3512:b0:343:6108:1712 with SMTP id 98e67ed59e1d1-343dde74962mr1922544a91.18.1762923492249; Tue, 11 Nov 2025 20:58:12 -0800 (PST) Received: from postal.iol.unh.edu (postal.iol.unh.edu. [132.177.123.84]) by smtp-relay.gmail.com with ESMTPS id 98e67ed59e1d1-343e07139fasm117198a91.3.2025.11.11.20.58.12 (version=TLS1_2 cipher=ECDHE-ECDSA-AES128-GCM-SHA256 bits=128/128); Tue, 11 Nov 2025 20:58:12 -0800 (PST) X-Relaying-Domain: iol.unh.edu Date: Tue, 11 Nov 2025 20:58:12 -0800 (PST) Message-ID: <691413e4.170a0220.161b29.635eSMTPIN_ADDED_MISSING@mx.google.com> Received: from [172.21.0.2] (unknown [172.18.0.240]) by postal.iol.unh.edu (Postfix) with ESMTP id 73F456051830; Tue, 11 Nov 2025 23:58:11 -0500 (EST) Subject: |SUCCESS| pw158668 [PATCH] common/mlx5: add BlueField-4 DPU From: dpdklab@iol.unh.edu To: Test Report Cc: dpdk-test-reports@iol.unh.edu In-Reply-To: <20251111121628.75282-1-rasland@nvidia.com> References: <20251111121628.75282-1-rasland@nvidia.com> Content-Type: text/plain X-BeenThere: test-report@dpdk.org X-Mailman-Version: 2.1.29 Precedence: list List-Id: automatic DPDK test reports List-Unsubscribe: , List-Archive: List-Post: List-Help: List-Subscribe: , Errors-To: test-report-bounces@dpdk.org Test-Label: iol-unit-arm64-testing Test-Status: SUCCESS http://dpdk.org/patch/158668 _Testing PASS_ Submitter: Raslan Darawsheh Date: Tuesday, November 11 2025 12:16:28 DPDK git baseline: Repo:dpdk Branch: master CommitID:b63e7dbfb076d6a8247dcab014421d7b59e20255 158668 --> testing pass Upstream job id: Generic-Unit-Test-DPDK#391133 Test environment and result as below: +------------------------------+----------------+------------------------------+--------------+---------------------------+ | Environment | dpdk_unit_test | cryptodev_sw_snow3g_autotest | lpm_autotest | cryptodev_sw_zuc_autotest | +==============================+================+==============================+==============+===========================+ | Fedora Linux 41 | PASS | SKIPPED | SKIPPED | SKIPPED | +------------------------------+----------------+------------------------------+--------------+---------------------------+ | Fedora Linux 40 | PASS | SKIPPED | SKIPPED | SKIPPED | +------------------------------+----------------+------------------------------+--------------+---------------------------+ | CentOS Stream 9 | PASS | SKIPPED | SKIPPED | SKIPPED | +------------------------------+----------------+------------------------------+--------------+---------------------------+ | CentOS Stream 10 | PASS | SKIPPED | SKIPPED | SKIPPED | +------------------------------+----------------+------------------------------+--------------+---------------------------+ | Debian GNU/Linux 12 | PASS | SKIPPED | SKIPPED | SKIPPED | +------------------------------+----------------+------------------------------+--------------+---------------------------+ | Fedora Linux 42 | PASS | SKIPPED | SKIPPED | SKIPPED | +------------------------------+----------------+------------------------------+--------------+---------------------------+ | Ubuntu 22.04 | PASS | SKIPPED | SKIPPED | SKIPPED | +------------------------------+----------------+------------------------------+--------------+---------------------------+ | Red Hat Enterprise Linux 9.5 | PASS | SKIPPED | SKIPPED | SKIPPED | +------------------------------+----------------+------------------------------+--------------+---------------------------+ | Ubuntu 20.04 | PASS | SKIPPED | PASS | SKIPPED | +------------------------------+----------------+------------------------------+--------------+---------------------------+ | Ubuntu 24.04 | PASS | SKIPPED | SKIPPED | SKIPPED | +------------------------------+----------------+------------------------------+--------------+---------------------------+ | Debian 12 (arm) | SKIPPED | PASS | SKIPPED | PASS | +------------------------------+----------------+------------------------------+--------------+---------------------------+ Fedora Linux 41 Kernel: 5.4 Compiler: gcc gcc (GCC) 14.3.1 20250523 (Red Hat 14.3.1-1) Fedora Linux 40 Kernel: 5.4 Compiler: gcc gcc (GCC) 14.2.1 20240912 (Red Hat 14.2.1-3) CentOS Stream 9 Kernel: 5.4 Compiler: gcc gcc (GCC) 11.5.0 20240719 (Red Hat 11.5.0-11) CentOS Stream 10 Kernel: 5.4 Compiler: gcc gcc (GCC) 14.2.1 20250110 (Red Hat 14.2.1-8) Debian GNU/Linux 12 Kernel: 5.4 Compiler: gcc gcc (Debian 12.2.0-14+deb12u1) 12.2.0 Fedora Linux 42 Kernel: 5.4 Compiler: clang gcc (GCC) 15.2.1 20250808 (Red Hat 15.2.1-1) Ubuntu 22.04 Kernel: 5.4 Compiler: gcc gcc (Ubuntu 11.4.0-1ubuntu1~22.04) 11.4.0 Red Hat Enterprise Linux 9.5 Kernel: 5.4 Compiler: gcc gcc (GCC) 11.5.0 20240719 (Red Hat 11.5.0-2) Ubuntu 20.04 Kernel: 5.4 Compiler: gcc gcc (Ubuntu 9.4.0-1ubuntu1~20.04.2) 9.4.0 Ubuntu 24.04 Kernel: 5.4 Compiler: gcc gcc (Ubuntu 13.3.0-6ubuntu2~24.04) 13.3.0 Debian 12 (arm) Kernel: Depends on container host Compiler: gcc (Debian 12.2.0-14) 12.2.0 To view detailed results, visit: https://lab.dpdk.org/results/dashboard/patchsets/34536/ UNH-IOL DPDK Community Lab To manage your email subscriptions, visit: https://lab.dpdk.org/results/dashboard/preferences/subscriptions/