From mboxrd@z Thu Jan 1 00:00:00 1970 Return-Path: Received: from mails.dpdk.org (mails.dpdk.org [217.70.189.124]) by inbox.dpdk.org (Postfix) with ESMTP id 70FF148AE8 for ; Wed, 12 Nov 2025 06:11:28 +0100 (CET) Received: from mails.dpdk.org (localhost [127.0.0.1]) by mails.dpdk.org (Postfix) with ESMTP id 51EB94026A; Wed, 12 Nov 2025 06:11:28 +0100 (CET) Received: from mail-yw1-f227.google.com (mail-yw1-f227.google.com [209.85.128.227]) by mails.dpdk.org (Postfix) with ESMTP id D4BB44026A for ; Wed, 12 Nov 2025 06:11:27 +0100 (CET) Received: by mail-yw1-f227.google.com with SMTP id 00721157ae682-787c9f90eccso4602477b3.3 for ; Tue, 11 Nov 2025 21:11:27 -0800 (PST) DKIM-Signature: v=1; a=rsa-sha256; c=relaxed/relaxed; d=iol.unh.edu; s=unh-iol; t=1762924287; x=1763529087; darn=dpdk.org; h=references:in-reply-to:cc:to:from:subject:message-id:date:from:to :cc:subject:date:message-id:reply-to; bh=cjFbRs+OQ5jOlDTZYXIsFAQYLRrIyQMU1hs7+CVpt+c=; b=GXlmuJ1cL18g+AWMOMPKOV73WJOutMiiOe+HgbSYJ67+Mx2GttFmZIDeZW7yoZEqYG jrZLbfavTN8wwYhSgvtV8mp4iDcK8z2PhpeA18/kHzEejUmRUaJsrnMe2lvu0Kb8v6WX rvhxDDNqte6NuiH8SvLxy8/X57aEzPOd8oUro= X-Google-DKIM-Signature: v=1; a=rsa-sha256; c=relaxed/relaxed; d=1e100.net; s=20230601; t=1762924287; x=1763529087; h=references:in-reply-to:cc:to:from:subject:message-id:date:x-gm-gg :x-gm-message-state:from:to:cc:subject:date:message-id:reply-to; bh=cjFbRs+OQ5jOlDTZYXIsFAQYLRrIyQMU1hs7+CVpt+c=; b=W8KUyAf8gZYKhZXgKUEmguFIi/hEA4t93g8OaGqs1oP20R/RVsIp/vGOtMUWG6zjdK DgSFJFsrU5D9B+gFgzgGytwyJQXO/3LzjB/4blLJVF07PlKAOeGBYiJ/tFxlVAjtppZX 2NtYmQp0GC7yrk7Ucp/IvtVZCUnSLApNUO6WK6Hh6iUe0LONqiJPavE2vhzs+KN1Zxar D2ciW2hlD2jdb0AV2s4FG+KVMID/htVhHHEhaLMXLF2UZl+PPQ3pyauR+e721J8FT59R wSH8VckItq2MbW62GrFNLbOt7McNUIbgITxg44hrSWY/5gtRtcTpA6Trq2az1O573nM+ ipJg== X-Gm-Message-State: AOJu0Yy16bRG16tjaYAKInGcy1QTV3XD2VFo/KgQoLpHr+XaWcUloP7H EsaJo82Pp6ObjeIaajUfcQ+/U3KDwv3PrN9QYC4gFa2VlRxx0pocEbJZc6cckKI34l/4n331+e6 OBs3YcdK8VLkGQfyPJoeIsq+Tcl9VpQ+JzPFBGuquHhIW X-Gm-Gg: ASbGncvpdA947Xew412E0yJw/4oaqok/MCquvr3h6izI41yHrUmEWggQTignW8iY8G6 hxcX/k4duibKwUE3FHfB2W1ioVhx1Eoqr//fEoGdmKOx3vC78CizCift934SPRFpnyIslrwLkF6 KA66qR+RjtC+i4Xqp1XJ8+lMY1WpkiSr3FEPX6MSeygu1l0EkIpMc59ctqdQjzoMSeWe7AUV10J X4GdO2cMgV7oFmHl8F69Yluv3zy8CJXPilY1rMmlde4Qm+sk8+M1bH4sOFiGmrso1KbcuBq6CDx FmK7QL6pAqe/cXeP92BeG8LNGWgDWsLlVq/N7/lcaoVKLyxA8s88DRq5jX7K5/HObG91WwmI7z+ DKx/zg913wAnfRTTSt7k/9T9CZDN+/co= X-Google-Smtp-Source: AGHT+IGkZbqBjxTKJgR7H8N2pPSWiEvVJXzVxrt+ES0r2X8XJHsMCTxDAVR7oaljYZ8QhPeetFB5q5iYocPb X-Received: by 2002:a05:690c:6892:b0:784:8cb4:d935 with SMTP id 00721157ae682-788136d0abbmr14755697b3.65.1762924287110; Tue, 11 Nov 2025 21:11:27 -0800 (PST) Received: from postal.iol.unh.edu (postal.iol.unh.edu. [132.177.123.84]) by smtp-relay.gmail.com with ESMTPS id 00721157ae682-788105f607dsm1107977b3.2.2025.11.11.21.11.27 (version=TLS1_2 cipher=ECDHE-ECDSA-AES128-GCM-SHA256 bits=128/128); Tue, 11 Nov 2025 21:11:27 -0800 (PST) X-Relaying-Domain: iol.unh.edu Date: Tue, 11 Nov 2025 21:11:27 -0800 (PST) Message-ID: <691416ff.050a0220.198cf.6851SMTPIN_ADDED_MISSING@mx.google.com> Received: from [172.21.0.3] (unknown [172.18.0.240]) by postal.iol.unh.edu (Postfix) with ESMTP id 94F8B6050A61; Wed, 12 Nov 2025 00:11:26 -0500 (EST) Subject: |SUCCESS| pw158653 [PATCH] crypto/cnxk: add CPT CQ support for cn20k From: dpdklab@iol.unh.edu To: Test Report Cc: dpdk-test-reports@iol.unh.edu, Akhil Goyal In-Reply-To: <20251111111643.2279586-1-ktejasree@marvell.com> References: <20251111111643.2279586-1-ktejasree@marvell.com> Content-Type: text/plain X-BeenThere: test-report@dpdk.org X-Mailman-Version: 2.1.29 Precedence: list List-Id: automatic DPDK test reports List-Unsubscribe: , List-Archive: List-Post: List-Help: List-Subscribe: , Errors-To: test-report-bounces@dpdk.org Test-Label: iol-compile-arm64-testing Test-Status: SUCCESS http://dpdk.org/patch/158653 _Testing PASS_ Submitter: Tejasree Kondoj Date: Tuesday, November 11 2025 11:16:43 DPDK git baseline: Repo:dpdk-next-crypto Branch: master CommitID:8ae4f1d511226fd65a979e9f8a1e51835281a59b 158653 --> testing pass Upstream job id: Generic-DPDK-Compile-Meson#442971 Test environment and result as below: +------------------------------+--------------------+ | Environment | dpdk_meson_compile | +==============================+====================+ | Ubuntu 20.04 | PASS | +------------------------------+--------------------+ | Red Hat Enterprise Linux 9.5 | PASS | +------------------------------+--------------------+ | Debian GNU/Linux 12 | PASS | +------------------------------+--------------------+ | Fedora Linux 42 | PASS | +------------------------------+--------------------+ | Ubuntu 22.04 | PASS | +------------------------------+--------------------+ | Ubuntu 24.04 | PASS | +------------------------------+--------------------+ | CentOS Stream 9 | PASS | +------------------------------+--------------------+ | CentOS Stream 10 | PASS | +------------------------------+--------------------+ Ubuntu 20.04 Kernel: 5.15 Compiler: aarch64-linux-gnu-gcc gcc (Ubuntu 9.4.0-1ubuntu1~20.04.2) 9.4.0 Red Hat Enterprise Linux 9.5 Kernel: 5.4 Compiler: gcc gcc (GCC) 11.5.0 20240719 (Red Hat 11.5.0-2) Debian GNU/Linux 12 Kernel: 5.4 Compiler: gcc gcc (Debian 12.2.0-14+deb12u1) 12.2.0 Fedora Linux 42 Kernel: 5.4 Compiler: gcc gcc (GCC) 15.2.1 20250808 (Red Hat 15.2.1-1) Ubuntu 22.04 Kernel: 5.4 Compiler: gcc gcc (Ubuntu 11.4.0-1ubuntu1~22.04) 11.4.0 Ubuntu 24.04 Kernel: 5.4 Compiler: gcc gcc (Ubuntu 13.3.0-6ubuntu2~24.04) 13.3.0 CentOS Stream 9 Kernel: 5.4 Compiler: gcc gcc (GCC) 11.5.0 20240719 (Red Hat 11.5.0-11) CentOS Stream 10 Kernel: 5.4 Compiler: gcc gcc (GCC) 14.2.1 20250110 (Red Hat 14.2.1-8) To view detailed results, visit: https://lab.dpdk.org/results/dashboard/patchsets/34532/ UNH-IOL DPDK Community Lab To manage your email subscriptions, visit: https://lab.dpdk.org/results/dashboard/preferences/subscriptions/