From mboxrd@z Thu Jan 1 00:00:00 1970 Return-Path: Received: from mails.dpdk.org (mails.dpdk.org [217.70.189.124]) by inbox.dpdk.org (Postfix) with ESMTP id 699A848AE8 for ; Wed, 12 Nov 2025 06:11:50 +0100 (CET) Received: from mails.dpdk.org (localhost [127.0.0.1]) by mails.dpdk.org (Postfix) with ESMTP id 6393E4026A; Wed, 12 Nov 2025 06:11:50 +0100 (CET) Received: from mail-qt1-f227.google.com (mail-qt1-f227.google.com [209.85.160.227]) by mails.dpdk.org (Postfix) with ESMTP id C2FC84026A for ; Wed, 12 Nov 2025 06:11:49 +0100 (CET) Received: by mail-qt1-f227.google.com with SMTP id d75a77b69052e-4e88cacc5d9so4146231cf.0 for ; Tue, 11 Nov 2025 21:11:49 -0800 (PST) DKIM-Signature: v=1; a=rsa-sha256; c=relaxed/relaxed; d=iol.unh.edu; s=unh-iol; t=1762924309; x=1763529109; darn=dpdk.org; h=references:in-reply-to:cc:to:from:subject:message-id:date:from:to :cc:subject:date:message-id:reply-to; bh=/xD37tk84glg6uwVQlgkSIlHNImh3lRgwRe8ZHyNU6E=; b=NKCluGVzx/vE7jTKi3p+a0fQLPc9mLWgodurMHzB6ouXbvjPxYVSJ/m29V2gHnDSM2 MOn8bk23wV3wLQCdZBTDYoI1hkEhXZd8/0Hqcz61DwN1sz+AEOu2hQnLUEZ8Ikopg3mq zKmk2tPn266t0sQZ6ntfC0O+fwrJuYIz0/XFE= X-Google-DKIM-Signature: v=1; a=rsa-sha256; c=relaxed/relaxed; d=1e100.net; s=20230601; t=1762924309; x=1763529109; h=references:in-reply-to:cc:to:from:subject:message-id:date:x-gm-gg :x-gm-message-state:from:to:cc:subject:date:message-id:reply-to; bh=/xD37tk84glg6uwVQlgkSIlHNImh3lRgwRe8ZHyNU6E=; b=Ed/cxiLyjfQq7oDz9ryFWMdgNQq+9wu81157gBvqAgJ4APNxq2k6hpTY/9esPjeHOP QYj7Byw/os4IsIXZq+Q3p36Tbpr7qfgwNHjMNdbtFOHT1mt5Z/S6YlBVkW3FPtQ/ayN6 sN40Y16FQMMeHW197Badenszz329n8O8sYYCPoZdMrIKBtnKJUa7nAF+O8s0uILdFe0j cmwUyWuwURHy51f/gHIkKH6UN5m1fiRBC95SM5prQmhekQ4hPZAgrEW+A0pKV+/O2WEr bsCBKyxdzLH47XGJMfA3e0GdbpBlzFB66ilhxUGpTK7samonKsrXxJzcNfAiFjcxl8P0 oR0g== X-Gm-Message-State: AOJu0YxXWEhbzmmzDymj3hL4imFdQruonzeb0d/q+tJ7k3q5tZFQGSb2 o0pwfmxAyOadibvV2zrcsDVRgMo5e72lnR4SIMnXApaaa+lIfPbX4Tfsj/DtvoszZXkK4VBo4C1 usU3MWx9+9Xvienh/4dNRbZccEkmgk4G4/CsofFU4OdXw X-Gm-Gg: ASbGncudV6vZEZfMMtjMIb7YpgflVwbjmTGjWtMg9rHIAgk/51refxdeFcHXo0F/CVu ZdqRzvYPLIPXJyLgDuh9lbUxei0kYwoZHAFnjaeKEC8zWkKn4ZkQFpJu7jlfXepN++iwd+wNZ5A SQtB2zQaomH35wO+1PxLfDyeQeRSkSnJRyJhny1fNHd4R7XDrIoBucWIlUIKC2H29M/gvf1Tx6G 6mXux/TBWmjwy1UPAyMe78bF2EVL42ccNQVSQLQIdoLgZiEZ49jb64hdkSui5pbZQStH/VEBrRE Yp1Ai9PWO9proKU031c3wNwLSP3wDQZ2b1p3Q8EIytm0GsJBaPIuKPQwGj/sxZ3+fIGkb1npCVH h7J+SrPB/TxXxWheIGO3J3BdBl44tnH4= X-Google-Smtp-Source: AGHT+IHpnnQ08Moue7sClmLLgJy3nSFAKKtzKC8jUwgOWtPGjhtHrFIlSUmAIKd4pMPvTOYiX9sAY99mIHx3 X-Received: by 2002:a05:622a:1a97:b0:4ed:3d26:e819 with SMTP id d75a77b69052e-4eddbc4df63mr25798381cf.2.1762924309120; Tue, 11 Nov 2025 21:11:49 -0800 (PST) Received: from postal.iol.unh.edu (postal.iol.unh.edu. [132.177.123.84]) by smtp-relay.gmail.com with ESMTPS id 6a1803df08f44-88238b215dfsm13048786d6.22.2025.11.11.21.11.49 (version=TLS1_2 cipher=ECDHE-ECDSA-AES128-GCM-SHA256 bits=128/128); Tue, 11 Nov 2025 21:11:49 -0800 (PST) X-Relaying-Domain: iol.unh.edu Date: Tue, 11 Nov 2025 21:11:49 -0800 (PST) Message-ID: <69141715.050a0220.2a5f47.1efcSMTPIN_ADDED_MISSING@mx.google.com> Received: from [172.21.0.5] (unknown [172.18.0.240]) by postal.iol.unh.edu (Postfix) with ESMTP id D89EF6050A61; Wed, 12 Nov 2025 00:11:48 -0500 (EST) Subject: |SUCCESS| pw158655-158657 [PATCH] [v2,4/4] net/nbl: add IOVA mode ch From: dpdklab@iol.unh.edu To: Test Report Cc: dpdk-test-reports@iol.unh.edu, Stephen Hemminger In-Reply-To: <20251111113144.3567291-5-dimon.zhao@nebula-matrix.com> References: <20251111113144.3567291-5-dimon.zhao@nebula-matrix.com> Content-Type: text/plain X-BeenThere: test-report@dpdk.org X-Mailman-Version: 2.1.29 Precedence: list List-Id: automatic DPDK test reports List-Unsubscribe: , List-Archive: List-Post: List-Help: List-Subscribe: , Errors-To: test-report-bounces@dpdk.org Test-Label: iol-compile-arm64-testing Test-Status: SUCCESS http://dpdk.org/patch/158657 _Testing PASS_ Submitter: Dimon Zhao Date: Tuesday, November 11 2025 11:31:43 DPDK git baseline: Repo:dpdk-next-net Branch: master CommitID:591ee7f468aebec30d68d30afa8d5e4dcfc897dc 158655-158657 --> testing pass Upstream job id: Generic-DPDK-Compile-Meson#443017 Test environment and result as below: +------------------------------+--------------------+ | Environment | dpdk_meson_compile | +==============================+====================+ | Red Hat Enterprise Linux 9.5 | PASS | +------------------------------+--------------------+ | Ubuntu 20.04 | PASS | +------------------------------+--------------------+ | Debian GNU/Linux 12 | PASS | +------------------------------+--------------------+ | Fedora Linux 42 | PASS | +------------------------------+--------------------+ | Ubuntu 22.04 | PASS | +------------------------------+--------------------+ | Ubuntu 24.04 | PASS | +------------------------------+--------------------+ | CentOS Stream 9 | PASS | +------------------------------+--------------------+ | CentOS Stream 10 | PASS | +------------------------------+--------------------+ Red Hat Enterprise Linux 9.5 Kernel: 5.4 Compiler: gcc gcc (GCC) 11.5.0 20240719 (Red Hat 11.5.0-2) Ubuntu 20.04 Kernel: 5.15 Compiler: aarch64-linux-gnu-gcc gcc (Ubuntu 9.4.0-1ubuntu1~20.04.2) 9.4.0 Debian GNU/Linux 12 Kernel: 5.4 Compiler: gcc gcc (Debian 12.2.0-14+deb12u1) 12.2.0 Fedora Linux 42 Kernel: 5.4 Compiler: gcc gcc (GCC) 15.2.1 20250808 (Red Hat 15.2.1-1) Ubuntu 22.04 Kernel: 5.4 Compiler: gcc gcc (Ubuntu 11.4.0-1ubuntu1~22.04) 11.4.0 Ubuntu 24.04 Kernel: 5.4 Compiler: gcc gcc (Ubuntu 13.3.0-6ubuntu2~24.04) 13.3.0 CentOS Stream 9 Kernel: 5.4 Compiler: gcc gcc (GCC) 11.5.0 20240719 (Red Hat 11.5.0-11) CentOS Stream 10 Kernel: 5.4 Compiler: gcc gcc (GCC) 14.2.1 20250110 (Red Hat 14.2.1-8) To view detailed results, visit: https://lab.dpdk.org/results/dashboard/patchsets/34534/ UNH-IOL DPDK Community Lab To manage your email subscriptions, visit: https://lab.dpdk.org/results/dashboard/preferences/subscriptions/