From mboxrd@z Thu Jan 1 00:00:00 1970 Return-Path: Received: from mails.dpdk.org (mails.dpdk.org [217.70.189.124]) by inbox.dpdk.org (Postfix) with ESMTP id 78AEE48AE8 for ; Wed, 12 Nov 2025 06:12:11 +0100 (CET) Received: from mails.dpdk.org (localhost [127.0.0.1]) by mails.dpdk.org (Postfix) with ESMTP id 7351D4026A; Wed, 12 Nov 2025 06:12:11 +0100 (CET) Received: from mail-qv1-f97.google.com (mail-qv1-f97.google.com [209.85.219.97]) by mails.dpdk.org (Postfix) with ESMTP id 8CA284026A for ; Wed, 12 Nov 2025 06:12:10 +0100 (CET) Received: by mail-qv1-f97.google.com with SMTP id 6a1803df08f44-88043139c35so5181426d6.0 for ; Tue, 11 Nov 2025 21:12:10 -0800 (PST) DKIM-Signature: v=1; a=rsa-sha256; c=relaxed/relaxed; d=iol.unh.edu; s=unh-iol; t=1762924330; x=1763529130; darn=dpdk.org; h=references:in-reply-to:cc:to:from:subject:message-id:date:from:to :cc:subject:date:message-id:reply-to; bh=GpExGQaE/5hud+tnNE1lzA7KtzG+vLyPVjZr8oB2Lbc=; b=JgpvR95oYVA1dp+t/8dd9FWYdiamZCDRQLEY0OkohS1qRDqGJMKe5YzOXrykb6TY+N SrixgTRVIYRDzFt/FdyF2/Cr1HgDhG79VrGHQnyt+dFtb9NyFoU9SIRATaG01ljW99q0 QLseya9BF89azvOZM9P4odnKnUfbp1zYBIU3Y= X-Google-DKIM-Signature: v=1; a=rsa-sha256; c=relaxed/relaxed; d=1e100.net; s=20230601; t=1762924330; x=1763529130; h=references:in-reply-to:cc:to:from:subject:message-id:date:x-gm-gg :x-gm-message-state:from:to:cc:subject:date:message-id:reply-to; bh=GpExGQaE/5hud+tnNE1lzA7KtzG+vLyPVjZr8oB2Lbc=; b=RkL6amijkni8flF3j/KxYvwicH9ln9UPCCkc7YTNJLdi4qzPdgxMcGIT6/Fct67Enw G1606vOaxLToqJGBt8hLS/XXCv/d/2ADQjQiHJB8Uwcmaks4lQ7V8hEyfmRfY/T1GwU+ clnAU7JcsVYwoIgxCl0SqVMOUn97Jf9UWW2qDSM3qWNgHGVH+tFjIL1WQZW6AUc5oaSg SPd2IHVH3Fffn7g1s/Lzh3rpFMpBJTMELVmZPVSAiUq5REblWwLOzjuzkv3gOdP4b0st vWvtu/GsPhQ+kp4BOjrcN4vbGjwiJ7MfK3xcs+JN4Pg944J6kVjUp2pndWzMIGksBCR1 Rnng== X-Gm-Message-State: AOJu0YwtJgpyNAeIWUrZIp9jy+SR3b6BTOZTL1hQjYn5i3am9EUoZjnk EJRICplyJs6xq7OFBTNfm5kFgF6XXIlwSM3Wqz5DzmwQQcwCubEgnOyisjyoLvCzfhw+vZpdRzV Dl1byHFRAbGe/nf1xGv5ldPZzUYPHzqXdcd6jboSjVkGL6vBZA51qYTeXcOOI X-Gm-Gg: ASbGncvBKZ0aeNEVsPPRFxV7DQCRkRWIiispFDbxSrR90t3uyGffnlMSEropXIL2aGo 8ckhty5vr1JYI2DwZjnkZIMsRIWWYSnXi7Jvj2DfstLLLg5XaZq+3E2CUOOrZI9qXqJDt9vfQYj OYQhYLiwt68UR+0VVH/RHv1qX6043RlPPeozBd6qhdzd0bUHEuXuXEQq/lF3ouT57cL9fzg5LR9 eM7bCnpzO24yLDWvxuX5Z96SCQHAnXslOpuULnoAdMVJbovgISUxkAJGVku+U3lEUxv0cywxfKK 62LxC9L90xxwomM/TYtfBwEzpr0j6gN7xaoipVw8S2ZdJriD7FM+4QMyOO3kVS3pSkQpPG6aiuU XMaaEZtlE X-Google-Smtp-Source: AGHT+IEXCbJqSVZd88NJcnthEvUUxSA0ERpWpvGnt9+ntnjigzbOOO7+9Y3q17L9bJcSbwaiMcgNVpDBnGak X-Received: by 2002:ad4:5ba4:0:b0:880:44ca:862a with SMTP id 6a1803df08f44-882718ce682mr27637046d6.12.1762924329847; Tue, 11 Nov 2025 21:12:09 -0800 (PST) Received: from postal.iol.unh.edu (postal.iol.unh.edu. [2606:4100:3880:1234::84]) by smtp-relay.gmail.com with ESMTPS id 6a1803df08f44-8823885afeasm13947876d6.0.2025.11.11.21.12.09 (version=TLS1_2 cipher=ECDHE-ECDSA-AES128-GCM-SHA256 bits=128/128); Tue, 11 Nov 2025 21:12:09 -0800 (PST) X-Relaying-Domain: iol.unh.edu Date: Tue, 11 Nov 2025 21:12:09 -0800 (PST) Message-ID: <69141729.050a0220.362138.8a88SMTPIN_ADDED_MISSING@mx.google.com> Received: from [172.21.0.3] (unknown [172.18.0.240]) by postal.iol.unh.edu (Postfix) with ESMTP id 9D5B76050A61; Wed, 12 Nov 2025 00:12:09 -0500 (EST) Subject: |SUCCESS| pw158663-158667 [PATCH] [v4,5/5] vhost_user: Increase numb From: dpdklab@iol.unh.edu To: Test Report Cc: dpdk-test-reports@iol.unh.edu, Chenbo Xia , Maxime Coquelin In-Reply-To: <20251111114521.2902867-6-pravin.bathija@dell.com> References: <20251111114521.2902867-6-pravin.bathija@dell.com> Content-Type: text/plain X-BeenThere: test-report@dpdk.org X-Mailman-Version: 2.1.29 Precedence: list List-Id: automatic DPDK test reports List-Unsubscribe: , List-Archive: List-Post: List-Help: List-Subscribe: , Errors-To: test-report-bounces@dpdk.org Test-Label: iol-compile-arm64-testing Test-Status: SUCCESS http://dpdk.org/patch/158667 _Testing PASS_ Submitter: Pravin M Bathija Date: Tuesday, November 11 2025 11:45:21 DPDK git baseline: Repo:dpdk-next-virtio Branch: master CommitID:6b37c26a95388aa41bb5267c7c42f604fd571a38 158663-158667 --> testing pass Upstream job id: Generic-DPDK-Compile-Meson#443046 Test environment and result as below: +------------------------------+--------------------+ | Environment | dpdk_meson_compile | +==============================+====================+ | Red Hat Enterprise Linux 9.5 | PASS | +------------------------------+--------------------+ | Ubuntu 20.04 | PASS | +------------------------------+--------------------+ | Debian GNU/Linux 12 | PASS | +------------------------------+--------------------+ | Fedora Linux 42 | PASS | +------------------------------+--------------------+ | Ubuntu 22.04 | PASS | +------------------------------+--------------------+ | Ubuntu 24.04 | PASS | +------------------------------+--------------------+ | CentOS Stream 9 | PASS | +------------------------------+--------------------+ | CentOS Stream 10 | PASS | +------------------------------+--------------------+ Red Hat Enterprise Linux 9.5 Kernel: 5.4 Compiler: gcc gcc (GCC) 11.5.0 20240719 (Red Hat 11.5.0-2) Ubuntu 20.04 Kernel: 5.15 Compiler: aarch64-linux-gnu-gcc gcc (Ubuntu 9.4.0-1ubuntu1~20.04.2) 9.4.0 Debian GNU/Linux 12 Kernel: 5.4 Compiler: gcc gcc (Debian 12.2.0-14+deb12u1) 12.2.0 Fedora Linux 42 Kernel: 5.4 Compiler: gcc gcc (GCC) 15.2.1 20250808 (Red Hat 15.2.1-1) Ubuntu 22.04 Kernel: 5.4 Compiler: gcc gcc (Ubuntu 11.4.0-1ubuntu1~22.04) 11.4.0 Ubuntu 24.04 Kernel: 5.4 Compiler: gcc gcc (Ubuntu 13.3.0-6ubuntu2~24.04) 13.3.0 CentOS Stream 9 Kernel: 5.4 Compiler: gcc gcc (GCC) 11.5.0 20240719 (Red Hat 11.5.0-11) CentOS Stream 10 Kernel: 5.4 Compiler: gcc gcc (GCC) 14.2.1 20250110 (Red Hat 14.2.1-8) To view detailed results, visit: https://lab.dpdk.org/results/dashboard/patchsets/34535/ UNH-IOL DPDK Community Lab To manage your email subscriptions, visit: https://lab.dpdk.org/results/dashboard/preferences/subscriptions/