From mboxrd@z Thu Jan 1 00:00:00 1970 Return-Path: Received: from mails.dpdk.org (mails.dpdk.org [217.70.189.124]) by inbox.dpdk.org (Postfix) with ESMTP id 7914048AE8 for ; Wed, 12 Nov 2025 07:59:16 +0100 (CET) Received: from mails.dpdk.org (localhost [127.0.0.1]) by mails.dpdk.org (Postfix) with ESMTP id 72E7D4026A; Wed, 12 Nov 2025 07:59:16 +0100 (CET) Received: from mail-pf1-f225.google.com (mail-pf1-f225.google.com [209.85.210.225]) by mails.dpdk.org (Postfix) with ESMTP id F0AF24026A for ; Wed, 12 Nov 2025 07:59:15 +0100 (CET) Received: by mail-pf1-f225.google.com with SMTP id d2e1a72fcca58-7acd9a03ba9so425175b3a.1 for ; Tue, 11 Nov 2025 22:59:15 -0800 (PST) DKIM-Signature: v=1; a=rsa-sha256; c=relaxed/relaxed; d=iol.unh.edu; s=unh-iol; t=1762930755; x=1763535555; darn=dpdk.org; h=cc:to:from:subject:message-id:date:from:to:cc:subject:date :message-id:reply-to; bh=9MvFd93AQ3nqX5oHr2nruicGt0VuFrc7bNLOboMV270=; b=X58MEDLTWO7YeHVAlacjyPf8Z7SYvRc8ttD9Y0tBqF3966lQomKvH39G6EYvSApAFD jpDCem/FkeXT6hAH4VCKhfbkCtYo4No+TpOrh3FAeTzdLfrcVrRja2q8a1hYZNKCR+u+ DAwDoa8g7zluy14vcjsLordl2HfNhU3K+x1Ms= X-Google-DKIM-Signature: v=1; a=rsa-sha256; c=relaxed/relaxed; d=1e100.net; s=20230601; t=1762930755; x=1763535555; h=cc:to:from:subject:message-id:date:x-gm-gg:x-gm-message-state:from :to:cc:subject:date:message-id:reply-to; bh=9MvFd93AQ3nqX5oHr2nruicGt0VuFrc7bNLOboMV270=; b=BYxYy5nv4ixMOOT/dmnrJ47mdatz9K0oiMBV+n3rSxXj0Y20LejOdiSxGE+lTRJ/sB AIAbv8i31uDx4WaiNmpj5C9fgrtlshY0zL+t4EJ6GfXZexBPzVlHqs3QZS6VD6IV5aa7 alCyh2b0ObLgbX4b8hypLLLfpxPKqYKWj7LjCQBw82iqcl/oUgvPJ2GtMOtkoX0EAe5f w8BwJ2bcfvTGuDTiiclb6FlYmRL+SoN79EwhpzBTiKOE7RADGyqo0DR7xwsGieyYTvD8 6w2HD6xDfWQ39rZwbzUmXixu/x5uC9/6vnYQGcsoQVrwDNesK4lwujbBhl0HXltKfy+R kjvQ== X-Gm-Message-State: AOJu0Yx+XAIxIXEooL+MwpVp4FPHSzoTtlKuWRwt2f1gFG/t6fDpJOj4 R95rnuw7Co3CqgZmzKDNzzAJKc3c0sQ+EXAvFZ7jn6HJd2I9yqeIV0oq4uw6JMPOy8M7r8CZquZ xVlCdCVlZP88PxfgwWPg0QNmzXU3sgeLzqc7n X-Gm-Gg: ASbGnctYhDypWNqA3O8zhXsFvVoKGmMVjqA9qytI0Cqh9PWsO5Hx6YIYkaOFZrCHTFi U7tJ6gUSM7Ad+u84H0JhzKFvhXgCj33ILvVan2/YDg9/WQAI6mKEQDsqYx1WC0iV+e/nsl3A2bp 3DvB9LxfgIc0emMcjtWPWEB7GhxkLQbQ3AxzItNPhQDI7irlf8NAQuNUimJ+1GNvzm2XuUwFv0T KArqzQsDHxeUxjfkLM1jaWgw55vMI+cuGUYwM+UFg7xxW0OzWx1CFRorgVTG7ZnYNNWjEbplYUu JNmx+OTUYPtATu/FC7YgTmSPaRUtNyxqwhZ7rECsn+IHTWZEMPkkM2ayriCHfqm56KCeAaUT+kA 7Za9hZryoDmb/o0OOC0+Qr4fsQQxjmvg= X-Google-Smtp-Source: AGHT+IE/WjbIblzmhEGRGNAtO0fQCvjBnQeG5PsVAMxNHssvLXRpK92FtAP2Hvsreh4dACHsDBJ2CSO9mfd0 X-Received: by 2002:a05:6a20:3945:b0:357:6939:81f1 with SMTP id adf61e73a8af0-3590909223amr2678852637.10.1762930755027; Tue, 11 Nov 2025 22:59:15 -0800 (PST) Received: from postal.iol.unh.edu (postal.iol.unh.edu. [132.177.123.84]) by smtp-relay.gmail.com with ESMTPS id 41be03b00d2f7-bbf06e811d1sm157566a12.0.2025.11.11.22.59.14 (version=TLS1_2 cipher=ECDHE-ECDSA-AES128-GCM-SHA256 bits=128/128); Tue, 11 Nov 2025 22:59:15 -0800 (PST) X-Relaying-Domain: iol.unh.edu Date: Tue, 11 Nov 2025 22:59:15 -0800 (PST) Message-ID: <69143043.050a0220.8aa73.83ccSMTPIN_ADDED_MISSING@mx.google.com> Received: from [172.21.0.3] (unknown [172.18.0.240]) by postal.iol.unh.edu (Postfix) with ESMTP id 4AACA6051830; Wed, 12 Nov 2025 01:59:14 -0500 (EST) Subject: |SUCCESS| [GIT MASTER] 0bd935abcb823f581ce53986986aa54eaf6f8140 From: dpdklab@iol.unh.edu To: Test Report Cc: dpdk-test-reports@iol.unh.edu, Xueming Li , Christian Ehrhardt , Kevin Traynor , Luca Boccassi Content-Type: text/plain X-BeenThere: test-report@dpdk.org X-Mailman-Version: 2.1.29 Precedence: list List-Id: automatic DPDK test reports List-Unsubscribe: , List-Archive: List-Post: List-Help: List-Subscribe: , Errors-To: test-report-bounces@dpdk.org _Testing PASS_ Branch: tags/v24.11 0bd935abcb823f581ce53986986aa54eaf6f8140 --> testing pass Upstream job id: Generic-Unit-Test-DPDK#391380 Test environment and result as below: +-------------------------------+----------------+ | Environment | dpdk_unit_test | +===============================+================+ | Fedora Linux 40 | PASS | +-------------------------------+----------------+ | Fedora Linux 41 | PASS | +-------------------------------+----------------+ | Debian GNU/Linux 12 | PASS | +-------------------------------+----------------+ | CentOS Stream 10 | PASS | +-------------------------------+----------------+ | CentOS Stream 9 | PASS | +-------------------------------+----------------+ | Red Hat Enterprise Linux 8.10 | PASS | +-------------------------------+----------------+ | Red Hat Enterprise Linux 9.5 | PASS | +-------------------------------+----------------+ | Ubuntu 24.04 | PASS | +-------------------------------+----------------+ | Fedora Linux 42 | PASS | +-------------------------------+----------------+ | Ubuntu 22.04 | PASS | +-------------------------------+----------------+ | Ubuntu 20.04 | PASS | +-------------------------------+----------------+ Fedora Linux 40 Kernel: 5.15 Compiler: gcc gcc (GCC) 14.2.1 20240912 (Red Hat 14.2.1-3) Fedora Linux 41 Kernel: 5.15 Compiler: gcc gcc (GCC) 14.3.1 20250523 (Red Hat 14.3.1-1) Debian GNU/Linux 12 Kernel: 5.15 Compiler: gcc gcc (Debian 12.2.0-14+deb12u1) 12.2.0 CentOS Stream 10 Kernel: 5.15 Compiler: gcc gcc (GCC) 14.2.1 20250110 (Red Hat 14.2.1-8) CentOS Stream 9 Kernel: 5.15 Compiler: gcc gcc (GCC) 11.5.0 20240719 (Red Hat 11.5.0-11) Red Hat Enterprise Linux 8.10 Kernel: 5.15 Compiler: gcc gcc (GCC) 8.5.0 20210514 (Red Hat 8.5.0-22) Red Hat Enterprise Linux 9.5 Kernel: 5.15 Compiler: gcc gcc (GCC) 11.5.0 20240719 (Red Hat 11.5.0-2) Ubuntu 24.04 Kernel: 5.15 Compiler: gcc gcc (Ubuntu 13.3.0-6ubuntu2~24.04) 13.3.0 Fedora Linux 42 Kernel: 5.15 Compiler: clang gcc (GCC) 15.2.1 20250808 (Red Hat 15.2.1-1) Ubuntu 22.04 Kernel: 5.15 Compiler: gcc gcc (Ubuntu 11.4.0-1ubuntu1~22.04) 11.4.0 Ubuntu 20.04 Kernel: 5.15 Compiler: gcc gcc (Ubuntu 9.4.0-1ubuntu1~20.04.2) 9.4.0 To view detailed results, visit: https://lab.dpdk.org/results/dashboard/tarballs/35551/ UNH-IOL DPDK Community Lab To manage your email subscriptions, visit: https://lab.dpdk.org/results/dashboard/preferences/subscriptions/