From mboxrd@z Thu Jan 1 00:00:00 1970 Return-Path: Received: from mails.dpdk.org (mails.dpdk.org [217.70.189.124]) by inbox.dpdk.org (Postfix) with ESMTP id 3413248AEA for ; Wed, 12 Nov 2025 08:56:25 +0100 (CET) Received: from mails.dpdk.org (localhost [127.0.0.1]) by mails.dpdk.org (Postfix) with ESMTP id 1341A4026A; Wed, 12 Nov 2025 08:56:25 +0100 (CET) Received: from mail-pl1-f227.google.com (mail-pl1-f227.google.com [209.85.214.227]) by mails.dpdk.org (Postfix) with ESMTP id 696A24026A for ; Wed, 12 Nov 2025 08:56:23 +0100 (CET) Received: by mail-pl1-f227.google.com with SMTP id d9443c01a7336-2958db8ae4fso4932595ad.2 for ; Tue, 11 Nov 2025 23:56:23 -0800 (PST) DKIM-Signature: v=1; a=rsa-sha256; c=relaxed/relaxed; d=iol.unh.edu; s=unh-iol; t=1762934182; x=1763538982; darn=dpdk.org; h=references:in-reply-to:cc:to:from:subject:message-id:date:from:to :cc:subject:date:message-id:reply-to; bh=0Yrm94gLsARlrupLCtXrwfSNNYxbmjH7bshLR7HFlrQ=; b=LBgTYDI+v5BsBRGqvgpLVzgSNwNhXMH1CPCH2pgs51a9roXzncMAWlChnWmEe9RqpD wJwOa/mUK5KNe7biSqwvQaFpBcLcjQTZpWH5iVt1COoChXyV4Q/qMNEtHUYcq5lEumQy 1dsoh3y9KhrqasgjrmMsxHmJxSJ42gGxCpTwQ= X-Google-DKIM-Signature: v=1; a=rsa-sha256; c=relaxed/relaxed; d=1e100.net; s=20230601; t=1762934182; x=1763538982; h=references:in-reply-to:cc:to:from:subject:message-id:date:x-gm-gg :x-gm-message-state:from:to:cc:subject:date:message-id:reply-to; bh=0Yrm94gLsARlrupLCtXrwfSNNYxbmjH7bshLR7HFlrQ=; b=JHw23dtRYELSE2WkEhuOejThk0Eah/oEmWICuYRNK/hs9NosMAJHxfRxy5HR5qweL0 uRW5QwNN/0//9Mgp/VjIsjQpg1CWsyiElDn2hLtrkbjMypPnedzm7ibhN4kG/afBCpp/ 2Pi7eOdSF44Y0X21kRbGUVd1kk9Hn3biudBQCJkwcqGutwfklBiRua8fe8qXXp5mK6P2 /MKBhIDiuce2PfAZAu5Pdyc5R7CNvyeveo79t5iVSNPc/7heYa0AUGj7zLdy2HF7h3FP /DHt3rDkiGsHyfh+5w7ts8bv/1Ejod6JFAAXEQWv8o61s7fI66q5qcso6kRl0mL/9qqF gokw== X-Gm-Message-State: AOJu0YzBwzIQGlMPg3a2ZhK0VNHTh3cR5mcwhlOZv0srxsmyENG4fFBx 6z9NNxcoS+9oCgE4JsD652mUB3ZZh9ysk3ajIPyyFhs8TIC49EcsHnd7+IMpmytRpLQMcAZ1cTN 4A4HmGAiEiLzfrLgitQKBrc2cd8CtTrupKUJ5z54Fl0HLsf5QppvlF9nztjzW X-Gm-Gg: ASbGncvMhA8g4WoUw4pEs20yn2jxmsbS+hXXgDNYtbdzZDi5zU2jqmrSHR5KNwwZYF/ JJSiC26xgUO5ruo0TnrixsT6VRZ2qaZh0IWmU1tgFU+0dGTL57hcvBMBwX9Nj31nCxgiJX0ApvJ GNP4xcNXaRvJWAqoFVPDgFyjtJdFzYBMT5pHog8Qbj4DUovUbkYsyBjKzSbgC7maa0GBcjMxEPb j/9tGPcjoAqGN2XI7WRE0O6twox7xSSKQUJUHLrHzjQpMdtBG0g5RXnFGuAOoSIuEa4l88M1YjT sxBHH33FTmx7/hP7rMxxjUCxIMPJuyiqfRakKd0VhSc2c8TOAx8dT+787O3pOrnBoEaArX/uSKQ cA3O+JalG X-Google-Smtp-Source: AGHT+IEMRXKjB4pZ202UTvZNNJZcsfP57YQSAGYdL8Y2xdWpM/r7vJvQA7IJNbXNLDXSlBhsklunx2b1aA8l X-Received: by 2002:a17:902:dac3:b0:290:b53b:7455 with SMTP id d9443c01a7336-2984ed2481fmr27076785ad.10.1762934182154; Tue, 11 Nov 2025 23:56:22 -0800 (PST) Received: from postal.iol.unh.edu (postal.iol.unh.edu. [2606:4100:3880:1234::84]) by smtp-relay.gmail.com with ESMTPS id d9443c01a7336-2984dbe6b30sm1988475ad.13.2025.11.11.23.56.22 (version=TLS1_2 cipher=ECDHE-ECDSA-AES128-GCM-SHA256 bits=128/128); Tue, 11 Nov 2025 23:56:22 -0800 (PST) X-Relaying-Domain: iol.unh.edu Date: Tue, 11 Nov 2025 23:56:22 -0800 (PST) Message-ID: <69143da6.170a0220.25f4be.a7a6SMTPIN_ADDED_MISSING@mx.google.com> Received: from [172.21.0.4] (unknown [172.18.0.240]) by postal.iol.unh.edu (Postfix) with ESMTP id 184496051830; Wed, 12 Nov 2025 02:56:21 -0500 (EST) Subject: |SUCCESS| pw158668 [PATCH] common/mlx5: add BlueField-4 DPU From: dpdklab@iol.unh.edu To: Test Report Cc: dpdk-test-reports@iol.unh.edu In-Reply-To: <20251111121628.75282-1-rasland@nvidia.com> References: <20251111121628.75282-1-rasland@nvidia.com> Content-Type: text/plain X-BeenThere: test-report@dpdk.org X-Mailman-Version: 2.1.29 Precedence: list List-Id: automatic DPDK test reports List-Unsubscribe: , List-Archive: List-Post: List-Help: List-Subscribe: , Errors-To: test-report-bounces@dpdk.org Test-Label: iol-compile-arm64-testing Test-Status: SUCCESS http://dpdk.org/patch/158668 _Testing PASS_ Submitter: Raslan Darawsheh Date: Tuesday, November 11 2025 12:16:28 DPDK git baseline: Repo:dpdk Branch: master CommitID:b63e7dbfb076d6a8247dcab014421d7b59e20255 158668 --> testing pass Upstream job id: Generic-DPDK-Compile-Meson#443078 Test environment and result as below: +------------------------------+--------------------+ | Environment | dpdk_meson_compile | +==============================+====================+ | Red Hat Enterprise Linux 9.5 | PASS | +------------------------------+--------------------+ | Ubuntu 20.04 | PASS | +------------------------------+--------------------+ | Fedora Linux 42 | PASS | +------------------------------+--------------------+ | Ubuntu 22.04 | PASS | +------------------------------+--------------------+ | Ubuntu 24.04 | PASS | +------------------------------+--------------------+ | CentOS Stream 9 | PASS | +------------------------------+--------------------+ | CentOS Stream 10 | PASS | +------------------------------+--------------------+ | Debian GNU/Linux 12 | PASS | +------------------------------+--------------------+ Red Hat Enterprise Linux 9.5 Kernel: 5.4 Compiler: gcc gcc (GCC) 11.5.0 20240719 (Red Hat 11.5.0-2) Ubuntu 20.04 Kernel: 5.15 Compiler: aarch64-linux-gnu-gcc gcc (Ubuntu 9.4.0-1ubuntu1~20.04.2) 9.4.0 Fedora Linux 42 Kernel: 5.4 Compiler: gcc gcc (GCC) 15.2.1 20250808 (Red Hat 15.2.1-1) Ubuntu 22.04 Kernel: 5.4 Compiler: gcc gcc (Ubuntu 11.4.0-1ubuntu1~22.04) 11.4.0 Ubuntu 24.04 Kernel: 5.4 Compiler: gcc gcc (Ubuntu 13.3.0-6ubuntu2~24.04) 13.3.0 CentOS Stream 9 Kernel: 5.4 Compiler: gcc gcc (GCC) 11.5.0 20240719 (Red Hat 11.5.0-11) CentOS Stream 10 Kernel: 5.4 Compiler: gcc gcc (GCC) 14.2.1 20250110 (Red Hat 14.2.1-8) Debian GNU/Linux 12 Kernel: 5.4 Compiler: gcc gcc (Debian 12.2.0-14+deb12u1) 12.2.0 To view detailed results, visit: https://lab.dpdk.org/results/dashboard/patchsets/34536/ UNH-IOL DPDK Community Lab To manage your email subscriptions, visit: https://lab.dpdk.org/results/dashboard/preferences/subscriptions/