From mboxrd@z Thu Jan 1 00:00:00 1970 Return-Path: Received: from mails.dpdk.org (mails.dpdk.org [217.70.189.124]) by inbox.dpdk.org (Postfix) with ESMTP id 3B0C048AEA for ; Wed, 12 Nov 2025 08:57:17 +0100 (CET) Received: from mails.dpdk.org (localhost [127.0.0.1]) by mails.dpdk.org (Postfix) with ESMTP id 35B2C4026A; Wed, 12 Nov 2025 08:57:17 +0100 (CET) Received: from mail-pj1-f98.google.com (mail-pj1-f98.google.com [209.85.216.98]) by mails.dpdk.org (Postfix) with ESMTP id 72E4E4026A for ; Wed, 12 Nov 2025 08:57:15 +0100 (CET) Received: by mail-pj1-f98.google.com with SMTP id 98e67ed59e1d1-34381ec9197so606794a91.1 for ; Tue, 11 Nov 2025 23:57:15 -0800 (PST) DKIM-Signature: v=1; a=rsa-sha256; c=relaxed/relaxed; d=iol.unh.edu; s=unh-iol; t=1762934234; x=1763539034; darn=dpdk.org; h=references:in-reply-to:cc:to:from:subject:message-id:date:from:to :cc:subject:date:message-id:reply-to; bh=lYoKDaRwxV1zF1NPFKDRZLcUhBtoWQSpaNC5bXDoQNE=; b=T5Fbfz8VuQhQ2MxBvnU4uNcCtn3yEmJUUCe330mD4gCCeAxzHhdClmeDK31NnG6hPq ypYrs0Wc2yAwEv2x9RaPXEpKcysRXXShcJZy1CxpGCBTwrBKWCsQ4CkhDjC18eeUS1vH tpG5f7qzMT/DpkX8B+s1RX9Kw37eg1UBrBk2E= X-Google-DKIM-Signature: v=1; a=rsa-sha256; c=relaxed/relaxed; d=1e100.net; s=20230601; t=1762934234; x=1763539034; h=references:in-reply-to:cc:to:from:subject:message-id:date:x-gm-gg :x-gm-message-state:from:to:cc:subject:date:message-id:reply-to; bh=lYoKDaRwxV1zF1NPFKDRZLcUhBtoWQSpaNC5bXDoQNE=; b=Q7V1JJ6k23Tn95f0ELLYdowUgICpcNohc9nPRWAy2VBGJnxt0rpXU7/dzNWJ/4bQDM oZco4VngJwWg501Hq8+ALumppkispuFeTw6GU4LJNw8o+WGMUm1lS29us3wGZPQ2wGGz qodk6EDFNjIKE5pg39LKFaKoceFVkgIc48foLQflPYL7dl3H6sL4ISWh9pyY95kkhrjd sjQGA1DP3LQbbTCAYWKtm99aa9qXD8Asko5HhF3F4OrjS9mgECZ9LORshnF9gToajLNK 1r9fcabfWNudok7v5R2h6ViJONE7uIG7tgibZtr1XB6vcH8O0WjOOJZfDytrmHJEWcD2 9Fmw== X-Gm-Message-State: AOJu0YxPMaxI4oN1QVnzYNSTVMRJ3bZo3mbISrZvpqsgwPQVEhZwT5ow qN5MrJMAv6ZOSqNSnKYjA2x7vivlXBSMLXPDi/h1s5UkvYIOflcvtb8/+273jHIVVoG8oYWHHtf yzk5AD7x3GhKDAY+hevYbihQSUn5P5E2TIvWnNj4Vgj2+ X-Gm-Gg: ASbGncuvxWlsAw1+G3yNGa1rqqlFpO4EVCJsAkiD2I8KEqFq+Z53+0KpH6cFwgkPtOs rO0Ffa9e8V42HRH2Kj4L2y5A2bNHoCLoW4wglPv+xaE9s7pGBGbz9LmmBNRf/GODwh1NLlOltIi 3F7tyL9fVnb9kIK+3UJRzyLhb0DUKAlWlOSQi8L+4v2FCztsvs2HD65bJjaGxUzyP/4eaNekwed gLlJa816qdIdEqMUthlomWH4GFfG2cXWCoBnBv+IZ6hWFSKaqug7JtBohNEBMOYyAVx5HOdw60W hriIgvLZi1MEWL96v4+Re593SjPtq2OOyW4ADXj2X3e4C0zeLHobej6ICgDbYWdhZID+uzOeQj5 rzI0rqVB6tyD5oczRIx3VOHpJqAVymRw= X-Google-Smtp-Source: AGHT+IHkel07BdSr20szP79iWb73QGWuAhSzEnIPxDTfkiD6ZbS3uI4EJUFPgRF4i5oNb+3UcXuvKbwlslxw X-Received: by 2002:a17:90b:4d10:b0:340:e8e9:cc76 with SMTP id 98e67ed59e1d1-343dde00466mr2856187a91.11.1762934234532; Tue, 11 Nov 2025 23:57:14 -0800 (PST) Received: from postal.iol.unh.edu (postal.iol.unh.edu. [132.177.123.84]) by smtp-relay.gmail.com with ESMTPS id 98e67ed59e1d1-343e06fd4cfsm161921a91.1.2025.11.11.23.57.14 (version=TLS1_2 cipher=ECDHE-ECDSA-AES128-GCM-SHA256 bits=128/128); Tue, 11 Nov 2025 23:57:14 -0800 (PST) X-Relaying-Domain: iol.unh.edu Date: Tue, 11 Nov 2025 23:57:14 -0800 (PST) Message-ID: <69143dda.170a0220.1a875e.8bbaSMTPIN_ADDED_MISSING@mx.google.com> Received: from [172.21.0.3] (unknown [172.18.0.240]) by postal.iol.unh.edu (Postfix) with ESMTP id A68D06051830; Wed, 12 Nov 2025 02:57:13 -0500 (EST) Subject: |SUCCESS| pw158669 [PATCH] [v2,1/1] eal: correct memory ordering in From: dpdklab@iol.unh.edu To: Test Report Cc: dpdk-test-reports@iol.unh.edu In-Reply-To: <20251111173850.790254-1-wathsala.vithanage@arm.com> References: <20251111173850.790254-1-wathsala.vithanage@arm.com> Content-Type: text/plain X-BeenThere: test-report@dpdk.org X-Mailman-Version: 2.1.29 Precedence: list List-Id: automatic DPDK test reports List-Unsubscribe: , List-Archive: List-Post: List-Help: List-Subscribe: , Errors-To: test-report-bounces@dpdk.org Test-Label: iol-compile-arm64-testing Test-Status: SUCCESS http://dpdk.org/patch/158669 _Testing PASS_ Submitter: Wathsala Vithanage Date: Tuesday, November 11 2025 17:38:50 DPDK git baseline: Repo:dpdk Branch: master CommitID:994644dcbdca1490bd831e4fd1d7d5b0b79d1874 158669 --> testing pass Upstream job id: Generic-DPDK-Compile-Meson#443092 Test environment and result as below: +------------------------------+--------------------+ | Environment | dpdk_meson_compile | +==============================+====================+ | Ubuntu 20.04 | PASS | +------------------------------+--------------------+ | Red Hat Enterprise Linux 9.5 | PASS | +------------------------------+--------------------+ | Debian GNU/Linux 12 | PASS | +------------------------------+--------------------+ | Fedora Linux 42 | PASS | +------------------------------+--------------------+ | Ubuntu 22.04 | PASS | +------------------------------+--------------------+ | Ubuntu 24.04 | PASS | +------------------------------+--------------------+ | CentOS Stream 9 | PASS | +------------------------------+--------------------+ | CentOS Stream 10 | PASS | +------------------------------+--------------------+ Ubuntu 20.04 Kernel: 5.15 Compiler: aarch64-linux-gnu-gcc gcc (Ubuntu 9.4.0-1ubuntu1~20.04.2) 9.4.0 Red Hat Enterprise Linux 9.5 Kernel: 5.4 Compiler: gcc gcc (GCC) 11.5.0 20240719 (Red Hat 11.5.0-2) Debian GNU/Linux 12 Kernel: 5.4 Compiler: gcc gcc (Debian 12.2.0-14+deb12u1) 12.2.0 Fedora Linux 42 Kernel: 5.4 Compiler: gcc gcc (GCC) 15.2.1 20250808 (Red Hat 15.2.1-1) Ubuntu 22.04 Kernel: 5.4 Compiler: gcc gcc (Ubuntu 11.4.0-1ubuntu1~22.04) 11.4.0 Ubuntu 24.04 Kernel: 5.4 Compiler: gcc gcc (Ubuntu 13.3.0-6ubuntu2~24.04) 13.3.0 CentOS Stream 9 Kernel: 5.4 Compiler: gcc gcc (GCC) 11.5.0 20240719 (Red Hat 11.5.0-11) CentOS Stream 10 Kernel: 5.4 Compiler: gcc gcc (GCC) 14.2.1 20250110 (Red Hat 14.2.1-8) To view detailed results, visit: https://lab.dpdk.org/results/dashboard/patchsets/34537/ UNH-IOL DPDK Community Lab To manage your email subscriptions, visit: https://lab.dpdk.org/results/dashboard/preferences/subscriptions/