From mboxrd@z Thu Jan 1 00:00:00 1970 Return-Path: Received: from mails.dpdk.org (mails.dpdk.org [217.70.189.124]) by inbox.dpdk.org (Postfix) with ESMTP id 4A9E048AEA for ; Wed, 12 Nov 2025 08:57:35 +0100 (CET) Received: from mails.dpdk.org (localhost [127.0.0.1]) by mails.dpdk.org (Postfix) with ESMTP id 43CAD4026A; Wed, 12 Nov 2025 08:57:35 +0100 (CET) Received: from mail-pf1-f227.google.com (mail-pf1-f227.google.com [209.85.210.227]) by mails.dpdk.org (Postfix) with ESMTP id CE5C04026A for ; Wed, 12 Nov 2025 08:57:33 +0100 (CET) Received: by mail-pf1-f227.google.com with SMTP id d2e1a72fcca58-7a9fb6fccabso450742b3a.0 for ; Tue, 11 Nov 2025 23:57:33 -0800 (PST) DKIM-Signature: v=1; a=rsa-sha256; c=relaxed/relaxed; d=iol.unh.edu; s=unh-iol; t=1762934253; x=1763539053; darn=dpdk.org; h=references:in-reply-to:cc:to:from:subject:message-id:date:from:to :cc:subject:date:message-id:reply-to; bh=f0nCfAX5OfNo6+/izin816iTarYkTW6eHUhRvdoJH2M=; b=DvfK6496O16yGHH9ibILGc2Wmoz63crALDYINhfyY/0zPpPdgRVdKS0MrwTwBf28sf HZy/lc/CGD4+6SD7iKl5FMAae7KlXoIYvIVQ9d+kgns7/8GHCfRONZHV5tRGwoLmJv2v ziVWdI4I8Nxopuxd/zvyTEWIxaZNQ4IiGr/Yk= X-Google-DKIM-Signature: v=1; a=rsa-sha256; c=relaxed/relaxed; d=1e100.net; s=20230601; t=1762934253; x=1763539053; h=references:in-reply-to:cc:to:from:subject:message-id:date:x-gm-gg :x-gm-message-state:from:to:cc:subject:date:message-id:reply-to; bh=f0nCfAX5OfNo6+/izin816iTarYkTW6eHUhRvdoJH2M=; b=RjD4nv8QuJjOrEM4nW0O7+MwU2z/qU6CsxX28nfRH4aodVFX1h1PJNUzygDsJGaIR0 HnMioLGa9QhPqf5nWMGytLZM7EKqGIRoI+tjCNIbYmsmzbrvXEL/uoBGtKfYeMNozYpf dptgDVl5IAoFqwPNuj4xnOjAd6we8kpvOV7Tjk47o7BDtXmjVASuuERppBGW3j4NyAMw OM93OvQNqJBfQlpuVTsqF02MAOZt/a54MXyXlJ/6jkMe+SHKQGNXRnGCZ2z0rc8hc7Jr cj6zpazNLdMCuyEOtpTIVLl+xW7C58afdGt5usoMojAmmsIkDtHchqoa7P0a2yyHNmS+ 323g== X-Gm-Message-State: AOJu0YzywFWjK5u89nGRLmjWzIU5t//ICrQ/68vB0hJ/7ErJVfqPok2g 6jRAPaKqG60Oq6xn4Q9gx4M7qEX8p6H0Xuw4hbidmAfRdimfMvkuagIA4azRZbozWeiMOo4/z2+ gNY5FtEV7g92MkIfVBGiolBeEpunm3Zy3XOFcIWlebJRRlUnJ8jb7+gc3jsuD X-Gm-Gg: ASbGnctbafNhCeBXAi7fDmIMbPIEu+YdZCt+8t0g2fM5C9mqlQ/y0obtDXzmCfp6Z2/ b0an/5f5RL5ttaWEb8p1fFi1BWvYsEy2L4n56EaA3Ee3ptewpt0WYhlJ2StLq0KIAV79ueyDxxR Tej6Z95CINx+kIsojlcj7mZt+YmUVmoGD3qGTGs4aO+x2TTX1mZx/lvQKJrJZQuAEkbx7DHuq9U FuIsuHdcVEfpYOlc29FfDOXxq/AXid01mxltz/dapnP/yZmoWggswbqjPczka6h1MqPpVnvKf67 FM+bWFyUtPjExyrB+mf5R5NdO7IUv0yrPACjFVoFT7stZIPcSd86AZ7xbuAq46vl8Werjy2eZMv qifvXdIQD X-Google-Smtp-Source: AGHT+IGt/+R0pJaidVIbW0Vd7qXRlMmJTy8uXskS0o/n3GWVeLFKvaORE04xur9d7y358GIgeYTTu0vOEKYE X-Received: by 2002:a17:90a:e7c7:b0:341:134:a962 with SMTP id 98e67ed59e1d1-343ddec1d27mr2268745a91.28.1762934252968; Tue, 11 Nov 2025 23:57:32 -0800 (PST) Received: from postal.iol.unh.edu (postal.iol.unh.edu. [2606:4100:3880:1234::84]) by smtp-relay.gmail.com with ESMTPS id 98e67ed59e1d1-343e07b0c91sm149076a91.5.2025.11.11.23.57.32 (version=TLS1_2 cipher=ECDHE-ECDSA-AES128-GCM-SHA256 bits=128/128); Tue, 11 Nov 2025 23:57:32 -0800 (PST) X-Relaying-Domain: iol.unh.edu Date: Tue, 11 Nov 2025 23:57:32 -0800 (PST) Message-ID: <69143dec.170a0220.1d162d.79e6SMTPIN_ADDED_MISSING@mx.google.com> Received: from [172.21.0.2] (unknown [172.18.0.240]) by postal.iol.unh.edu (Postfix) with ESMTP id 3A45E6051830; Wed, 12 Nov 2025 02:57:32 -0500 (EST) Subject: |SUCCESS| pw158669 [PATCH] [v2,1/1] eal: correct memory ordering in From: dpdklab@iol.unh.edu To: Test Report Cc: dpdk-test-reports@iol.unh.edu In-Reply-To: <20251111173850.790254-1-wathsala.vithanage@arm.com> References: <20251111173850.790254-1-wathsala.vithanage@arm.com> Content-Type: text/plain X-BeenThere: test-report@dpdk.org X-Mailman-Version: 2.1.29 Precedence: list List-Id: automatic DPDK test reports List-Unsubscribe: , List-Archive: List-Post: List-Help: List-Subscribe: , Errors-To: test-report-bounces@dpdk.org Test-Label: iol-compile-arm64-testing Test-Status: SUCCESS http://dpdk.org/patch/158669 _Testing PASS_ Submitter: Wathsala Vithanage Date: Tuesday, November 11 2025 17:38:50 DPDK git baseline: Repo:dpdk Branch: master CommitID:994644dcbdca1490bd831e4fd1d7d5b0b79d1874 158669 --> testing pass Upstream job id: Generic-DPDK-Compile-Meson#443093 Test environment and result as below: +------------------------------+--------------------+ | Environment | dpdk_meson_compile | +==============================+====================+ | Ubuntu 20.04 | PASS | +------------------------------+--------------------+ | Red Hat Enterprise Linux 9.5 | PASS | +------------------------------+--------------------+ | Debian GNU/Linux 12 | PASS | +------------------------------+--------------------+ | Fedora Linux 42 | PASS | +------------------------------+--------------------+ | Ubuntu 22.04 | PASS | +------------------------------+--------------------+ | Ubuntu 24.04 | PASS | +------------------------------+--------------------+ | CentOS Stream 9 | PASS | +------------------------------+--------------------+ | CentOS Stream 10 | PASS | +------------------------------+--------------------+ Ubuntu 20.04 Kernel: 5.15 Compiler: aarch64-linux-gnu-gcc gcc (Ubuntu 9.4.0-1ubuntu1~20.04.2) 9.4.0 Red Hat Enterprise Linux 9.5 Kernel: 5.4 Compiler: gcc gcc (GCC) 11.5.0 20240719 (Red Hat 11.5.0-2) Debian GNU/Linux 12 Kernel: 5.4 Compiler: gcc gcc (Debian 12.2.0-14+deb12u1) 12.2.0 Fedora Linux 42 Kernel: 5.4 Compiler: gcc gcc (GCC) 15.2.1 20250808 (Red Hat 15.2.1-1) Ubuntu 22.04 Kernel: 5.4 Compiler: gcc gcc (Ubuntu 11.4.0-1ubuntu1~22.04) 11.4.0 Ubuntu 24.04 Kernel: 5.4 Compiler: gcc gcc (Ubuntu 13.3.0-6ubuntu2~24.04) 13.3.0 CentOS Stream 9 Kernel: 5.4 Compiler: gcc gcc (GCC) 11.5.0 20240719 (Red Hat 11.5.0-11) CentOS Stream 10 Kernel: 5.4 Compiler: gcc gcc (GCC) 14.2.1 20250110 (Red Hat 14.2.1-8) To view detailed results, visit: https://lab.dpdk.org/results/dashboard/patchsets/34537/ UNH-IOL DPDK Community Lab To manage your email subscriptions, visit: https://lab.dpdk.org/results/dashboard/preferences/subscriptions/