From mboxrd@z Thu Jan 1 00:00:00 1970 Return-Path: Received: from mails.dpdk.org (mails.dpdk.org [217.70.189.124]) by inbox.dpdk.org (Postfix) with ESMTP id 204D048AEA for ; Wed, 12 Nov 2025 09:29:51 +0100 (CET) Received: from mails.dpdk.org (localhost [127.0.0.1]) by mails.dpdk.org (Postfix) with ESMTP id EB7744026A; Wed, 12 Nov 2025 09:29:50 +0100 (CET) Received: from mail-pl1-f226.google.com (mail-pl1-f226.google.com [209.85.214.226]) by mails.dpdk.org (Postfix) with ESMTP id 34FCD4026A for ; Wed, 12 Nov 2025 09:29:50 +0100 (CET) Received: by mail-pl1-f226.google.com with SMTP id d9443c01a7336-2984dfae0acso7138665ad.0 for ; Wed, 12 Nov 2025 00:29:50 -0800 (PST) DKIM-Signature: v=1; a=rsa-sha256; c=relaxed/relaxed; d=iol.unh.edu; s=unh-iol; t=1762936189; x=1763540989; darn=dpdk.org; h=references:in-reply-to:cc:to:from:subject:message-id:date:from:to :cc:subject:date:message-id:reply-to; bh=lp4sZdr6uZLknEqLau6piOkCItxQ02QnPFZkUCsUYxM=; b=QDpR4k2kjOij2qmdsqobRTIdV3V2IGoYwSAr5fH43zI/5/9KsfOq+wDsZw7U47bFsD PCbmLffGhRCm07Dt3M5nLM5Z3N1klNETitxKJQkg3ffizv4E1DXkBXxUvhKkq0yElpMk //Sjjh4E0NH6d8t7nW2zn7UHEiVTPwxqjSgOk= X-Google-DKIM-Signature: v=1; a=rsa-sha256; c=relaxed/relaxed; d=1e100.net; s=20230601; t=1762936189; x=1763540989; h=references:in-reply-to:cc:to:from:subject:message-id:date:x-gm-gg :x-gm-message-state:from:to:cc:subject:date:message-id:reply-to; bh=lp4sZdr6uZLknEqLau6piOkCItxQ02QnPFZkUCsUYxM=; b=pVJYUOYiCV4bsKBPAX+ZIjGGIqitoAW8ttTgT5m7xr/1zAJLwkucbJ1pMsvGW8E/+2 3qxeu04M1OBRUugWIv7g9s4c45u/BzLOHwo3aoChAmaQLs7DIVk72ADoCBvPE9KSwgQO ONaryJaHJi2k+K73AGJL3fl25LpkAxVwZZLIBqlTwoCV7OwggoimL1ZOim5y5Vl5zrC2 xQnnWSeXaRo+GbVspkQgRCjgfZXveRSrCclMbcPt53AQqGL0IXbyMAM/JkfOIIfF1fGX zxGe+RJzVDprDuu06u4QHeTsB+jWmpB/qAOr9nPDKYK0I6MEEcL0Jol1XBfcYPR/pjug C3Hg== X-Gm-Message-State: AOJu0YzhIFnsxuRmH8kxffFWG6X2TL852Y/szQXjEQvRyELt8v3cYlz1 M7tnRlEpIpXmSS7bXJCw/rzhtUMQRHSd1LCkc1+qEesC7tsbhc8CtqR2lLrLvGWge4f3HYM/oqE IY/rbwiIU5Gkyyr/Ija/NBKoZwLqFKFIdZmXQo/EX4hgbOZVS3XB4KzLY0sBT X-Gm-Gg: ASbGncsPf63/KWGCYWWNG8GPj3K/McJoSewjtYzcr/8g4NjQ30Pc3kTspeYX1rcL3S+ DNuuIRyMr6N34bgu5kzTck0GRCq8IPVowYxvNWiLEgRkn3Z5zhtckMVpSDtxR4HEjXl+gpkbgWy C9XGblkd5aj7UuI6eGW+STgmHW27fPnqJA1f89T/TQyBX9ggZl3/WC0HtPX/9zFNpz6er1XFTKk w4ALyxrmkZjiPVtMuqDq5WOcyqHhS4dnbmOvc6+fAhNp+L/1wzIqRcFNRRq3mmnBfNCzOS470zE ddFtmmaNiIKush92OtbhHtEERIvj9GNHaFFVgpOEQeFlqHAnR3t2VabHOBqaYdfwpNqQxhXocwB pOt5LX3I6 X-Google-Smtp-Source: AGHT+IFWiTy/p0e05a1palpIG4TieztLC95/ESL0uIrR7SK4JDTOh0F4Lwnb9RhGvkwDbrPMNx+Ik5WBRo+q X-Received: by 2002:a17:902:ccd1:b0:295:7806:1d7b with SMTP id d9443c01a7336-2984eddee65mr30557665ad.45.1762936189170; Wed, 12 Nov 2025 00:29:49 -0800 (PST) Received: from postal.iol.unh.edu (postal.iol.unh.edu. [2606:4100:3880:1234::84]) by smtp-relay.gmail.com with ESMTPS id d9443c01a7336-2984dcfe625sm2078015ad.34.2025.11.12.00.29.49 (version=TLS1_2 cipher=ECDHE-ECDSA-AES128-GCM-SHA256 bits=128/128); Wed, 12 Nov 2025 00:29:49 -0800 (PST) X-Relaying-Domain: iol.unh.edu Date: Wed, 12 Nov 2025 00:29:49 -0800 (PST) Message-ID: <6914457d.170a0220.24299d.b012SMTPIN_ADDED_MISSING@mx.google.com> Received: from [172.21.0.2] (unknown [172.18.0.240]) by postal.iol.unh.edu (Postfix) with ESMTP id 8B9306051830; Wed, 12 Nov 2025 03:29:48 -0500 (EST) Subject: |SUCCESS| pw158669 [PATCH] [v2,1/1] eal: correct memory ordering in From: dpdklab@iol.unh.edu To: Test Report Cc: dpdk-test-reports@iol.unh.edu In-Reply-To: <20251111173850.790254-1-wathsala.vithanage@arm.com> References: <20251111173850.790254-1-wathsala.vithanage@arm.com> Content-Type: text/plain X-BeenThere: test-report@dpdk.org X-Mailman-Version: 2.1.29 Precedence: list List-Id: automatic DPDK test reports List-Unsubscribe: , List-Archive: List-Post: List-Help: List-Subscribe: , Errors-To: test-report-bounces@dpdk.org Test-Label: iol-unit-arm64-testing Test-Status: SUCCESS http://dpdk.org/patch/158669 _Testing PASS_ Submitter: Wathsala Vithanage Date: Tuesday, November 11 2025 17:38:50 DPDK git baseline: Repo:dpdk Branch: master CommitID:994644dcbdca1490bd831e4fd1d7d5b0b79d1874 158669 --> testing pass Upstream job id: Generic-Unit-Test-DPDK#391155 Test environment and result as below: +------------------------------+------------------------------+---------------------------+--------------+----------------+ | Environment | cryptodev_sw_snow3g_autotest | cryptodev_sw_zuc_autotest | lpm_autotest | dpdk_unit_test | +==============================+==============================+===========================+==============+================+ | Debian 12 (arm) | PASS | PASS | SKIPPED | SKIPPED | +------------------------------+------------------------------+---------------------------+--------------+----------------+ | Ubuntu 20.04 | SKIPPED | SKIPPED | PASS | PASS | +------------------------------+------------------------------+---------------------------+--------------+----------------+ | Fedora Linux 40 | SKIPPED | SKIPPED | SKIPPED | PASS | +------------------------------+------------------------------+---------------------------+--------------+----------------+ | CentOS Stream 9 | SKIPPED | SKIPPED | SKIPPED | PASS | +------------------------------+------------------------------+---------------------------+--------------+----------------+ | Ubuntu 22.04 | SKIPPED | SKIPPED | SKIPPED | PASS | +------------------------------+------------------------------+---------------------------+--------------+----------------+ | Fedora Linux 41 | SKIPPED | SKIPPED | SKIPPED | PASS | +------------------------------+------------------------------+---------------------------+--------------+----------------+ | Debian GNU/Linux 12 | SKIPPED | SKIPPED | SKIPPED | PASS | +------------------------------+------------------------------+---------------------------+--------------+----------------+ | CentOS Stream 10 | SKIPPED | SKIPPED | SKIPPED | PASS | +------------------------------+------------------------------+---------------------------+--------------+----------------+ | Ubuntu 24.04 | SKIPPED | SKIPPED | SKIPPED | PASS | +------------------------------+------------------------------+---------------------------+--------------+----------------+ | Red Hat Enterprise Linux 9.5 | SKIPPED | SKIPPED | SKIPPED | PASS | +------------------------------+------------------------------+---------------------------+--------------+----------------+ | Fedora Linux 42 | SKIPPED | SKIPPED | SKIPPED | PASS | +------------------------------+------------------------------+---------------------------+--------------+----------------+ Debian 12 (arm) Kernel: Depends on container host Compiler: gcc (Debian 12.2.0-14) 12.2.0 Ubuntu 20.04 Kernel: 5.4 Compiler: gcc gcc (Ubuntu 9.4.0-1ubuntu1~20.04.2) 9.4.0 Fedora Linux 40 Kernel: 5.4 Compiler: clang gcc (GCC) 14.2.1 20240912 (Red Hat 14.2.1-3) CentOS Stream 9 Kernel: 5.4 Compiler: gcc gcc (GCC) 11.5.0 20240719 (Red Hat 11.5.0-11) Ubuntu 22.04 Kernel: 5.15 Compiler: gcc gcc (Ubuntu 11.4.0-1ubuntu1~22.04.2) 11.4.0 Fedora Linux 41 Kernel: 5.4 Compiler: gcc gcc (GCC) 14.3.1 20250523 (Red Hat 14.3.1-1) Debian GNU/Linux 12 Kernel: 5.4 Compiler: gcc gcc (Debian 12.2.0-14+deb12u1) 12.2.0 CentOS Stream 10 Kernel: 5.4 Compiler: gcc gcc (GCC) 14.2.1 20250110 (Red Hat 14.2.1-8) Ubuntu 24.04 Kernel: 5.4 Compiler: gcc gcc (Ubuntu 13.3.0-6ubuntu2~24.04) 13.3.0 Red Hat Enterprise Linux 9.5 Kernel: 5.4 Compiler: gcc gcc (GCC) 11.5.0 20240719 (Red Hat 11.5.0-2) Fedora Linux 42 Kernel: 5.4 Compiler: gcc gcc (GCC) 15.2.1 20250808 (Red Hat 15.2.1-1) To view detailed results, visit: https://lab.dpdk.org/results/dashboard/patchsets/34537/ UNH-IOL DPDK Community Lab To manage your email subscriptions, visit: https://lab.dpdk.org/results/dashboard/preferences/subscriptions/