From mboxrd@z Thu Jan 1 00:00:00 1970 Return-Path: Received: from mails.dpdk.org (mails.dpdk.org [217.70.189.124]) by inbox.dpdk.org (Postfix) with ESMTP id AD6A448AEC for ; Wed, 12 Nov 2025 11:11:31 +0100 (CET) Received: from mails.dpdk.org (localhost [127.0.0.1]) by mails.dpdk.org (Postfix) with ESMTP id 8ADF4402B0; Wed, 12 Nov 2025 11:11:31 +0100 (CET) Received: from mail-pl1-f226.google.com (mail-pl1-f226.google.com [209.85.214.226]) by mails.dpdk.org (Postfix) with ESMTP id CB32A402B0 for ; Wed, 12 Nov 2025 11:11:30 +0100 (CET) Received: by mail-pl1-f226.google.com with SMTP id d9443c01a7336-29844c68068so5861405ad.2 for ; Wed, 12 Nov 2025 02:11:30 -0800 (PST) DKIM-Signature: v=1; a=rsa-sha256; c=relaxed/relaxed; d=iol.unh.edu; s=unh-iol; t=1762942290; x=1763547090; darn=dpdk.org; h=references:in-reply-to:cc:to:from:subject:message-id:date:from:to :cc:subject:date:message-id:reply-to; bh=zATvfYrPtU+9uLhompF3RoPApoGXne/4R8GWycSxmNY=; b=BwoTKK575VMxz9TzKWEGkVGeLhrbsr3ZgsE54LCy4MYweaOiHYNYl1CNiF+UeQRA0H lah8lqsdxbzqtSAUGIwrpPbk8/H4VJyM/4n9j20XRraAKc/Xi9ohOzyfEk2x+s2vzstA PIdRcYCB94E5EsG+Tm64zjpUEKPoUK46Rops8= X-Google-DKIM-Signature: v=1; a=rsa-sha256; c=relaxed/relaxed; d=1e100.net; s=20230601; t=1762942290; x=1763547090; h=references:in-reply-to:cc:to:from:subject:message-id:date:x-gm-gg :x-gm-message-state:from:to:cc:subject:date:message-id:reply-to; bh=zATvfYrPtU+9uLhompF3RoPApoGXne/4R8GWycSxmNY=; b=WkeycNQG+KKareA+A60cjlW2Y2yT5oUxL6mUB4Q5P8vTHU/x7GqQGAJBxgx5gJYhMi RDnZKZpsKo3l4L0NK+JeTkVqwajGET+EmWXJE1Y7gT5Sin2YwxvEx90HBOV/dKql5H6t WLdohVuvNqiJ9jP3KnSUB3RVljXWedjC3Cn4l4wVsHAKuN68iB557mC1gz4jA9Z0Kl7W Fe6Qa1mgVMomTj8sDncI83r3BcnhBw6fuvpLXWOFkl+4u5OQXtWbHlrh+RPYE009AL+1 ft6DxV4H7rSUVmhk99SFF+38KEpIsogoLlAfjNmNgLzYgK4lkLDZYuGOM6tmD1yV8vnW T34w== X-Gm-Message-State: AOJu0YzhCqcI7Cdah//ZeHBDxwK78zl4q9ABQuu/BLw80APnE+SLc/ME Gjlznbf8OobX5H7YK4DlHpGl4M/01lHKXcgREvU6f08E55g6MI0Lg2lzzvVvAMHEyWxey87VH+P xd3hBnV1Zf/PxCeF86xZBKSF+7OlAdwIruqAYvQ7m3koGOgeWDHuD+iZATvsn X-Gm-Gg: ASbGncsxfKiEKzfosjxWHjt0+N5yQYhVwwQy2PVaLFuw3GF23yVkHMr9v5TOJKfJIwy DXwKKuqS8cF97LXajdDIsJyLU7txxOEFzLEm5znVa32tWGAb59HV1RPyvNaLghhBYpfveuKgqzn mLS7/NIMunFSkNCSOQDd2yNIylcBn8Ts72Yb8KtsUv6tFMt8+SOhyBVuoJJ99ismlhnA8wkzIDV tlgvOKMvZ4ohUq+ph8z27+d08kekrOdhCi8cTLltnsOjp0mnEmk9MW1Uaxvcn6w587m5KJwfl9F A47KqPTSNCxrWtCK7hg6VWZgr76oOfeuHASflAVDB2F0jLKLovHez4JRKPVTyw+707e+K/XvH5+ KXiSYupCR X-Google-Smtp-Source: AGHT+IFJV86mrU4OxkL/uERuUPYxrtM+Q9+4gR/4gqk8dE/hpaY2+l6pl3xrF5KzqVNPvbUlbsQ5XItU96Mu X-Received: by 2002:a17:903:286:b0:269:ed31:6c50 with SMTP id d9443c01a7336-2984ed281d5mr32055005ad.10.1762942289868; Wed, 12 Nov 2025 02:11:29 -0800 (PST) Received: from postal.iol.unh.edu (postal.iol.unh.edu. [2606:4100:3880:1234::84]) by smtp-relay.gmail.com with ESMTPS id d9443c01a7336-2984dd51b6csm2262285ad.65.2025.11.12.02.11.29 (version=TLS1_2 cipher=ECDHE-ECDSA-AES128-GCM-SHA256 bits=128/128); Wed, 12 Nov 2025 02:11:29 -0800 (PST) X-Relaying-Domain: iol.unh.edu Date: Wed, 12 Nov 2025 02:11:29 -0800 (PST) Message-ID: <69145d51.170a0220.1ed088.bfdeSMTPIN_ADDED_MISSING@mx.google.com> Received: from [172.21.0.3] (unknown [172.18.0.240]) by postal.iol.unh.edu (Postfix) with ESMTP id 520DF6051830; Wed, 12 Nov 2025 05:11:29 -0500 (EST) Subject: |SUCCESS| pw158690-158694 [PATCH] [v2,5/5] bus/fslmc: remove raw dev From: dpdklab@iol.unh.edu To: Test Report Cc: dpdk-test-reports@iol.unh.edu In-Reply-To: <20251112091049.2669481-6-david.marchand@redhat.com> References: <20251112091049.2669481-6-david.marchand@redhat.com> Content-Type: text/plain X-BeenThere: test-report@dpdk.org X-Mailman-Version: 2.1.29 Precedence: list List-Id: automatic DPDK test reports List-Unsubscribe: , List-Archive: List-Post: List-Help: List-Subscribe: , Errors-To: test-report-bounces@dpdk.org Test-Label: iol-unit-amd64-testing Test-Status: SUCCESS http://dpdk.org/patch/158694 _Testing PASS_ Submitter: David Marchand Date: Wednesday, November 12 2025 09:10:48 DPDK git baseline: Repo:dpdk Branch: master CommitID:be0112878b4fc3a1b918370ed2fe615c52039d77 158690-158694 --> testing pass Upstream job id: Generic-Unit-Test-DPDK#391409 Test environment and result as below: +-------------------------------+----------------+ | Environment | dpdk_unit_test | +===============================+================+ | Fedora Linux 40 | PASS | +-------------------------------+----------------+ | CentOS Stream 10 | PASS | +-------------------------------+----------------+ | Red Hat Enterprise Linux 8.10 | PASS | +-------------------------------+----------------+ | Fedora Linux 41 | PASS | +-------------------------------+----------------+ | Fedora Linux 42 | PASS | +-------------------------------+----------------+ | Debian GNU/Linux 12 | PASS | +-------------------------------+----------------+ | CentOS Stream 9 | PASS | +-------------------------------+----------------+ | Ubuntu 24.04 | PASS | +-------------------------------+----------------+ | Ubuntu 20.04 | PASS | +-------------------------------+----------------+ | Ubuntu 22.04 | PASS | +-------------------------------+----------------+ | Red Hat Enterprise Linux 9.5 | PASS | +-------------------------------+----------------+ Fedora Linux 40 Kernel: 5.15 Compiler: gcc gcc (GCC) 14.2.1 20240912 (Red Hat 14.2.1-3) CentOS Stream 10 Kernel: 5.15 Compiler: gcc gcc (GCC) 14.2.1 20250110 (Red Hat 14.2.1-8) Red Hat Enterprise Linux 8.10 Kernel: 5.15 Compiler: gcc gcc (GCC) 8.5.0 20210514 (Red Hat 8.5.0-22) Fedora Linux 41 Kernel: 5.15 Compiler: clang gcc (GCC) 14.3.1 20250523 (Red Hat 14.3.1-1) Fedora Linux 42 Kernel: 5.15 Compiler: gcc gcc (GCC) 15.2.1 20250808 (Red Hat 15.2.1-1) Debian GNU/Linux 12 Kernel: 5.15 Compiler: gcc gcc (Debian 12.2.0-14+deb12u1) 12.2.0 CentOS Stream 9 Kernel: 5.15 Compiler: gcc gcc (GCC) 11.5.0 20240719 (Red Hat 11.5.0-11) Ubuntu 24.04 Kernel: 5.15 Compiler: gcc gcc (Ubuntu 13.3.0-6ubuntu2~24.04) 13.3.0 Ubuntu 20.04 Kernel: 5.15 Compiler: gcc gcc (Ubuntu 9.4.0-1ubuntu1~20.04.2) 9.4.0 Ubuntu 22.04 Kernel: 5.15 Compiler: gcc gcc (Ubuntu 11.4.0-1ubuntu1~22.04) 11.4.0 Red Hat Enterprise Linux 9.5 Kernel: 5.15 Compiler: gcc gcc (GCC) 11.5.0 20240719 (Red Hat 11.5.0-2) To view detailed results, visit: https://lab.dpdk.org/results/dashboard/patchsets/34543/ UNH-IOL DPDK Community Lab To manage your email subscriptions, visit: https://lab.dpdk.org/results/dashboard/preferences/subscriptions/