From mboxrd@z Thu Jan 1 00:00:00 1970 Return-Path: Received: from mails.dpdk.org (mails.dpdk.org [217.70.189.124]) by inbox.dpdk.org (Postfix) with ESMTP id CA5D448AED for ; Wed, 12 Nov 2025 12:08:49 +0100 (CET) Received: from mails.dpdk.org (localhost [127.0.0.1]) by mails.dpdk.org (Postfix) with ESMTP id 977E2402A7; Wed, 12 Nov 2025 12:08:49 +0100 (CET) Received: from mail-pg1-f228.google.com (mail-pg1-f228.google.com [209.85.215.228]) by mails.dpdk.org (Postfix) with ESMTP id 0FB01402A7 for ; Wed, 12 Nov 2025 12:08:48 +0100 (CET) Received: by mail-pg1-f228.google.com with SMTP id 41be03b00d2f7-bc09b3d3b14so381983a12.1 for ; Wed, 12 Nov 2025 03:08:47 -0800 (PST) DKIM-Signature: v=1; a=rsa-sha256; c=relaxed/relaxed; d=iol.unh.edu; s=unh-iol; t=1762945727; x=1763550527; darn=dpdk.org; h=references:in-reply-to:cc:to:from:subject:message-id:date:from:to :cc:subject:date:message-id:reply-to; bh=Zb4vRq0PqQ1ZQc7He+UiZe4lqVewM/cbHXqrOiSN/V4=; b=PIlcQrW6App0afIX73Z5pDehku4I3thGs6wzWYZORYbXmy8aBwYnJhOvOEZ6PVNBdc JeDq2nK5f0v7YRn/WAjS5qFTkt6PMeOpRToEFnSU+4spccm7nbJ2RsMM9Qose8eg9PMo YF+cXewwrwehVqsn0RWIRuXDVV6suf064j5a8= X-Google-DKIM-Signature: v=1; a=rsa-sha256; c=relaxed/relaxed; d=1e100.net; s=20230601; t=1762945727; x=1763550527; h=references:in-reply-to:cc:to:from:subject:message-id:date:x-gm-gg :x-gm-message-state:from:to:cc:subject:date:message-id:reply-to; bh=Zb4vRq0PqQ1ZQc7He+UiZe4lqVewM/cbHXqrOiSN/V4=; b=vQJn1ls63buTq2kpBcirMdEWBK9Hvd0R2fZnDCgnNRoLpSXZM07isVrzjhNSwlVebL 0kNKB/9QN2lO7U+klPNDvGL+I2BhRDMlXLeKRRKiUu/K2qu3XNgtgnANyS0I2pEg7Wva uouh49FFcWiPmMezppo1oEoIvbl6/Hm0buf9I3eu3q3BTrZ+4PjWeR6aU8U+zp0a8U9O 7xtz7WZN3xDoFWDT6Sd0i6iW+VC4IQ5TCBFQUAdazSm++BD27WlGDdi/UtoH/AIixq/F 8BG2MIMJnUc7OkfA+AjRevmQdafmGc6NestlBDk0H2tZb2+Rsnwxf0T5hx1mDk0hcd/L zJ2A== X-Gm-Message-State: AOJu0YylG+MBL98WKb9tuB/pxjG33r7bUxAW0CedWRLZ6e1Qj1xX5gW1 ojI4AstApwr0FZ6hqSivJmzvydp2Ol7ct5+CZnvBf2ZO/DdlmsqDkQBbJitCUxWDazctRl4pYH7 rol6DX4JU+91EWNXeq3BvTpA3nfmzGHCGj7bBUZmKle/u X-Gm-Gg: ASbGncswEcryOI74paXCw/lgTlqOc2egZEEFRGTJjXIWQyqBp2d5v4+bmVda/s0tSwH 3GkECe0IoReGxN1khscKg9NbJV2QFICa8R48wg3tFFxBusufVaebPnFDMbt5TDwTTjVDlnBFnkV PnXUAyPn/KtQgELlzxhpqnFieXxvOqjKI9bJr/kiF8Iht6738u/txkeDCNEYyOUXXnEW4hLDKR7 cBf4DB/nJTNhtziQpzA7LlWxMB9VCL9i9t6ppSM/A2MRxrt7ADKM9tdfc9A+BUAZo1M5kR+7Mrg 5fFekUwPlkDKGCTt+vbd7zXhHrCiPvBeL5fKsdarFLrO7qEV153keRMYoXj21lyHRKLZ8fHAJrd /QZaU2P9GwHAdtxJPkuEzTXCJllefCRA= X-Google-Smtp-Source: AGHT+IFiuiTkqDVaujuUlwUoIIXYjsxm91JBMHpZ95DBmz6zvRKVSyhvADMoGw5oVVFFdLzYoSrfE+M/bH0b X-Received: by 2002:a17:903:244f:b0:298:2cdf:56c8 with SMTP id d9443c01a7336-2984ee0aba7mr32809055ad.60.1762945727124; Wed, 12 Nov 2025 03:08:47 -0800 (PST) Received: from postal.iol.unh.edu (postal.iol.unh.edu. [132.177.123.84]) by smtp-relay.gmail.com with ESMTPS id d9443c01a7336-29852a93237sm938545ad.7.2025.11.12.03.08.47 (version=TLS1_2 cipher=ECDHE-ECDSA-AES128-GCM-SHA256 bits=128/128); Wed, 12 Nov 2025 03:08:47 -0800 (PST) X-Relaying-Domain: iol.unh.edu Date: Wed, 12 Nov 2025 03:08:47 -0800 (PST) Message-ID: <69146abf.170a0220.f5e84.460cSMTPIN_ADDED_MISSING@mx.google.com> Received: from [172.21.0.3] (unknown [172.18.0.240]) by postal.iol.unh.edu (Postfix) with ESMTP id 483D46051830; Wed, 12 Nov 2025 06:08:46 -0500 (EST) Subject: |SUCCESS| pw158695 [PATCH] license: standardize SPDX tag for 3-Claus From: dpdklab@iol.unh.edu To: Test Report Cc: dpdk-test-reports@iol.unh.edu In-Reply-To: <20251112091335.662991-1-thomas@monjalon.net> References: <20251112091335.662991-1-thomas@monjalon.net> Content-Type: text/plain X-BeenThere: test-report@dpdk.org X-Mailman-Version: 2.1.29 Precedence: list List-Id: automatic DPDK test reports List-Unsubscribe: , List-Archive: List-Post: List-Help: List-Subscribe: , Errors-To: test-report-bounces@dpdk.org Test-Label: iol-unit-amd64-testing Test-Status: SUCCESS http://dpdk.org/patch/158695 _Testing PASS_ Submitter: Thomas Monjalon Date: Wednesday, November 12 2025 09:13:35 DPDK git baseline: Repo:dpdk Branch: master CommitID:be0112878b4fc3a1b918370ed2fe615c52039d77 158695 --> testing pass Upstream job id: Generic-Unit-Test-DPDK#391442 Test environment and result as below: +-------------------------------+----------------+ | Environment | dpdk_unit_test | +===============================+================+ | CentOS Stream 10 | PASS | +-------------------------------+----------------+ | CentOS Stream 9 | PASS | +-------------------------------+----------------+ | Debian GNU/Linux 12 | PASS | +-------------------------------+----------------+ | Fedora Linux 40 | PASS | +-------------------------------+----------------+ | Fedora Linux 41 | PASS | +-------------------------------+----------------+ | Fedora Linux 42 | PASS | +-------------------------------+----------------+ | Red Hat Enterprise Linux 8.10 | PASS | +-------------------------------+----------------+ | Red Hat Enterprise Linux 9.5 | PASS | +-------------------------------+----------------+ | Ubuntu 22.04 | PASS | +-------------------------------+----------------+ | Ubuntu 20.04 | PASS | +-------------------------------+----------------+ | Ubuntu 24.04 | PASS | +-------------------------------+----------------+ CentOS Stream 10 Kernel: 5.15 Compiler: gcc gcc (GCC) 14.2.1 20250110 (Red Hat 14.2.1-8) CentOS Stream 9 Kernel: 5.15 Compiler: gcc gcc (GCC) 11.5.0 20240719 (Red Hat 11.5.0-11) Debian GNU/Linux 12 Kernel: 5.15 Compiler: gcc gcc (Debian 12.2.0-14+deb12u1) 12.2.0 Fedora Linux 40 Kernel: 5.15 Compiler: gcc gcc (GCC) 14.2.1 20240912 (Red Hat 14.2.1-3) Fedora Linux 41 Kernel: 5.15 Compiler: gcc gcc (GCC) 14.3.1 20250523 (Red Hat 14.3.1-1) Fedora Linux 42 Kernel: 5.15 Compiler: gcc gcc (GCC) 15.2.1 20250808 (Red Hat 15.2.1-1) Red Hat Enterprise Linux 8.10 Kernel: 5.15 Compiler: gcc gcc (GCC) 8.5.0 20210514 (Red Hat 8.5.0-22) Red Hat Enterprise Linux 9.5 Kernel: 5.15 Compiler: gcc gcc (GCC) 11.5.0 20240719 (Red Hat 11.5.0-2) Ubuntu 22.04 Kernel: 5.15 Compiler: gcc gcc (Ubuntu 11.4.0-1ubuntu1~22.04) 11.4.0 Ubuntu 20.04 Kernel: 5.15 Compiler: gcc gcc (Ubuntu 9.4.0-1ubuntu1~20.04.2) 9.4.0 Ubuntu 24.04 Kernel: 5.15 Compiler: gcc gcc (Ubuntu 13.3.0-6ubuntu2~24.04) 13.3.0 To view detailed results, visit: https://lab.dpdk.org/results/dashboard/patchsets/34545/ UNH-IOL DPDK Community Lab To manage your email subscriptions, visit: https://lab.dpdk.org/results/dashboard/preferences/subscriptions/