From mboxrd@z Thu Jan 1 00:00:00 1970 Return-Path: Received: from mails.dpdk.org (mails.dpdk.org [217.70.189.124]) by inbox.dpdk.org (Postfix) with ESMTP id 17C4148AED for ; Wed, 12 Nov 2025 13:24:56 +0100 (CET) Received: from mails.dpdk.org (localhost [127.0.0.1]) by mails.dpdk.org (Postfix) with ESMTP id E6C9240281; Wed, 12 Nov 2025 13:24:55 +0100 (CET) Received: from mail-pl1-f226.google.com (mail-pl1-f226.google.com [209.85.214.226]) by mails.dpdk.org (Postfix) with ESMTP id A5D4840281 for ; Wed, 12 Nov 2025 13:24:54 +0100 (CET) Received: by mail-pl1-f226.google.com with SMTP id d9443c01a7336-2980d9b7df5so6724335ad.3 for ; Wed, 12 Nov 2025 04:24:54 -0800 (PST) DKIM-Signature: v=1; a=rsa-sha256; c=relaxed/relaxed; d=iol.unh.edu; s=unh-iol; t=1762950294; x=1763555094; darn=dpdk.org; h=references:in-reply-to:cc:to:from:subject:message-id:date:from:to :cc:subject:date:message-id:reply-to; bh=qOlxA31ERcn0wqBOxZO4go6OM7mLOJhZmFbWt+KuxQs=; b=ZTcHET76Ths93c+LgyYvdqySL1rLspEDtlZeeOWBkFBIOT0ELvb1qPX2dEZ0viyjI4 vJQAC3ak4qS6jz4hHlhreMd9I8c7HUKSk8/f+lWHCW+W0RCnruWA5XF/8jlk20YSPZSr r8tvkM9MlgsHWFYh+yOMx3r6EiRDDCS9DIskk= X-Google-DKIM-Signature: v=1; a=rsa-sha256; c=relaxed/relaxed; d=1e100.net; s=20230601; t=1762950294; x=1763555094; h=references:in-reply-to:cc:to:from:subject:message-id:date:x-gm-gg :x-gm-message-state:from:to:cc:subject:date:message-id:reply-to; bh=qOlxA31ERcn0wqBOxZO4go6OM7mLOJhZmFbWt+KuxQs=; b=OnBGlYQFlKT/A9ehtgBc+e0raRixACXnqCfdZrd5dJJDhoXrqNtjtvPZ3a+Z1NkTzf JO9Wqsp0FO45lg4pYQKhNN3MWkalhXFGirjRjJEMyH/6enKJg11x7RqDXSZMZdI/RMT8 ox1kwv23fxXRXvuUwk39nEtTmpj5CxMsZEV7xjV2v8cVUB/sufx287OXARYjITRXI9jC uXpebcIBt3T2uNCHoWinnMsPhbnyUcGON5sfzoahJaBzlW9fDgtToWA7m/xaYkxuqQ+9 qgwe7VkjAVCd/eLrX0J0cDAl+9c8x9mUKMnVw0jLK6wbnAarxU1jzC4WSNfwhlLLKHaf gUeQ== X-Gm-Message-State: AOJu0Yx2hsAjp5B4e95yA2879Oo2zY8B2bu84bv+1RkJ8lD+FYk/L/h6 RhIAsf71yzb+AM4hoYRKwAg8zQVsoOfbbhF3LoXV8QLPfL92pBopxcygFJzbzwOz1u7tnFCgAYp MRfVz2167oNC5mPEosr3wc2NJcy7pSFtdt4IsIluKyHZuDfXAf+NGNFU440Ur X-Gm-Gg: ASbGncsrJb4w2lb8jFkVB4ctuWYaFHrbVqv7ue2hptOCAseDpDiCCuPPmO2ORRPr3LM 4mvokg8r1M9AlJzM+MK0LZz9ypUhqOKzSJ+/BwRlGByBZjC28geyllXw/DeK7RTivb2nDNu7Xi0 rGyOF4EOfxXzFYVrK6fN1fhclEao0k/d8CWBxFjW2O83aKK6pGVLRSlZfkP4/4g+D7hhnSg0DP/ y7mPV0uWP1uiYutdt5tx7GvrzzGNlSUeJjKkGwpSxth5WFr/WUQcPG9NUZTmJDFPFzHY1Jg6mMQ MG2ndD3nY7rCssf3DRBHiaEGDnBrDDTHZEXli9p1ZWiOoAK46WDu4PaE3+TeOXTvv3CH9lnQbYB HqiKbTcJl X-Google-Smtp-Source: AGHT+IE64xniWzwD59nFcVqzpDOPMx1Pyyu6Sr/7iAKeLRYhuwu9TxX80MtYUJxEpI6YLGH54VoVbMW9fo3U X-Received: by 2002:a17:903:4b2d:b0:28e:aacb:e702 with SMTP id d9443c01a7336-2984ed28161mr37856335ad.2.1762950293681; Wed, 12 Nov 2025 04:24:53 -0800 (PST) Received: from postal.iol.unh.edu (postal.iol.unh.edu. [2606:4100:3880:1234::84]) by smtp-relay.gmail.com with ESMTPS id d9443c01a7336-2984dbe6ad3sm2502495ad.8.2025.11.12.04.24.53 (version=TLS1_2 cipher=ECDHE-ECDSA-AES128-GCM-SHA256 bits=128/128); Wed, 12 Nov 2025 04:24:53 -0800 (PST) X-Relaying-Domain: iol.unh.edu Date: Wed, 12 Nov 2025 04:24:53 -0800 (PST) Message-ID: <69147c95.170a0220.2ab6b5.cf59SMTPIN_ADDED_MISSING@mx.google.com> Received: from [172.21.0.2] (unknown [172.18.0.240]) by postal.iol.unh.edu (Postfix) with ESMTP id D282E60003F4; Wed, 12 Nov 2025 07:24:52 -0500 (EST) Subject: |SUCCESS| pw158696-158697 [PATCH] [v3,2/2] test/crypto: add QAT AES- From: dpdklab@iol.unh.edu To: Test Report Cc: dpdk-test-reports@iol.unh.edu, Akhil Goyal In-Reply-To: <20251112101911.2377840-2-emma.finn@intel.com> References: <20251112101911.2377840-2-emma.finn@intel.com> Content-Type: text/plain X-BeenThere: test-report@dpdk.org X-Mailman-Version: 2.1.29 Precedence: list List-Id: automatic DPDK test reports List-Unsubscribe: , List-Archive: List-Post: List-Help: List-Subscribe: , Errors-To: test-report-bounces@dpdk.org Test-Label: iol-unit-amd64-testing Test-Status: SUCCESS http://dpdk.org/patch/158697 _Testing PASS_ Submitter: Emma Finn Date: Wednesday, November 12 2025 10:19:11 DPDK git baseline: Repo:dpdk-next-crypto Branch: master CommitID:8ae4f1d511226fd65a979e9f8a1e51835281a59b 158696-158697 --> testing pass Upstream job id: Generic-Unit-Test-DPDK#391481 Test environment and result as below: +-------------------------------+----------------+ | Environment | dpdk_unit_test | +===============================+================+ | Fedora Linux 42 | PASS | +-------------------------------+----------------+ | CentOS Stream 9 | PASS | +-------------------------------+----------------+ | Fedora Linux 40 | PASS | +-------------------------------+----------------+ | Fedora Linux 41 | PASS | +-------------------------------+----------------+ | Debian GNU/Linux 12 | PASS | +-------------------------------+----------------+ | CentOS Stream 10 | PASS | +-------------------------------+----------------+ | Red Hat Enterprise Linux 9.5 | PASS | +-------------------------------+----------------+ | Ubuntu 22.04 | PASS | +-------------------------------+----------------+ | Ubuntu 24.04 | PASS | +-------------------------------+----------------+ | Ubuntu 20.04 | PASS | +-------------------------------+----------------+ | Red Hat Enterprise Linux 8.10 | PASS | +-------------------------------+----------------+ Fedora Linux 42 Kernel: 5.15 Compiler: clang gcc (GCC) 15.2.1 20250808 (Red Hat 15.2.1-1) CentOS Stream 9 Kernel: 5.15 Compiler: gcc gcc (GCC) 11.5.0 20240719 (Red Hat 11.5.0-11) Fedora Linux 40 Kernel: 5.15 Compiler: gcc gcc (GCC) 14.2.1 20240912 (Red Hat 14.2.1-3) Fedora Linux 41 Kernel: 5.15 Compiler: clang gcc (GCC) 14.3.1 20250523 (Red Hat 14.3.1-1) Debian GNU/Linux 12 Kernel: 5.15 Compiler: gcc gcc (Debian 12.2.0-14+deb12u1) 12.2.0 CentOS Stream 10 Kernel: 5.15 Compiler: gcc gcc (GCC) 14.2.1 20250110 (Red Hat 14.2.1-8) Red Hat Enterprise Linux 9.5 Kernel: 5.15 Compiler: gcc gcc (GCC) 11.5.0 20240719 (Red Hat 11.5.0-2) Ubuntu 22.04 Kernel: 5.15 Compiler: gcc gcc (Ubuntu 11.4.0-1ubuntu1~22.04) 11.4.0 Ubuntu 24.04 Kernel: 5.15 Compiler: gcc gcc (Ubuntu 13.3.0-6ubuntu2~24.04) 13.3.0 Ubuntu 20.04 Kernel: 5.15 Compiler: gcc gcc (Ubuntu 9.4.0-1ubuntu1~20.04.2) 9.4.0 Red Hat Enterprise Linux 8.10 Kernel: 5.15 Compiler: gcc gcc (GCC) 8.5.0 20210514 (Red Hat 8.5.0-22) To view detailed results, visit: https://lab.dpdk.org/results/dashboard/patchsets/34546/ UNH-IOL DPDK Community Lab To manage your email subscriptions, visit: https://lab.dpdk.org/results/dashboard/preferences/subscriptions/