From mboxrd@z Thu Jan 1 00:00:00 1970 Return-Path: Received: from mails.dpdk.org (mails.dpdk.org [217.70.189.124]) by inbox.dpdk.org (Postfix) with ESMTP id A9A8148AEE for ; Wed, 12 Nov 2025 14:25:05 +0100 (CET) Received: from mails.dpdk.org (localhost [127.0.0.1]) by mails.dpdk.org (Postfix) with ESMTP id A41E4402D1; Wed, 12 Nov 2025 14:25:05 +0100 (CET) Received: from mail-yx1-f98.google.com (mail-yx1-f98.google.com [74.125.224.98]) by mails.dpdk.org (Postfix) with ESMTP id B8FD6402D1 for ; Wed, 12 Nov 2025 14:25:04 +0100 (CET) Received: by mail-yx1-f98.google.com with SMTP id 956f58d0204a3-640b4a05c1cso944547d50.3 for ; Wed, 12 Nov 2025 05:25:04 -0800 (PST) DKIM-Signature: v=1; a=rsa-sha256; c=relaxed/relaxed; d=iol.unh.edu; s=unh-iol; t=1762953904; x=1763558704; darn=dpdk.org; h=references:in-reply-to:cc:to:from:subject:message-id:date:from:to :cc:subject:date:message-id:reply-to; bh=CrXX7BDMVMfFn9izpjDHdqAnnsDTE4EqifGLX9ywFcg=; b=jT+/piaCL8mIHzJ4EVmM4Rlu9Vo04Q8XG7FzG8Dp0aeuTOzdds9Ou9meYx/GcWuSa1 KySklX3VgoXq1g48UiHZRUu5QCk1Er2skCLJ2Nbl46EYg043rEd2CjsFuGAQhlKGMPof TWsAmMRyQbTRTjcdvG9CP507FM/hY+GrTXYfU= X-Google-DKIM-Signature: v=1; a=rsa-sha256; c=relaxed/relaxed; d=1e100.net; s=20230601; t=1762953904; x=1763558704; h=references:in-reply-to:cc:to:from:subject:message-id:date:x-gm-gg :x-gm-message-state:from:to:cc:subject:date:message-id:reply-to; bh=CrXX7BDMVMfFn9izpjDHdqAnnsDTE4EqifGLX9ywFcg=; b=kr6PYGBvvu22U/GT5JySzx4htBQc6DTgMGmv2WyT5PCRidv261Up/dZQ5DN25YcGAr kwAjkiCKr7XpDIAzDSIak54DJiyaXiLJ0sSS4pndCVx0EtngLUdEJ7ZiLVUvkgesYDUP x4DYHIDmSvN7cIX4rpFRZzE7J8cuvHl9sjVQ/erzlhDlmL4Utj4exwSKpGC2hSV/mkMW /7X5ZIzpStQonzt8QIt8eEdZhcXzo7ibzP0EFqfXbSThYnTQjqkHOpC1c+1suqLQqcW0 GXzZUmCXawFCuGABGVW0J4k6j11b+L5Cou/EMxUBRncNihwok8yZpsLMN7u+yr+UsaZ3 d+AQ== X-Gm-Message-State: AOJu0YzSe3osJvgAP4cWPCJ3X/EDuWhe5eQ1+bUsPswnYwpH3Pdwq9DJ z1N+tI+vXU/PEV65MwHPvJMsvx8QxmFVifa3SogmUGp7nHyoQkhAlsq83WJ6qp8VtabiUInjGnp U2yhmKOpkv7YPyRTSTHGM0VAtm5bZXUStnSlqkEybT4En X-Gm-Gg: ASbGncsy9yLe1JtgxToIYcCyuvfvhA8Rpq7nRFz51VK0ze14u09Ie0nMIwD8eVAtK0V +1XQMHk5vjyygnjkEtFTuKifbcc7xMdGybNwOa/tw1+QB/h7pv9sz1OgSnENMky0vkECixp1/M3 u4tQD1ezEce2u2u64Q04YA1M9Tx3z2MkPUUD8XVs9TXa5La4bqmLVSF0SPIn8RZ4Lh5dK6nTu/m wh25fi+sHm7MBpgondblvjzGlEssCunCVQa+E9rJIZJald1kRiMWZsu2B9cOIBdNTGoIfq7sHqG kPTnnHrSYMOpfZDMTlu0tDV/ki15p0T5r3hkmkynD3K7iw7sBDkWquRH8s4BxmSqcFEZ5RSVfqs TrbGpOuOAIINgsisBfnz/xI/NlWddn7k= X-Google-Smtp-Source: AGHT+IGIu1xUHL5TN0xE78jyQXwnqu/TKMQrJXDBQznAY3ANZgir/YcrGOAR+gBOwfZtEKYjSdH12SW/dIAx X-Received: by 2002:a53:d004:0:b0:640:d038:faf7 with SMTP id 956f58d0204a3-64101abe13emr1953223d50.30.1762953903983; Wed, 12 Nov 2025 05:25:03 -0800 (PST) Received: from postal.iol.unh.edu (postal.iol.unh.edu. [132.177.123.84]) by smtp-relay.gmail.com with ESMTPS id 956f58d0204a3-641015c3e69sm198594d50.4.2025.11.12.05.25.03 (version=TLS1_2 cipher=ECDHE-ECDSA-AES128-GCM-SHA256 bits=128/128); Wed, 12 Nov 2025 05:25:03 -0800 (PST) X-Relaying-Domain: iol.unh.edu Date: Wed, 12 Nov 2025 05:25:03 -0800 (PST) Message-ID: <69148aaf.050a0220.362a9e.9eb9SMTPIN_ADDED_MISSING@mx.google.com> Received: from [172.21.0.4] (unknown [172.18.0.240]) by postal.iol.unh.edu (Postfix) with ESMTP id 9BF5A60003F4; Wed, 12 Nov 2025 08:25:03 -0500 (EST) Subject: |SUCCESS| pw158673-158675 [PATCH] [v5,3/3] ring: establish a safe pa From: dpdklab@iol.unh.edu To: Test Report Cc: dpdk-test-reports@iol.unh.edu In-Reply-To: <20251111183720.833295-3-wathsala.vithanage@arm.com> References: <20251111183720.833295-3-wathsala.vithanage@arm.com> Content-Type: text/plain X-BeenThere: test-report@dpdk.org X-Mailman-Version: 2.1.29 Precedence: list List-Id: automatic DPDK test reports List-Unsubscribe: , List-Archive: List-Post: List-Help: List-Subscribe: , Errors-To: test-report-bounces@dpdk.org Test-Label: iol-unit-arm64-testing Test-Status: SUCCESS http://dpdk.org/patch/158675 _Testing PASS_ Submitter: Wathsala Vithanage Date: Tuesday, November 11 2025 18:37:19 DPDK git baseline: Repo:dpdk Branch: master CommitID:2f8d3fda56754b13a09098fac1140d781366672f 158673-158675 --> testing pass Upstream job id: Generic-Unit-Test-DPDK#391194 Test environment and result as below: +------------------------------+----------------+--------------+---------------------------+------------------------------+ | Environment | dpdk_unit_test | lpm_autotest | cryptodev_sw_zuc_autotest | cryptodev_sw_snow3g_autotest | +==============================+================+==============+===========================+==============================+ | Fedora Linux 40 | PASS | SKIPPED | SKIPPED | SKIPPED | +------------------------------+----------------+--------------+---------------------------+------------------------------+ | CentOS Stream 10 | PASS | SKIPPED | SKIPPED | SKIPPED | +------------------------------+----------------+--------------+---------------------------+------------------------------+ | Debian GNU/Linux 12 | PASS | SKIPPED | SKIPPED | SKIPPED | +------------------------------+----------------+--------------+---------------------------+------------------------------+ | CentOS Stream 9 | PASS | SKIPPED | SKIPPED | SKIPPED | +------------------------------+----------------+--------------+---------------------------+------------------------------+ | Fedora Linux 41 | PASS | SKIPPED | SKIPPED | SKIPPED | +------------------------------+----------------+--------------+---------------------------+------------------------------+ | Fedora Linux 42 | PASS | SKIPPED | SKIPPED | SKIPPED | +------------------------------+----------------+--------------+---------------------------+------------------------------+ | Red Hat Enterprise Linux 9.5 | PASS | SKIPPED | SKIPPED | SKIPPED | +------------------------------+----------------+--------------+---------------------------+------------------------------+ | Ubuntu 20.04 | PASS | PASS | SKIPPED | SKIPPED | +------------------------------+----------------+--------------+---------------------------+------------------------------+ | Ubuntu 24.04 | PASS | SKIPPED | SKIPPED | SKIPPED | +------------------------------+----------------+--------------+---------------------------+------------------------------+ | Ubuntu 22.04 | PASS | SKIPPED | SKIPPED | SKIPPED | +------------------------------+----------------+--------------+---------------------------+------------------------------+ | Debian 12 (arm) | SKIPPED | SKIPPED | PASS | PASS | +------------------------------+----------------+--------------+---------------------------+------------------------------+ Fedora Linux 40 Kernel: 5.4 Compiler: gcc gcc (GCC) 14.2.1 20240912 (Red Hat 14.2.1-3) CentOS Stream 10 Kernel: 5.4 Compiler: gcc gcc (GCC) 14.2.1 20250110 (Red Hat 14.2.1-8) Debian GNU/Linux 12 Kernel: 5.4 Compiler: gcc gcc (Debian 12.2.0-14+deb12u1) 12.2.0 CentOS Stream 9 Kernel: 5.4 Compiler: gcc gcc (GCC) 11.5.0 20240719 (Red Hat 11.5.0-11) Fedora Linux 41 Kernel: 5.4 Compiler: clang gcc (GCC) 14.3.1 20250523 (Red Hat 14.3.1-1) Fedora Linux 42 Kernel: 5.4 Compiler: gcc gcc (GCC) 15.2.1 20250808 (Red Hat 15.2.1-1) Red Hat Enterprise Linux 9.5 Kernel: 5.4 Compiler: gcc gcc (GCC) 11.5.0 20240719 (Red Hat 11.5.0-2) Ubuntu 20.04 Kernel: 5.4 Compiler: gcc gcc (Ubuntu 9.4.0-1ubuntu1~20.04.2) 9.4.0 Ubuntu 24.04 Kernel: 5.4 Compiler: gcc gcc (Ubuntu 13.3.0-6ubuntu2~24.04) 13.3.0 Ubuntu 22.04 Kernel: 5.4 Compiler: gcc gcc (Ubuntu 11.4.0-1ubuntu1~22.04) 11.4.0 Debian 12 (arm) Kernel: Depends on container host Compiler: gcc (Debian 12.2.0-14) 12.2.0 To view detailed results, visit: https://lab.dpdk.org/results/dashboard/patchsets/34539/ UNH-IOL DPDK Community Lab To manage your email subscriptions, visit: https://lab.dpdk.org/results/dashboard/preferences/subscriptions/