From mboxrd@z Thu Jan 1 00:00:00 1970 Return-Path: Received: from mails.dpdk.org (mails.dpdk.org [217.70.189.124]) by inbox.dpdk.org (Postfix) with ESMTP id ED72048AEE for ; Wed, 12 Nov 2025 14:55:46 +0100 (CET) Received: from mails.dpdk.org (localhost [127.0.0.1]) by mails.dpdk.org (Postfix) with ESMTP id C966A402AF; Wed, 12 Nov 2025 14:55:46 +0100 (CET) Received: from mail-pl1-f225.google.com (mail-pl1-f225.google.com [209.85.214.225]) by mails.dpdk.org (Postfix) with ESMTP id D76C0402AF for ; Wed, 12 Nov 2025 14:55:44 +0100 (CET) Received: by mail-pl1-f225.google.com with SMTP id d9443c01a7336-297dc3e299bso8320345ad.1 for ; Wed, 12 Nov 2025 05:55:44 -0800 (PST) DKIM-Signature: v=1; a=rsa-sha256; c=relaxed/relaxed; d=iol.unh.edu; s=unh-iol; t=1762955744; x=1763560544; darn=dpdk.org; h=references:in-reply-to:cc:to:from:subject:message-id:date:from:to :cc:subject:date:message-id:reply-to; bh=5hFV8V5oMVWB8iL6QELHpzrsEMwgzmjI46ew0z9dGrc=; b=GRjJ+yXWQG4O6Bfrz3DJ5KKq+ALFV0jvPQ3AIxso232BQUhmH94oZ+Ed+XYu1pt2dl 96OxdZZk7a+7DOJY+F1zOgk63fxEkdk6L0RbJA4z7f/fVUDG0+XnJSryGIFIudnzGGNr N0RR3uiowYdBY4b2amH+laYCqq+FWOcAeQ3zs= X-Google-DKIM-Signature: v=1; a=rsa-sha256; c=relaxed/relaxed; d=1e100.net; s=20230601; t=1762955744; x=1763560544; h=references:in-reply-to:cc:to:from:subject:message-id:date:x-gm-gg :x-gm-message-state:from:to:cc:subject:date:message-id:reply-to; bh=5hFV8V5oMVWB8iL6QELHpzrsEMwgzmjI46ew0z9dGrc=; b=r5NFPiHdmJyfsnGjI5xfCEEYJPFs3eJeNbRVwTSmkT+GGdkHdsFkBZmJsuDH87nxOH pxZmdlkTVO8j4Iq5RJHvipHMeFIexGCLOb5ylgbAPV4p1wGsYCMJ74nTcfTKANL10+E7 4AWtcQ0MRfSJgcSQuQYbxLhSfLHM8obAW69mfKweGyDJRem3nE0B1BJAFV0b5VONDFKY 8ycD/fp3b/r4eA2h+DwXvkK6JvNVf9+HiewQBI93xfd5LmFRSoivbamOeQ0v1l1IYmJR Lhs9PZqYOKDFOcLHmkJPEMZ+r7q65B9dUXJ6TtaH2/HqdsqgMxgOKLSw4oU/E0R9Itz+ I+Cw== X-Gm-Message-State: AOJu0Yx4qcj6f/McttKpOhbt2IrGadtvihUQEf6YefiGsUB7P7tEk4EK JM+QxAL4wl0aLOfHltFVIZYuVNvw7Nud5l5bCLTLvMTSWSgidl//yZOrQY1kzohbIbJXqjl+DTp QxmMiuEmkJXF4k7tRWzZdLkkU2GKRyZYbw3grUzJtRt28 X-Gm-Gg: ASbGnctKSFh3fFanU4KGBosu0aPbJ+nDuK9ENoL7uKFEvBXPq+WyA9WCl+d+7WiSbwW dOczpHIarBrLxNgBZ/hvyqBgbL4hoQB8FwRofrY1cfErbIMIGD6eB+GpWpOhpLfV+mK1Stq8C0h wjlklmKfjb518En2HNfGBA1W5DK/Vt1yHfEIQPt/IlDmsr9FA2IsehEFmO9BLMwfl2GQPqFZiJH K1l0bi2HdgV9yG0hNB4BBiVflBCPpgYu9YComyjwgh4mlSNd21RYUE3hdWeG+KwjM1SysbfSe6m d+SRuJU/uNPGUeiTIoxOISdFCv3T91BAQblZE0/Z+wpVu4t+P3P+lgIZENd+WI1rGg6s/tjWtnk P0xshCPyqD9YyobfUTqm9RG51PByYCE4= X-Google-Smtp-Source: AGHT+IHHOxrtaJG9qkvxLkKpkllKyx89dgjxyzw3BKQ5h4qZhhw4TtoxbcOH5rygt5RazQA8Y+NRy7S86Zx8 X-Received: by 2002:a17:902:ce03:b0:298:4ee3:c21a with SMTP id d9443c01a7336-2984ee3c238mr39492245ad.2.1762955743349; Wed, 12 Nov 2025 05:55:43 -0800 (PST) Received: from postal.iol.unh.edu (postal.iol.unh.edu. [132.177.123.84]) by smtp-relay.gmail.com with ESMTPS id d9443c01a7336-2984dd53defsm2812705ad.61.2025.11.12.05.55.43 (version=TLS1_2 cipher=ECDHE-ECDSA-AES128-GCM-SHA256 bits=128/128); Wed, 12 Nov 2025 05:55:43 -0800 (PST) X-Relaying-Domain: iol.unh.edu Date: Wed, 12 Nov 2025 05:55:43 -0800 (PST) Message-ID: <691491df.170a0220.6d609.e2b6SMTPIN_ADDED_MISSING@mx.google.com> Received: from [172.21.0.3] (unknown [172.18.0.240]) by postal.iol.unh.edu (Postfix) with ESMTP id 87E356051830; Wed, 12 Nov 2025 08:55:42 -0500 (EST) Subject: |SUCCESS| pw158699 [PATCH] net/ice: fix path selection for QinQ Tx o From: dpdklab@iol.unh.edu To: Test Report Cc: dpdk-test-reports@iol.unh.edu, Bruce Richardson In-Reply-To: <20251112115726.1286735-1-bruce.richardson@intel.com> References: <20251112115726.1286735-1-bruce.richardson@intel.com> Content-Type: text/plain X-BeenThere: test-report@dpdk.org X-Mailman-Version: 2.1.29 Precedence: list List-Id: automatic DPDK test reports List-Unsubscribe: , List-Archive: List-Post: List-Help: List-Subscribe: , Errors-To: test-report-bounces@dpdk.org Test-Label: iol-unit-amd64-testing Test-Status: SUCCESS http://dpdk.org/patch/158699 _Testing PASS_ Submitter: Bruce Richardson Date: Wednesday, November 12 2025 11:57:26 DPDK git baseline: Repo:dpdk-next-net-intel Branch: master CommitID:1655dc989bc95fa85fc76d32912d2e46c0851148 158699 --> testing pass Upstream job id: Generic-Unit-Test-DPDK#391502 Test environment and result as below: +-------------------------------+----------------+ | Environment | dpdk_unit_test | +===============================+================+ | Debian GNU/Linux 12 | PASS | +-------------------------------+----------------+ | Fedora Linux 40 | PASS | +-------------------------------+----------------+ | CentOS Stream 9 | PASS | +-------------------------------+----------------+ | Fedora Linux 41 | PASS | +-------------------------------+----------------+ | CentOS Stream 10 | PASS | +-------------------------------+----------------+ | Fedora Linux 42 | PASS | +-------------------------------+----------------+ | Red Hat Enterprise Linux 8.10 | PASS | +-------------------------------+----------------+ | Ubuntu 22.04 | PASS | +-------------------------------+----------------+ | Ubuntu 20.04 | PASS | +-------------------------------+----------------+ | Red Hat Enterprise Linux 9.5 | PASS | +-------------------------------+----------------+ | Ubuntu 24.04 | PASS | +-------------------------------+----------------+ Debian GNU/Linux 12 Kernel: 5.15 Compiler: gcc gcc (Debian 12.2.0-14+deb12u1) 12.2.0 Fedora Linux 40 Kernel: 5.15 Compiler: gcc gcc (GCC) 14.2.1 20240912 (Red Hat 14.2.1-3) CentOS Stream 9 Kernel: 5.15 Compiler: gcc gcc (GCC) 11.5.0 20240719 (Red Hat 11.5.0-11) Fedora Linux 41 Kernel: 5.15 Compiler: gcc gcc (GCC) 14.3.1 20250523 (Red Hat 14.3.1-1) CentOS Stream 10 Kernel: 5.15 Compiler: gcc gcc (GCC) 14.2.1 20250110 (Red Hat 14.2.1-8) Fedora Linux 42 Kernel: 5.15 Compiler: gcc gcc (GCC) 15.2.1 20250808 (Red Hat 15.2.1-1) Red Hat Enterprise Linux 8.10 Kernel: 5.15 Compiler: gcc gcc (GCC) 8.5.0 20210514 (Red Hat 8.5.0-22) Ubuntu 22.04 Kernel: 5.15 Compiler: gcc gcc (Ubuntu 11.4.0-1ubuntu1~22.04) 11.4.0 Ubuntu 20.04 Kernel: 5.15 Compiler: gcc gcc (Ubuntu 9.4.0-1ubuntu1~20.04.2) 9.4.0 Red Hat Enterprise Linux 9.5 Kernel: 5.15 Compiler: gcc gcc (GCC) 11.5.0 20240719 (Red Hat 11.5.0-2) Ubuntu 24.04 Kernel: 5.15 Compiler: gcc gcc (Ubuntu 13.3.0-6ubuntu2~24.04) 13.3.0 To view detailed results, visit: https://lab.dpdk.org/results/dashboard/patchsets/34548/ UNH-IOL DPDK Community Lab To manage your email subscriptions, visit: https://lab.dpdk.org/results/dashboard/preferences/subscriptions/