From mboxrd@z Thu Jan 1 00:00:00 1970 Return-Path: Received: from mails.dpdk.org (mails.dpdk.org [217.70.189.124]) by inbox.dpdk.org (Postfix) with ESMTP id AAA8948AEE for ; Wed, 12 Nov 2025 15:02:00 +0100 (CET) Received: from mails.dpdk.org (localhost [127.0.0.1]) by mails.dpdk.org (Postfix) with ESMTP id 90EED402AF; Wed, 12 Nov 2025 15:02:00 +0100 (CET) Received: from mail-oa1-f99.google.com (mail-oa1-f99.google.com [209.85.160.99]) by mails.dpdk.org (Postfix) with ESMTP id 85834402AF for ; Wed, 12 Nov 2025 15:01:58 +0100 (CET) Received: by mail-oa1-f99.google.com with SMTP id 586e51a60fabf-3e7e57450ceso277658fac.2 for ; Wed, 12 Nov 2025 06:01:58 -0800 (PST) DKIM-Signature: v=1; a=rsa-sha256; c=relaxed/relaxed; d=iol.unh.edu; s=unh-iol; t=1762956118; x=1763560918; darn=dpdk.org; h=references:in-reply-to:cc:to:from:subject:message-id:date:from:to :cc:subject:date:message-id:reply-to; bh=tZEtGz97GXTVP4Q5fuar7JpmkLhM9cb8r7d5KXRNJJA=; b=b35NVkxGGShRrzpC+uxU3gMrvz069xD1B5IQ2wf2KC3zvNJBmi9aRmvduzPhfbiseg epKjfNtQtSBFVxRQcwJFTTGDDbnP82gsoWYTo4sfM07RnG2HEN2yYZetg3/zLD8Zb0fk bmoRdXkEAngYqKj/FhcWtG+xqRHvpJZoCbyj0= X-Google-DKIM-Signature: v=1; a=rsa-sha256; c=relaxed/relaxed; d=1e100.net; s=20230601; t=1762956118; x=1763560918; h=references:in-reply-to:cc:to:from:subject:message-id:date:x-gm-gg :x-gm-message-state:from:to:cc:subject:date:message-id:reply-to; bh=tZEtGz97GXTVP4Q5fuar7JpmkLhM9cb8r7d5KXRNJJA=; b=APXNYcUnBQdH9gJIgAuHHQmYRuYX5dGDEkLFz88PlK1XkfHmRqsj/NWadBHeYu/50Y jF8U/k3yPIOVf/LrtAGJZilxxZd094ZKKkELDl29wHMw1nUtUETKZ0R/7aNYh0WWZ4V3 jhdUyd4vnSDfzyhsmtfhJq1oM7dmwjwxvgds9L0G63dz64fvGz7tRPGoIOLIe91pJre7 QK4sFiAPZGkszCWoqoDBIaQa7BkvKV8cfxSgWHmVrOo0OTRB7n+REfSaB1X/5fiqrgvu usc9m9epjR9YbSLLcaC6RxWxUfdpRypOIIq+aYcyLnl0dYv2z2ewjOif3yzCRiUgxiIu lS6w== X-Gm-Message-State: AOJu0YyWBG3YnpQvvJcNVxn/jz+s16CAIzRuqP59+MMhGR7hKZDxa6Cf 3C3s9Fn3nt4gRMDc2NUvXMv3qd+9UYzmCNyuudxTxjouzT00AsmnITt28KOq644XZhU/QYuOaTU Jgr55VzGQ/YyTPMPfoYugykpaVnP+P1yqOdorOXcTfACA X-Gm-Gg: ASbGncuXfwYL+088KFOtahosTWphzkje6Lm+hmP8Fs3gZKv7/VxN5U5+9fg0/6UkAQ/ ytWfjRlgZr1D4TGXFcqSEaTLPvUckSq3wcFpFKUjWsKN/7AzbgwT/ShjyZxkNG0A0o7QlxPJ4lL dJvOtIQjyic0A0RtR3gvu57AOhJ3r20Om+G/xp9wWgGz6151iG8sjS4Tuz1wNg4bcQd4QvULSVt O5TL0HUXZUaMQP0dFqsp7wGjTTUrmtrxHb4P6pIq+0Gvq8PGJNpXarMo69lswQ3JTiQ9u/oGV78 TRs3tLZ0cwZ/lfYCtY7Y6c8mH0IhxfEzkzNjz3HtNZLl5eTrjCqQzr9xzlVR5Afu2m98nX8BD3T vrBhoKu+xjTY0yHkl6mlBa0IbnqAIJnQ= X-Google-Smtp-Source: AGHT+IGhH6yaZXPNr8NnwFeSrOKS5xHiZlE5/qoDLioCwcV8wyKaopINvF46owZ4a8KyDvr6BcFSem6Y88Ml X-Received: by 2002:a05:6870:d40e:b0:3e7:e064:c261 with SMTP id 586e51a60fabf-3e834104a73mr1135513fac.27.1762956117353; Wed, 12 Nov 2025 06:01:57 -0800 (PST) Received: from postal.iol.unh.edu (postal.iol.unh.edu. [132.177.123.84]) by smtp-relay.gmail.com with ESMTPS id 8926c6da1cb9f-5b7ab11f00asm256332173.25.2025.11.12.06.01.57 (version=TLS1_2 cipher=ECDHE-ECDSA-AES128-GCM-SHA256 bits=128/128); Wed, 12 Nov 2025 06:01:57 -0800 (PST) X-Relaying-Domain: iol.unh.edu Date: Wed, 12 Nov 2025 06:01:57 -0800 (PST) Message-ID: <69149355.050a0220.14dfd0.cd1eSMTPIN_ADDED_MISSING@mx.google.com> Received: from [172.21.0.4] (unknown [172.18.0.240]) by postal.iol.unh.edu (Postfix) with ESMTP id E67156051830; Wed, 12 Nov 2025 09:01:56 -0500 (EST) Subject: |SUCCESS| pw158673-158675 [PATCH] [v5,3/3] ring: establish a safe pa From: dpdklab@iol.unh.edu To: Test Report Cc: dpdk-test-reports@iol.unh.edu In-Reply-To: <20251111183720.833295-3-wathsala.vithanage@arm.com> References: <20251111183720.833295-3-wathsala.vithanage@arm.com> Content-Type: text/plain X-BeenThere: test-report@dpdk.org X-Mailman-Version: 2.1.29 Precedence: list List-Id: automatic DPDK test reports List-Unsubscribe: , List-Archive: List-Post: List-Help: List-Subscribe: , Errors-To: test-report-bounces@dpdk.org Test-Label: iol-compile-arm64-testing Test-Status: SUCCESS http://dpdk.org/patch/158675 _Testing PASS_ Submitter: Wathsala Vithanage Date: Tuesday, November 11 2025 18:37:19 DPDK git baseline: Repo:dpdk Branch: master CommitID:2f8d3fda56754b13a09098fac1140d781366672f 158673-158675 --> testing pass Upstream job id: Generic-DPDK-Compile-Meson#443133 Test environment and result as below: +------------------------------+--------------------+ | Environment | dpdk_meson_compile | +==============================+====================+ | Red Hat Enterprise Linux 9.5 | PASS | +------------------------------+--------------------+ | Ubuntu 20.04 | PASS | +------------------------------+--------------------+ | Debian GNU/Linux 12 | PASS | +------------------------------+--------------------+ | Fedora Linux 42 | PASS | +------------------------------+--------------------+ | CentOS Stream 9 | PASS | +------------------------------+--------------------+ | Ubuntu 24.04 | PASS | +------------------------------+--------------------+ | Ubuntu 22.04 | PASS | +------------------------------+--------------------+ | CentOS Stream 10 | PASS | +------------------------------+--------------------+ Red Hat Enterprise Linux 9.5 Kernel: 5.4 Compiler: gcc gcc (GCC) 11.5.0 20240719 (Red Hat 11.5.0-2) Ubuntu 20.04 Kernel: 5.4 Compiler: gcc gcc (Ubuntu 9.4.0-1ubuntu1~20.04.2) 9.4.0 Debian GNU/Linux 12 Kernel: 5.4 Compiler: gcc gcc (Debian 12.2.0-14+deb12u1) 12.2.0 Fedora Linux 42 Kernel: 5.4 Compiler: clang gcc (GCC) 15.2.1 20250808 (Red Hat 15.2.1-1) CentOS Stream 9 Kernel: 5.4 Compiler: gcc gcc (GCC) 11.5.0 20240719 (Red Hat 11.5.0-11) Ubuntu 24.04 Kernel: 5.4 Compiler: gcc gcc (Ubuntu 13.3.0-6ubuntu2~24.04) 13.3.0 Ubuntu 22.04 Kernel: 5.4 Compiler: gcc gcc (Ubuntu 11.4.0-1ubuntu1~22.04) 11.4.0 CentOS Stream 10 Kernel: 5.4 Compiler: gcc gcc (GCC) 14.2.1 20250110 (Red Hat 14.2.1-8) To view detailed results, visit: https://lab.dpdk.org/results/dashboard/patchsets/34539/ UNH-IOL DPDK Community Lab To manage your email subscriptions, visit: https://lab.dpdk.org/results/dashboard/preferences/subscriptions/