From mboxrd@z Thu Jan 1 00:00:00 1970 Return-Path: Received: from mails.dpdk.org (mails.dpdk.org [217.70.189.124]) by inbox.dpdk.org (Postfix) with ESMTP id 76B6B48AEF for ; Wed, 12 Nov 2025 16:08:11 +0100 (CET) Received: from mails.dpdk.org (localhost [127.0.0.1]) by mails.dpdk.org (Postfix) with ESMTP id 70FF5406B6; Wed, 12 Nov 2025 16:08:11 +0100 (CET) Received: from mail-pj1-f99.google.com (mail-pj1-f99.google.com [209.85.216.99]) by mails.dpdk.org (Postfix) with ESMTP id B5A2E402AF for ; Wed, 12 Nov 2025 16:08:10 +0100 (CET) Received: by mail-pj1-f99.google.com with SMTP id 98e67ed59e1d1-3437ea05540so996277a91.0 for ; Wed, 12 Nov 2025 07:08:10 -0800 (PST) DKIM-Signature: v=1; a=rsa-sha256; c=relaxed/relaxed; d=iol.unh.edu; s=unh-iol; t=1762960090; x=1763564890; darn=dpdk.org; h=references:in-reply-to:cc:to:from:subject:message-id:date:from:to :cc:subject:date:message-id:reply-to; bh=+OVd3Y6AhAEQS/Hr2cv7g5IVBWCT3qZtpnc3iCMJcdE=; b=JxESoGz5VUi15H0hS0hvBkxwwI+4CYKL5wjN2YdQF+Febij0JVwlOb2dGAi6YkNC5g TQ03f1AyuDB5HsM12iPSgDCkdqlf6ulZDb5oPgtPG7YmDaXf4d4hXpKwj/EYc6F4AEmk 7N2Ktw0x1baJxnpJYEiWK2n2VyEv2kPoqCXXY= X-Google-DKIM-Signature: v=1; a=rsa-sha256; c=relaxed/relaxed; d=1e100.net; s=20230601; t=1762960090; x=1763564890; h=references:in-reply-to:cc:to:from:subject:message-id:date:x-gm-gg :x-gm-message-state:from:to:cc:subject:date:message-id:reply-to; bh=+OVd3Y6AhAEQS/Hr2cv7g5IVBWCT3qZtpnc3iCMJcdE=; b=OE2yu24sMLAZdG7J/unZaEhGMpR46RQWPRBggnC0AkWmWkI6ddpjZ5Mv7LKXgHyXI9 Gtz2w2LXEm36RgS5/0Yixq7H448PjFzvl04Sokss6pCiDekD5lG2u5JF+iwcf+DASCXB 5W2CQTLBBw3ssmTe6Ne0jKhh7FC18L1sgczTk3gui+csrfVjeXYLl9pA8AgG5tlC954X tIbMKMia1QqkmPEoMEjm4KWCFp7xEsJ9fP3Ie7XBBmCmZ4Q7wGyzi1zAibtsm8Y+8IE/ 62YbRQcxlsWAEPOzqv9r2VhvHyGGZ6BxSfotzz2pRjWBIIfiXUg8iGwoj+aBnaanY5jS yDWA== X-Gm-Message-State: AOJu0Yw+KY+RE9dut/IOImawWDqvxt3KaGe4FpRA2Y7j+NgkHjZ+pIXC 1zEqmCu43aybBTFP3az1/GnGW26LgEnKo2mv2UXulehs9XGwmUUK3LfjvG7QtAdeJ5WnBpztxT0 wSJvx4HixAGLuBaCZjP7x9BtNIn/xegDTW1vpCY+NbQQx X-Gm-Gg: ASbGncubxEHKduYm9U1zoWpOTL3j3sKEIyR6PG1NYWqkZcVCffn7O/pSJcpxxPSq0mA Befkd/vQOEWT7SnC2CoZZln44g0cUgu8B4SYoq0mK9MEM5XFORp7/ZY/+Uh+HrU96vT/ThPykAL hJOk3DTQ93s5/0AcuNqaXsu14d1DDakRi1FjRd5v6L55Kg5H/qoYvP8WsCh9nsU4t9NuG+Pvz7E LJpF+BsTuJbSNMTL/hzY58Cnv8q8MM40/h3KdREF6nwDuzAab9MGjP3ood2Vc9zpP/YcD8/o8+s sUlpqPqcS+s/zGIh9vBwyqAwHlNJKVfdbEONhDCorhDJtE6/4YXgQcldvS4JMXw5ff2+ZUqzcp0 HAbzwP9vvyBlPQSO5X1lhv37IeLeQJek= X-Google-Smtp-Source: AGHT+IGND5kbbszCQqPAoyL7oOZ/5aVBvTZyndmQcPW7bdEg+/kBTEvpZA5iHfyNytqo/I/PWMmyGfeXWGVj X-Received: by 2002:a17:90b:1b0c:b0:340:a5b2:c30b with SMTP id 98e67ed59e1d1-343dddf6caemr4505065a91.9.1762960089863; Wed, 12 Nov 2025 07:08:09 -0800 (PST) Received: from postal.iol.unh.edu (postal.iol.unh.edu. [132.177.123.84]) by smtp-relay.gmail.com with ESMTPS id 98e67ed59e1d1-343e06fd4cfsm270762a91.1.2025.11.12.07.08.09 (version=TLS1_2 cipher=ECDHE-ECDSA-AES128-GCM-SHA256 bits=128/128); Wed, 12 Nov 2025 07:08:09 -0800 (PST) X-Relaying-Domain: iol.unh.edu Date: Wed, 12 Nov 2025 07:08:09 -0800 (PST) Message-ID: <6914a2d9.170a0220.1a875e.dcd0SMTPIN_ADDED_MISSING@mx.google.com> Received: from [172.21.0.5] (unknown [172.18.0.240]) by postal.iol.unh.edu (Postfix) with ESMTP id 278726051830; Wed, 12 Nov 2025 10:08:09 -0500 (EST) Subject: |SUCCESS| pw158676 [PATCH] config/arm: update mcpu for Cobalt-100 So From: dpdklab@iol.unh.edu To: Test Report Cc: dpdk-test-reports@iol.unh.edu In-Reply-To: <20251111190639.3470596-1-doug.foster@arm.com> References: <20251111190639.3470596-1-doug.foster@arm.com> Content-Type: text/plain X-BeenThere: test-report@dpdk.org X-Mailman-Version: 2.1.29 Precedence: list List-Id: automatic DPDK test reports List-Unsubscribe: , List-Archive: List-Post: List-Help: List-Subscribe: , Errors-To: test-report-bounces@dpdk.org Test-Label: iol-compile-arm64-testing Test-Status: SUCCESS http://dpdk.org/patch/158676 _Testing PASS_ Submitter: Doug Foster Date: Tuesday, November 11 2025 19:06:38 DPDK git baseline: Repo:dpdk Branch: master CommitID:be0112878b4fc3a1b918370ed2fe615c52039d77 158676 --> testing pass Upstream job id: Generic-DPDK-Compile-Meson#443147 Test environment and result as below: +------------------------------+--------------------+ | Environment | dpdk_meson_compile | +==============================+====================+ | Ubuntu 24.04 | PASS | +------------------------------+--------------------+ | Ubuntu 20.04 | PASS | +------------------------------+--------------------+ | Debian GNU/Linux 12 | PASS | +------------------------------+--------------------+ | Red Hat Enterprise Linux 9.5 | PASS | +------------------------------+--------------------+ | CentOS Stream 9 | PASS | +------------------------------+--------------------+ | Fedora Linux 42 | PASS | +------------------------------+--------------------+ | Ubuntu 22.04 | PASS | +------------------------------+--------------------+ | CentOS Stream 10 | PASS | +------------------------------+--------------------+ Ubuntu 24.04 Kernel: 5.4 Compiler: gcc gcc (Ubuntu 13.3.0-6ubuntu2~24.04) 13.3.0 Ubuntu 20.04 Kernel: 5.4 Compiler: gcc gcc (Ubuntu 9.4.0-1ubuntu1~20.04.2) 9.4.0 Debian GNU/Linux 12 Kernel: 5.4 Compiler: gcc gcc (Debian 12.2.0-14+deb12u1) 12.2.0 Red Hat Enterprise Linux 9.5 Kernel: 5.4 Compiler: gcc gcc (GCC) 11.5.0 20240719 (Red Hat 11.5.0-2) CentOS Stream 9 Kernel: 5.4 Compiler: gcc gcc (GCC) 11.5.0 20240719 (Red Hat 11.5.0-11) Fedora Linux 42 Kernel: 5.4 Compiler: gcc gcc (GCC) 15.2.1 20250808 (Red Hat 15.2.1-1) Ubuntu 22.04 Kernel: 5.4 Compiler: gcc gcc (Ubuntu 11.4.0-1ubuntu1~22.04) 11.4.0 CentOS Stream 10 Kernel: 5.4 Compiler: gcc gcc (GCC) 14.2.1 20250110 (Red Hat 14.2.1-8) To view detailed results, visit: https://lab.dpdk.org/results/dashboard/patchsets/34540/ UNH-IOL DPDK Community Lab To manage your email subscriptions, visit: https://lab.dpdk.org/results/dashboard/preferences/subscriptions/