From mboxrd@z Thu Jan 1 00:00:00 1970 Return-Path: Received: from mails.dpdk.org (mails.dpdk.org [217.70.189.124]) by inbox.dpdk.org (Postfix) with ESMTP id 2EB5748AEF for ; Wed, 12 Nov 2025 16:14:39 +0100 (CET) Received: from mails.dpdk.org (localhost [127.0.0.1]) by mails.dpdk.org (Postfix) with ESMTP id 286FF402AF; Wed, 12 Nov 2025 16:14:39 +0100 (CET) Received: from mail-yx1-f98.google.com (mail-yx1-f98.google.com [74.125.224.98]) by mails.dpdk.org (Postfix) with ESMTP id 00667402AF for ; Wed, 12 Nov 2025 16:14:37 +0100 (CET) Received: by mail-yx1-f98.google.com with SMTP id 956f58d0204a3-63f9beb27b9so907234d50.1 for ; Wed, 12 Nov 2025 07:14:37 -0800 (PST) DKIM-Signature: v=1; a=rsa-sha256; c=relaxed/relaxed; d=iol.unh.edu; s=unh-iol; t=1762960477; x=1763565277; darn=dpdk.org; h=cc:to:from:subject:message-id:date:from:to:cc:subject:date :message-id:reply-to; bh=7Qe07McrtrGoyCVqPALqH3GlsitPPDkkf6/yOXcA6JA=; b=PMJvzKg1P3PCtC1YOaIow+UX9sUEXyecbpS5ASebzdMq5JIQMFEh/xp0KNZHLRmhQ6 eWbqpv1z6u0DFg6zqDsBG1AcQ8w/lXhF6U/KnzCbxInZ/Msnw/n4o0Zo6gO8Ag4I6Man FHFApeS/uPAhbGkkU+8148LTKAjiPeoESKB3M= X-Google-DKIM-Signature: v=1; a=rsa-sha256; c=relaxed/relaxed; d=1e100.net; s=20230601; t=1762960477; x=1763565277; h=cc:to:from:subject:message-id:date:x-gm-gg:x-gm-message-state:from :to:cc:subject:date:message-id:reply-to; bh=7Qe07McrtrGoyCVqPALqH3GlsitPPDkkf6/yOXcA6JA=; b=J5Mlz1As5LEuGZJ6DmlKqlzFBCs5rztQrBTUiRTOzj/qB+d32+d3x97vLmbmemJZOl a9tOO3MDl2WEOyxPkSJjI2vPrf0adPDRpjj4gmouabfSdRw70N++4FvI9s7/dXN5Ykgk YTgf+zkUPOwi+AOccvCQuKfNkhOMMiNlyVxiK99U89fOc/Afy5TvpUumKeyhHH69m0QZ KwF6q5CBldL5Xl88xPLo4Z8RNBZmRZk9lm28BC3jzpWUvJCst0StyuLIxJEtiiunZrni S+9byh+LPWl9YPIpqj8nzwTHUoens/Q/XxxhswNlP++3AOo/y4VAZWFGQsjK2kPzYA9J dl9A== X-Gm-Message-State: AOJu0Yw8IGs3nnjR0hXchYSlS9NQfJWfq+BDxN9RDx4jPxWntnwFeAK1 rW3ZpraeZH8sj8dQpeqYI8pGyH77CG1bB3vHvAPnE1aFJ3kWzLjbwuOc1neg8WO9iP+Zqv7FMpV 90jrNHmuDfY84NFQtkyvoewbQ5shbBycDl/Q8RJSBCcznzA9DON/l X-Gm-Gg: ASbGnctKoPKfBbIz0M/hQK6msd9GrUY8NxacbUECPteyDITIiGdynd1GOzJwgBGyVgF 8ooO42qiDspscPrXn2R96wq6uVyCqwxIFvLSyZsVWma3HkzWY4TqR4IT9jLMZhKSQnXlzeCBqSL Fhu3Ud/fGEIAn6NyyRGAyd8C+ZTaPO6FXTh+xqOu+z7G9EhLCXavnpth//2TmE6WTi7vRuX6B2Z 5InevohrLmTkgdTBZmAi7rR0WBDKMQUJWACQn2XGDdM8lACRZs1XK5efPOwf3ssjRQB+Ht3nXac p80VXrdn2Xl5fwGHgBaWouWQryIyrcvwis3trdb0qDm1+ptPgL+wU+OiixSONvokzI09cocYnX8 h7Cx7Dy6l X-Google-Smtp-Source: AGHT+IHlesaMiHpEHx/O8XdQi8/goRqQAJMjTp4l5FNhVm8CMnV1nvYy9WI6WvAd8PMBdb5KqvCx5ZtTRgDA X-Received: by 2002:a05:690e:2582:b0:63f:ab6b:e36d with SMTP id 956f58d0204a3-64101a472c4mr2508161d50.23.1762960477250; Wed, 12 Nov 2025 07:14:37 -0800 (PST) Received: from postal.iol.unh.edu (postal.iol.unh.edu. [2606:4100:3880:1234::84]) by smtp-relay.gmail.com with ESMTPS id 956f58d0204a3-641015dd2dcsm204358d50.7.2025.11.12.07.14.37 (version=TLS1_2 cipher=ECDHE-ECDSA-AES128-GCM-SHA256 bits=128/128); Wed, 12 Nov 2025 07:14:37 -0800 (PST) X-Relaying-Domain: iol.unh.edu Date: Wed, 12 Nov 2025 07:14:37 -0800 (PST) Message-ID: <6914a45d.050a0220.9e920.9e94SMTPIN_ADDED_MISSING@mx.google.com> Received: from [172.21.0.3] (unknown [172.18.0.240]) by postal.iol.unh.edu (Postfix) with ESMTP id E59706051830; Wed, 12 Nov 2025 10:14:36 -0500 (EST) Subject: |SUCCESS| [GIT MASTER] 9784db2c5af1eecd02fc21132b59b5b266039b87 From: dpdklab@iol.unh.edu To: Test Report Cc: dpdk-test-reports@iol.unh.edu, Xueming Li , Christian Ehrhardt , Kevin Traynor , Luca Boccassi Content-Type: text/plain X-BeenThere: test-report@dpdk.org X-Mailman-Version: 2.1.29 Precedence: list List-Id: automatic DPDK test reports List-Unsubscribe: , List-Archive: List-Post: List-Help: List-Subscribe: , Errors-To: test-report-bounces@dpdk.org _Testing PASS_ Branch: tags/v22.11 9784db2c5af1eecd02fc21132b59b5b266039b87 --> testing pass Upstream job id: Generic-DPDK-Compile-Meson#443262 Test environment and result as below: +-------------------------------+--------------------+ | Environment | dpdk_meson_compile | +===============================+====================+ | FreeBSD 14.2 | PASS | +-------------------------------+--------------------+ | Ubuntu 20.04 | PASS | +-------------------------------+--------------------+ | CentOS Stream 9 | PASS | +-------------------------------+--------------------+ | CentOS Stream 10 | PASS | +-------------------------------+--------------------+ | Debian GNU/Linux 12 | PASS | +-------------------------------+--------------------+ | Fedora Linux 42 | PASS | +-------------------------------+--------------------+ | openSUSE Leap 15.6 | PASS | +-------------------------------+--------------------+ | Red Hat Enterprise Linux 8.10 | PASS | +-------------------------------+--------------------+ | Red Hat Enterprise Linux 9.5 | PASS | +-------------------------------+--------------------+ | Ubuntu 22.04 | PASS | +-------------------------------+--------------------+ | Ubuntu 24.04 | PASS | +-------------------------------+--------------------+ FreeBSD 14.2 Kernel: 14.2-RELEASE Compiler: clang 18.1.6 Ubuntu 20.04 Kernel: 4.19 Compiler: gcc gcc (Ubuntu 9.4.0-1ubuntu1~20.04.2) 9.4.0 CentOS Stream 9 Kernel: 5.15 Compiler: gcc gcc (GCC) 11.5.0 20240719 (Red Hat 11.5.0-11) CentOS Stream 10 Kernel: 5.15 Compiler: gcc gcc (GCC) 14.2.1 20250110 (Red Hat 14.2.1-8) Debian GNU/Linux 12 Kernel: 5.15 Compiler: gcc gcc (Debian 12.2.0-14+deb12u1) 12.2.0 Fedora Linux 42 Kernel: 5.15 Compiler: clang gcc (GCC) 15.2.1 20250808 (Red Hat 15.2.1-1) openSUSE Leap 15.6 Kernel: 5.15 Compiler: gcc gcc (SUSE Linux) 7.5.0 Red Hat Enterprise Linux 8.10 Kernel: 5.15 Compiler: gcc gcc (GCC) 8.5.0 20210514 (Red Hat 8.5.0-22) Red Hat Enterprise Linux 9.5 Kernel: 5.15 Compiler: gcc gcc (GCC) 11.5.0 20240719 (Red Hat 11.5.0-2) Ubuntu 22.04 Kernel: 5.15 Compiler: gcc gcc (Ubuntu 11.4.0-1ubuntu1~22.04) 11.4.0 Ubuntu 24.04 Kernel: 5.15 Compiler: gcc gcc (Ubuntu 13.3.0-6ubuntu2~24.04) 13.3.0 To view detailed results, visit: https://lab.dpdk.org/results/dashboard/tarballs/35549/ UNH-IOL DPDK Community Lab To manage your email subscriptions, visit: https://lab.dpdk.org/results/dashboard/preferences/subscriptions/