From mboxrd@z Thu Jan 1 00:00:00 1970 Return-Path: Received: from mails.dpdk.org (mails.dpdk.org [217.70.189.124]) by inbox.dpdk.org (Postfix) with ESMTP id 8C85F48AEF for ; Wed, 12 Nov 2025 16:45:45 +0100 (CET) Received: from mails.dpdk.org (localhost [127.0.0.1]) by mails.dpdk.org (Postfix) with ESMTP id 86D8C402AF; Wed, 12 Nov 2025 16:45:45 +0100 (CET) Received: from mail-vs1-f97.google.com (mail-vs1-f97.google.com [209.85.217.97]) by mails.dpdk.org (Postfix) with ESMTP id E03CC402AF for ; Wed, 12 Nov 2025 16:45:43 +0100 (CET) Received: by mail-vs1-f97.google.com with SMTP id ada2fe7eead31-5dfaf0a5da3so104411137.0 for ; Wed, 12 Nov 2025 07:45:43 -0800 (PST) DKIM-Signature: v=1; a=rsa-sha256; c=relaxed/relaxed; d=iol.unh.edu; s=unh-iol; t=1762962343; x=1763567143; darn=dpdk.org; h=references:in-reply-to:cc:to:from:subject:message-id:date:from:to :cc:subject:date:message-id:reply-to; bh=sLtJQY5WYxVDrK/SBznpY/TFizQuzBihIoav036ho/w=; b=aKklnG3gMXAWGglH6wVar4o+U3DaMAP4vx/0EbOVPJdioWpyEv1t1snXDrgSqmqSL0 QZIinR2bYT3auJR8E4eUDTijrpC/cB+BkpMxnkFLcI0eiZFqplG/x0ERYH6wb0RpSEGW 223BuDwDHmG58ClVCvWGWTpv/xqMldXo68JjI= X-Google-DKIM-Signature: v=1; a=rsa-sha256; c=relaxed/relaxed; d=1e100.net; s=20230601; t=1762962343; x=1763567143; h=references:in-reply-to:cc:to:from:subject:message-id:date:x-gm-gg :x-gm-message-state:from:to:cc:subject:date:message-id:reply-to; bh=sLtJQY5WYxVDrK/SBznpY/TFizQuzBihIoav036ho/w=; b=iDe6BMoPwlSdl9ZG2aH+EG1zsu4MPDeVjXgLp5tjfwO50741xthnIHLbpVM3VAe0i1 QCGmrPv63eEYnJJRogM5sJ8lZqXNtSMwyffrmaeGuRYN3uorjFM5D0LMFbRK1AZN4Q5d h3/kV+GA9qqqsgfAkZqVxGB8S1FzMhE+cFY6jrTEtPgCnLu9tavCY3XPLtEDESt+yxuN mUzuv0ROahwC688d4ZCVJr0OKk1ju+mcS9yNY/vaxSB/gjCGCZRQuQPpYovI89wfR7XZ KWAJoupy7wsmebtbhMamce92W2LsLCr3BG5+wZACCkY9beiNTtyZ5es+1k+RR0+R1VJs TmMA== X-Gm-Message-State: AOJu0YwmrU/zx8rvCqoJ7MfDLVmBJ9F5cN2TMWcyrmTzgUkYsRqqZXXQ ZOyNKxLuueo48ohWqzPCwg/Hrg6g5JeqBhfJhipCIkh1wjZV5epPpXF2g/FKpwnWzyE3JM6fCar 9g71IVDuB067Nu9/4MO+bZpbz8lpBlPnEihFHNDUvxRJDP+NfW3i7SL5mpuxu X-Gm-Gg: ASbGncsYqiTNA6HHmABJmwyinhYBmDmyQXyKdhRX4PDwtKwXkIEsKjMqWNj8xQh5l7J jSzzgsmdV6PC0g5oy0qiLWyu1Oaouduio4CiqwpJSBUmijX/clAnS2CFKesYALL7mbn8j8WwS6H LbaM00fovPJ3n/vdAM4QKYOLECk58JX/tFM2V3bCQor50fQKnZmgAmE+w6YPC3OCL+Pand9PkX8 kQneAVk/DdSXcm73HrZU/t1J2rjgyS+4cvLFBwYu3LbNglhGl5q8oW6p0/vhOdw3ydjStWT9kfu 1vLW+SiXH0gG1YFVl0pvGhdHlp9Lg6i6o2TLQMNTTc5l7NY7n6tuRr2HYMm46MoVU8XY2DxOUdK Vhlo34Qgu X-Google-Smtp-Source: AGHT+IHczR5fd8cpRFQJxC4NefnrNO7faN7eqQLyRIFkaWl0X8qbHRnYbK3PuUAEShxo7urLZqZM40b6JJZ8 X-Received: by 2002:a05:6102:38d1:b0:5db:7bbc:4279 with SMTP id ada2fe7eead31-5de07f173fbmr1025222137.40.1762962343145; Wed, 12 Nov 2025 07:45:43 -0800 (PST) Received: from postal.iol.unh.edu (postal.iol.unh.edu. [2606:4100:3880:1234::84]) by smtp-relay.gmail.com with ESMTPS id 71dfb90a1353d-55995784475sm1832283e0c.4.2025.11.12.07.45.43 (version=TLS1_2 cipher=ECDHE-ECDSA-AES128-GCM-SHA256 bits=128/128); Wed, 12 Nov 2025 07:45:43 -0800 (PST) X-Relaying-Domain: iol.unh.edu Date: Wed, 12 Nov 2025 07:45:43 -0800 (PST) Message-ID: <6914aba7.050a0220.11cb28.da64SMTPIN_ADDED_MISSING@mx.google.com> Received: from [172.21.0.3] (unknown [172.18.0.240]) by postal.iol.unh.edu (Postfix) with ESMTP id 98EF36050A61; Wed, 12 Nov 2025 10:45:42 -0500 (EST) Subject: |SUCCESS| pw158701 [PATCH] [V3] net/mlx5: fix IPv6 DSCP offset in HW From: dpdklab@iol.unh.edu To: Test Report Cc: dpdk-test-reports@iol.unh.edu In-Reply-To: <20251112134236.195614-1-gavinl@nvidia.com> References: <20251112134236.195614-1-gavinl@nvidia.com> Content-Type: text/plain X-BeenThere: test-report@dpdk.org X-Mailman-Version: 2.1.29 Precedence: list List-Id: automatic DPDK test reports List-Unsubscribe: , List-Archive: List-Post: List-Help: List-Subscribe: , Errors-To: test-report-bounces@dpdk.org Test-Label: iol-unit-amd64-testing Test-Status: SUCCESS http://dpdk.org/patch/158701 _Testing PASS_ Submitter: Gavin Li Date: Wednesday, November 12 2025 13:42:36 DPDK git baseline: Repo:dpdk-next-net-mlx Branch: master CommitID:ae657d56b1f0ea979b3f611edf28d773efc2ddcf 158701 --> testing pass Upstream job id: Generic-Unit-Test-DPDK#391529 Test environment and result as below: +-------------------------------+----------------+ | Environment | dpdk_unit_test | +===============================+================+ | Red Hat Enterprise Linux 9.5 | PASS | +-------------------------------+----------------+ | CentOS Stream 9 | PASS | +-------------------------------+----------------+ | Fedora Linux 42 | PASS | +-------------------------------+----------------+ | Debian GNU/Linux 12 | PASS | +-------------------------------+----------------+ | Ubuntu 22.04 | PASS | +-------------------------------+----------------+ | Fedora Linux 41 | PASS | +-------------------------------+----------------+ | Ubuntu 20.04 | PASS | +-------------------------------+----------------+ | Ubuntu 24.04 | PASS | +-------------------------------+----------------+ | Fedora Linux 40 | PASS | +-------------------------------+----------------+ | CentOS Stream 10 | PASS | +-------------------------------+----------------+ | Red Hat Enterprise Linux 8.10 | PASS | +-------------------------------+----------------+ Red Hat Enterprise Linux 9.5 Kernel: 5.15 Compiler: gcc gcc (GCC) 11.5.0 20240719 (Red Hat 11.5.0-2) CentOS Stream 9 Kernel: 5.15 Compiler: gcc gcc (GCC) 11.5.0 20240719 (Red Hat 11.5.0-11) Fedora Linux 42 Kernel: 5.15 Compiler: gcc gcc (GCC) 15.2.1 20250808 (Red Hat 15.2.1-1) Debian GNU/Linux 12 Kernel: 5.15 Compiler: gcc gcc (Debian 12.2.0-14+deb12u1) 12.2.0 Ubuntu 22.04 Kernel: 5.15 Compiler: gcc gcc (Ubuntu 11.4.0-1ubuntu1~22.04) 11.4.0 Fedora Linux 41 Kernel: 5.15 Compiler: clang gcc (GCC) 14.3.1 20250523 (Red Hat 14.3.1-1) Ubuntu 20.04 Kernel: 5.15 Compiler: gcc gcc (Ubuntu 9.4.0-1ubuntu1~20.04.2) 9.4.0 Ubuntu 24.04 Kernel: 5.15 Compiler: gcc gcc (Ubuntu 13.3.0-6ubuntu2~24.04) 13.3.0 Fedora Linux 40 Kernel: 5.15 Compiler: gcc gcc (GCC) 14.2.1 20240912 (Red Hat 14.2.1-3) CentOS Stream 10 Kernel: 5.15 Compiler: gcc gcc (GCC) 14.2.1 20250110 (Red Hat 14.2.1-8) Red Hat Enterprise Linux 8.10 Kernel: 5.15 Compiler: gcc gcc (GCC) 8.5.0 20210514 (Red Hat 8.5.0-22) To view detailed results, visit: https://lab.dpdk.org/results/dashboard/patchsets/34550/ UNH-IOL DPDK Community Lab To manage your email subscriptions, visit: https://lab.dpdk.org/results/dashboard/preferences/subscriptions/