From mboxrd@z Thu Jan 1 00:00:00 1970 Return-Path: Received: from mails.dpdk.org (mails.dpdk.org [217.70.189.124]) by inbox.dpdk.org (Postfix) with ESMTP id F013F48AEF for ; Wed, 12 Nov 2025 17:13:33 +0100 (CET) Received: from mails.dpdk.org (localhost [127.0.0.1]) by mails.dpdk.org (Postfix) with ESMTP id CC0F3402AF; Wed, 12 Nov 2025 17:13:33 +0100 (CET) Received: from mail-pl1-f227.google.com (mail-pl1-f227.google.com [209.85.214.227]) by mails.dpdk.org (Postfix) with ESMTP id C8168402AF for ; Wed, 12 Nov 2025 17:13:32 +0100 (CET) Received: by mail-pl1-f227.google.com with SMTP id d9443c01a7336-298456bb53aso11399115ad.0 for ; Wed, 12 Nov 2025 08:13:32 -0800 (PST) DKIM-Signature: v=1; a=rsa-sha256; c=relaxed/relaxed; d=iol.unh.edu; s=unh-iol; t=1762964012; x=1763568812; darn=dpdk.org; h=references:in-reply-to:cc:to:from:subject:message-id:date:from:to :cc:subject:date:message-id:reply-to; bh=IEAAbhUQ8ytAL88lNU2tNL2INwb3WWh+40/lKpkyV3I=; b=eURXC9kc5ssLHbL+BauHxnOESLaOPcYZ1ieI+tjOZGp793gPbPh1xpZ6OnKWLu1pLS c1qtKfPiFfevEGX7p7pH/ORTnQoT0WX7Jbw95ZOUXtjXZD4rcS4fGJwZAVLJvYmxaTvW EKdl8LgW8i4qWx8VsjERnTCRi/Ef8DVaANIHg= X-Google-DKIM-Signature: v=1; a=rsa-sha256; c=relaxed/relaxed; d=1e100.net; s=20230601; t=1762964012; x=1763568812; h=references:in-reply-to:cc:to:from:subject:message-id:date:x-gm-gg :x-gm-message-state:from:to:cc:subject:date:message-id:reply-to; bh=IEAAbhUQ8ytAL88lNU2tNL2INwb3WWh+40/lKpkyV3I=; b=jUliV8n95aCYePY09J9GE1/LGxdJDECOleKZBHzL1Ht7RWiVd6b3LLJfjWDQm3lC1S 7IVAChEgtLrAahLpCdYHCvPjt2hMlccWR+VE189yffgNivvgL9fxGXqZeGOBMZMyKjm0 RMZOmgh+qbpcvW7qhLbScGJBmcilVAnIvQG85pqzY9DL7MgDNMbQlkZRak7xg7ID+7hU PS5lv02hTFp0kg8fn2dJ0aIWz4c52maT+niBaJAyLBnD3zzijIsBPpWXjIxgg7sCc0ON qMTXEjhMNJkKk4vvuVD5jgbIohEHFA2Iny7cy3+9kcPnu29hO9RaLATRVBOpi+tN5R38 f+Sw== X-Gm-Message-State: AOJu0Ywt5DsqmjwxVTb2LsLXe8Q+weUqqADii6ALc8jUW2xTi2c2pawU MZSeMKGdKrbEo8oPRy6nAesra1Akm/rqy7BxC85arZqamYbOzUn+D1dnZnWNEERN5KboLGYlgOT i5j6rwCtEDm550Br/H66A0Ou3LO00fc+9xJm6tWwwzt8U X-Gm-Gg: ASbGncvkCx7vy/PZdWrhAFWpsllgBI2D1Y+5/nTFFwsh2qWybwQdqEqqCuriFRKVUe/ 8Y5ETt/2EZU0EMsqhUSFlW2MYS/IcaFwzFSto23/zppaWkdNGTf1RetIlqcD8vgdcOGPfjC+SKX OrjdNbBrNrFa6f9WU7aJF7iUS3zK/616hrDRC4omqhnpeceo80RfgYqDk68+6tFc5BPD+zLyzqm PkvNKILCfr0x5omLvqw81KatidgWl1lkcTJk9IU01od+GBtHoGgsNfubvSpXygkujNwfi6xDd47 qjNR/g+mzktIPa+mlgI49Ts1cwQ0NoC52uuFCbUtgLTx+1AXj8fOD+gCbrCcXIrDPvYu1pt9Iij qsDzbAgSNMvZ3ID9LxpkD3KkPd8peiwM= X-Google-Smtp-Source: AGHT+IHvYT1e6a0K8/c/2laGad4N/V2T08WAWHQdqk+ppgvoIGY6GQuPNkMOaAqaeaBpMMgn0KUYVcKBJ+/4 X-Received: by 2002:a17:903:3d0b:b0:294:9699:74f6 with SMTP id d9443c01a7336-2984edddbafmr46504765ad.43.1762964011864; Wed, 12 Nov 2025 08:13:31 -0800 (PST) Received: from postal.iol.unh.edu (postal.iol.unh.edu. [132.177.123.84]) by smtp-relay.gmail.com with ESMTPS id d9443c01a7336-2984dd3e0a9sm3182375ad.54.2025.11.12.08.13.31 (version=TLS1_2 cipher=ECDHE-ECDSA-AES128-GCM-SHA256 bits=128/128); Wed, 12 Nov 2025 08:13:31 -0800 (PST) X-Relaying-Domain: iol.unh.edu Date: Wed, 12 Nov 2025 08:13:31 -0800 (PST) Message-ID: <6914b22b.170a0220.1a6e20.030fSMTPIN_ADDED_MISSING@mx.google.com> Received: from [172.21.0.2] (unknown [172.18.0.240]) by postal.iol.unh.edu (Postfix) with ESMTP id 1A1756050A61; Wed, 12 Nov 2025 11:13:31 -0500 (EST) Subject: |SUCCESS| pw158702-158704 [PATCH] [v2,3/3] net/fm10k: fix null packe From: dpdklab@iol.unh.edu To: Test Report Cc: dpdk-test-reports@iol.unh.edu, Bruce Richardson In-Reply-To: <20251112141059.1576919-4-bruce.richardson@intel.com> References: <20251112141059.1576919-4-bruce.richardson@intel.com> Content-Type: text/plain X-BeenThere: test-report@dpdk.org X-Mailman-Version: 2.1.29 Precedence: list List-Id: automatic DPDK test reports List-Unsubscribe: , List-Archive: List-Post: List-Help: List-Subscribe: , Errors-To: test-report-bounces@dpdk.org Test-Label: iol-unit-amd64-testing Test-Status: SUCCESS http://dpdk.org/patch/158704 _Testing PASS_ Submitter: Bruce Richardson Date: Wednesday, November 12 2025 14:10:59 DPDK git baseline: Repo:dpdk-next-net-intel Branch: master CommitID:be0112878b4fc3a1b918370ed2fe615c52039d77 158702-158704 --> testing pass Upstream job id: Generic-Unit-Test-DPDK#391562 Test environment and result as below: +-------------------------------+----------------+ | Environment | dpdk_unit_test | +===============================+================+ | Fedora Linux 40 | PASS | +-------------------------------+----------------+ | Debian GNU/Linux 12 | PASS | +-------------------------------+----------------+ | Fedora Linux 41 | PASS | +-------------------------------+----------------+ | CentOS Stream 10 | PASS | +-------------------------------+----------------+ | Red Hat Enterprise Linux 8.10 | PASS | +-------------------------------+----------------+ | Ubuntu 22.04 | PASS | +-------------------------------+----------------+ | Ubuntu 24.04 | PASS | +-------------------------------+----------------+ | Fedora Linux 42 | PASS | +-------------------------------+----------------+ | CentOS Stream 9 | PASS | +-------------------------------+----------------+ | Red Hat Enterprise Linux 9.5 | PASS | +-------------------------------+----------------+ | Ubuntu 20.04 | PASS | +-------------------------------+----------------+ Fedora Linux 40 Kernel: 5.15 Compiler: clang gcc (GCC) 14.2.1 20240912 (Red Hat 14.2.1-3) Debian GNU/Linux 12 Kernel: 5.15 Compiler: gcc gcc (Debian 12.2.0-14+deb12u1) 12.2.0 Fedora Linux 41 Kernel: 5.15 Compiler: clang gcc (GCC) 14.3.1 20250523 (Red Hat 14.3.1-1) CentOS Stream 10 Kernel: 5.15 Compiler: gcc gcc (GCC) 14.2.1 20250110 (Red Hat 14.2.1-8) Red Hat Enterprise Linux 8.10 Kernel: 5.15 Compiler: gcc gcc (GCC) 8.5.0 20210514 (Red Hat 8.5.0-22) Ubuntu 22.04 Kernel: 5.15 Compiler: gcc gcc (Ubuntu 11.4.0-1ubuntu1~22.04) 11.4.0 Ubuntu 24.04 Kernel: 5.15 Compiler: gcc gcc (Ubuntu 13.3.0-6ubuntu2~24.04) 13.3.0 Fedora Linux 42 Kernel: 5.15 Compiler: gcc gcc (GCC) 15.2.1 20250808 (Red Hat 15.2.1-1) CentOS Stream 9 Kernel: 5.15 Compiler: gcc gcc (GCC) 11.5.0 20240719 (Red Hat 11.5.0-11) Red Hat Enterprise Linux 9.5 Kernel: 5.15 Compiler: gcc gcc (GCC) 11.5.0 20240719 (Red Hat 11.5.0-2) Ubuntu 20.04 Kernel: 5.15 Compiler: gcc gcc (Ubuntu 9.4.0-1ubuntu1~20.04.2) 9.4.0 To view detailed results, visit: https://lab.dpdk.org/results/dashboard/patchsets/34551/ UNH-IOL DPDK Community Lab To manage your email subscriptions, visit: https://lab.dpdk.org/results/dashboard/preferences/subscriptions/