From mboxrd@z Thu Jan 1 00:00:00 1970 Return-Path: Received: from mails.dpdk.org (mails.dpdk.org [217.70.189.124]) by inbox.dpdk.org (Postfix) with ESMTP id A7AF148AEF for ; Wed, 12 Nov 2025 17:33:43 +0100 (CET) Received: from mails.dpdk.org (localhost [127.0.0.1]) by mails.dpdk.org (Postfix) with ESMTP id A3C83402A0; Wed, 12 Nov 2025 17:33:43 +0100 (CET) Received: from mail-il1-f227.google.com (mail-il1-f227.google.com [209.85.166.227]) by mails.dpdk.org (Postfix) with ESMTP id 81873402A0 for ; Wed, 12 Nov 2025 17:33:42 +0100 (CET) Received: by mail-il1-f227.google.com with SMTP id e9e14a558f8ab-4330ef18daeso4708955ab.3 for ; Wed, 12 Nov 2025 08:33:42 -0800 (PST) DKIM-Signature: v=1; a=rsa-sha256; c=relaxed/relaxed; d=iol.unh.edu; s=unh-iol; t=1762965222; x=1763570022; darn=dpdk.org; h=references:in-reply-to:cc:to:from:subject:message-id:date:from:to :cc:subject:date:message-id:reply-to; bh=C9HsC9sXJ6OZ3JbbJnCXpZ9C9AiJvPGDe3o63pbVRdE=; b=IYQXoc/Luf2JxtXGBf5srGghSPGjlXFV+mhtCoJVby0UYL9177GfZWwrvLHmFSp86n Ns1bCrRtpVKsfdV+wxuNF2hHjWrqICk5X0NSYtdpzp7QXLA2Eo9OEzuxsGlkErGVRrxt ulDssGtUYFSVI9doHszQUe0vCqNdOA9RGzHss= X-Google-DKIM-Signature: v=1; a=rsa-sha256; c=relaxed/relaxed; d=1e100.net; s=20230601; t=1762965222; x=1763570022; h=references:in-reply-to:cc:to:from:subject:message-id:date:x-gm-gg :x-gm-message-state:from:to:cc:subject:date:message-id:reply-to; bh=C9HsC9sXJ6OZ3JbbJnCXpZ9C9AiJvPGDe3o63pbVRdE=; b=t5ervLnAf59+YO7x9cDdv85kKlC+dDTPfnur3fAYjihx44N2+p1D/u4iLsONDuVq93 dWn7ygrSiXmypzeYlnBaJkiHaTZpXy0k2UPg4bquMtkACkV4pKaIbIcKLMbn31dIGPVJ e0yRPOgBJeBvlqa238j6NamCZPspwKrW9zFdtVvVvhd9fN7EhUVIdA8AxUHE9k6yTqs6 WFjqWIv4FtU9jddi4XqzN6KaiXrVcjqNyIYRq1scPmf3tm3s4a48cQ+vZyO2awcXwDH7 epM+U1uEh3EMV9CEyuMZqDkVOoCpQzGpiLMfAKDIX9Ypsy8a0YTiOXns/k1v6876NqQj 5OGg== X-Gm-Message-State: AOJu0Yz6YszP7S8BBHxpUKTSPNConBvsxSYlfOH0zGJpNH1oO1gvqLeL Gg7ouGuXV2ljcy5C+el65XEWme6e5udg1EU9rpbDrPTqeBYDI9Ln4ZxMmjPUZP/4nXb+6BWD4qh tHPwlzZJc29C2Jx2MbQze3FY9nFEJgW9DKhZCsgSybLsaLUQ8SQwpdSWyFp1O X-Gm-Gg: ASbGncula/6VVJ1vlHXxtamf/WTjxMCItbzjLRwpd1YYKcIUzI/Im4ZobNImI2vUbF7 eYZovHKfP5pFCTL8ejl94vHaICeDJZ0Ro0qoee0rLDvmdBqLL08ZW9W8RCBG36md6qNXxOsADW6 XbgHVvhEahtuz9G8HpKulMrGtvqbOHQyzvXb4/Ivdzlsvu0R9lV0Rk16oJLDwMcSLIxuqhETcEp znBZMBjJKDvblLoF5hVPuLfNnmL7Hl9K0cnYFFQKvTHBP5iFVvGqlrUeOzJbOKLfstVAxt+7CZ6 W7L4ATyz7aGwcpu8OeYdE+nkVEgeKt6M8QIWxawMXplO4sBmP2ewzaTgr9xO0NdeNVltrpCoHJ0 2TVzXGY3s X-Google-Smtp-Source: AGHT+IG7GDppv+4YLPhqQaVJZatOZtxsGp3nR1zW1DQiAgwaUYeLLFCh8CKq/aHx8kl5TubSpKWWzjqgxgZ7 X-Received: by 2002:a05:6e02:12ef:b0:433:267b:fb30 with SMTP id e9e14a558f8ab-43473d6b613mr36862665ab.20.1762965221840; Wed, 12 Nov 2025 08:33:41 -0800 (PST) Received: from postal.iol.unh.edu (postal.iol.unh.edu. [2606:4100:3880:1234::84]) by smtp-relay.gmail.com with ESMTPS id ca18e2360f4ac-94888c64c88sm94822039f.14.2025.11.12.08.33.41 (version=TLS1_2 cipher=ECDHE-ECDSA-AES128-GCM-SHA256 bits=128/128); Wed, 12 Nov 2025 08:33:41 -0800 (PST) X-Relaying-Domain: iol.unh.edu Date: Wed, 12 Nov 2025 08:33:41 -0800 (PST) Message-ID: <6914b6e5.050a0220.7f940.0221SMTPIN_ADDED_MISSING@mx.google.com> Received: from [172.21.0.2] (unknown [172.18.0.240]) by postal.iol.unh.edu (Postfix) with ESMTP id 5BA8F6051830; Wed, 12 Nov 2025 11:33:40 -0500 (EST) Subject: |SUCCESS| pw158690-158694 [PATCH] [v2,5/5] bus/fslmc: remove raw dev From: dpdklab@iol.unh.edu To: Test Report Cc: dpdk-test-reports@iol.unh.edu In-Reply-To: <20251112091049.2669481-6-david.marchand@redhat.com> References: <20251112091049.2669481-6-david.marchand@redhat.com> Content-Type: text/plain X-BeenThere: test-report@dpdk.org X-Mailman-Version: 2.1.29 Precedence: list List-Id: automatic DPDK test reports List-Unsubscribe: , List-Archive: List-Post: List-Help: List-Subscribe: , Errors-To: test-report-bounces@dpdk.org Test-Label: iol-compile-amd64-testing Test-Status: SUCCESS http://dpdk.org/patch/158694 _Testing PASS_ Submitter: David Marchand Date: Wednesday, November 12 2025 09:10:48 DPDK git baseline: Repo:dpdk Branch: master CommitID:be0112878b4fc3a1b918370ed2fe615c52039d77 158690-158694 --> testing pass Upstream job id: Generic-DPDK-Compile-Meson#443318 Test environment and result as below: +-----------------+--------------------+ | Environment | dpdk_meson_compile | +=================+====================+ | Ubuntu 20.04 | PASS | +-----------------+--------------------+ | FreeBSD 14.2 | PASS | +-----------------+--------------------+ | CentOS Stream 9 | PASS | +-----------------+--------------------+ Ubuntu 20.04 Kernel: 4.19 Compiler: gcc gcc (Ubuntu 9.4.0-1ubuntu1~20.04.2) 9.4.0 FreeBSD 14.2 Kernel: 14.2-RELEASE Compiler: clang 18.1.6 CentOS Stream 9 Kernel: 5.15 Compiler: gcc gcc (GCC) 11.5.0 20240719 (Red Hat 11.5.0-11) To view detailed results, visit: https://lab.dpdk.org/results/dashboard/patchsets/34543/ UNH-IOL DPDK Community Lab To manage your email subscriptions, visit: https://lab.dpdk.org/results/dashboard/preferences/subscriptions/