From mboxrd@z Thu Jan 1 00:00:00 1970 Return-Path: Received: from mails.dpdk.org (mails.dpdk.org [217.70.189.124]) by inbox.dpdk.org (Postfix) with ESMTP id 0EB3948AEF for ; Wed, 12 Nov 2025 17:37:08 +0100 (CET) Received: from mails.dpdk.org (localhost [127.0.0.1]) by mails.dpdk.org (Postfix) with ESMTP id 03BA4402A0; Wed, 12 Nov 2025 17:37:08 +0100 (CET) Received: from mail-pl1-f225.google.com (mail-pl1-f225.google.com [209.85.214.225]) by mails.dpdk.org (Postfix) with ESMTP id 9059A402A0 for ; Wed, 12 Nov 2025 17:37:06 +0100 (CET) Received: by mail-pl1-f225.google.com with SMTP id d9443c01a7336-297f35be2ffso12173665ad.2 for ; Wed, 12 Nov 2025 08:37:06 -0800 (PST) DKIM-Signature: v=1; a=rsa-sha256; c=relaxed/relaxed; d=iol.unh.edu; s=unh-iol; t=1762965426; x=1763570226; darn=dpdk.org; h=references:in-reply-to:cc:to:from:subject:message-id:date:from:to :cc:subject:date:message-id:reply-to; bh=lV9hdSnP2gPdDl7mb6/9julocUEotP3xHJn9sF/8l/I=; b=BdUhDqiIJmAWdJVVzlg4t1byK5cRz0yIWNL8SpXjfokJ5yrL3h7imDf1eF4SmsLDxK bnljfkymQ5RgMuDW3IffoW28d+RPKN0uEKT9vUT6qmCkC+12VDgNlcbSccCoNg1GkQYu QOqlwF38PZTJWjYSE7+JHTXiM2NMuQ3ZuWe8E= X-Google-DKIM-Signature: v=1; a=rsa-sha256; c=relaxed/relaxed; d=1e100.net; s=20230601; t=1762965426; x=1763570226; h=references:in-reply-to:cc:to:from:subject:message-id:date:x-gm-gg :x-gm-message-state:from:to:cc:subject:date:message-id:reply-to; bh=lV9hdSnP2gPdDl7mb6/9julocUEotP3xHJn9sF/8l/I=; b=LZB8mxUxM2oHANSmRKqq3xRFFuyqBC1n2EkEEyez8RGG3K3aLf68kKiEKbl9LypXhN EsflUlvQXYZH+mZqzGt/4zu8tzi4tMrwBjSuvzAUhSZ9tgGe4dF4JZZ7G5kXtJg0uJiJ 5Lk8embrXFKm4P2QlwEze31iD1pniwtzfT3H+grULhEzcCXw5Z8/WjZ3PdlzKaRhJ7yy LWRlmZXgsNqhducDQgPLZjoLS3u+mW4BBCBz1QA/ft2S6V3lnJn1Yp7+q+9/3+A+phsW PiF+5dSSwtPq4RvmOQMbHyLLRBfkddBWbteppHHbJlfgrRvyPKyvX5ee4wMGMkxNkqST lGCw== X-Gm-Message-State: AOJu0YyJBbm8+TsDgbUaU334jKSwmob0/J3d8O9Mt+4XVCuqo5/HUuoS zc7cGvCmUfPtxPDfy66rgDU9qoI+iX54kpRPCt1wV+V3yQnFlTSbk9Toz2vw7v0leLjUfg2S5sA o03C10WBRv5OjrISCbcRoTmkXHQKsAiVW7Pmyvpd1CMB1 X-Gm-Gg: ASbGnct25w4zMGuvR59VQZ1fqcv91pBJBVcDXd3nwD2XYMfMXvmHfJlmNaqvLlu718T u7KISRz5+DcFQYWHIjhs6b/2uubvyWKjqgMY8hZwuxFaMSr9TeMe0YfC1zyrcgwzDrKPUiDM5/b 50xyaI5blObbdtAjKJ+AlmD/FS8CZb34JezYa/yrbiOEiJOf0qsekRHBsrOAF6DbZvBzV+fO9JS mGb/rfEhdLFq8CJrPQKP1CgglYXXo78P2S91uyfe9tvAR7TZ95iVoCusnRO6uTBE6Jfiwh7+YEf blFbovuDwQn19NazjoRmkiB+CftmG/sovSs34iEjb3agjdYf6UQKk1A5pRW+R9/Mkt3WU5PgQRL epJ/AhNLuRXxbVvgDfhGViosuRkAbcGk= X-Google-Smtp-Source: AGHT+IHlluXd0sY4LMiqfFt8ttk7GBrK4MvLJKiLCu7r89UuiYiRFzhzTSl6AixHoSyj3Wali5kNG2W3z3b2 X-Received: by 2002:a17:903:286:b0:295:1e50:e7cb with SMTP id d9443c01a7336-2984ed490a5mr49629445ad.23.1762965425579; Wed, 12 Nov 2025 08:37:05 -0800 (PST) Received: from postal.iol.unh.edu (postal.iol.unh.edu. [132.177.123.84]) by smtp-relay.gmail.com with ESMTPS id d9443c01a7336-2984dd3589asm3094855ad.43.2025.11.12.08.37.05 (version=TLS1_2 cipher=ECDHE-ECDSA-AES128-GCM-SHA256 bits=128/128); Wed, 12 Nov 2025 08:37:05 -0800 (PST) X-Relaying-Domain: iol.unh.edu Date: Wed, 12 Nov 2025 08:37:05 -0800 (PST) Message-ID: <6914b7b1.170a0220.2aed35.03c2SMTPIN_ADDED_MISSING@mx.google.com> Received: from [172.21.0.2] (unknown [172.18.0.240]) by postal.iol.unh.edu (Postfix) with ESMTP id 0CD226051830; Wed, 12 Nov 2025 11:37:05 -0500 (EST) Subject: |SUCCESS| pw158690-158694 [PATCH] [v2,5/5] bus/fslmc: remove raw dev From: dpdklab@iol.unh.edu To: Test Report Cc: dpdk-test-reports@iol.unh.edu In-Reply-To: <20251112091049.2669481-6-david.marchand@redhat.com> References: <20251112091049.2669481-6-david.marchand@redhat.com> Content-Type: text/plain X-BeenThere: test-report@dpdk.org X-Mailman-Version: 2.1.29 Precedence: list List-Id: automatic DPDK test reports List-Unsubscribe: , List-Archive: List-Post: List-Help: List-Subscribe: , Errors-To: test-report-bounces@dpdk.org Test-Label: iol-compile-amd64-testing Test-Status: SUCCESS http://dpdk.org/patch/158694 _Testing PASS_ Submitter: David Marchand Date: Wednesday, November 12 2025 09:10:48 DPDK git baseline: Repo:dpdk Branch: master CommitID:be0112878b4fc3a1b918370ed2fe615c52039d77 158690-158694 --> testing pass Upstream job id: Generic-DPDK-Compile-Meson#443319 Test environment and result as below: +------------------+--------------------+ | Environment | dpdk_meson_compile | +==================+====================+ | Ubuntu 20.04 | PASS | +------------------+--------------------+ | FreeBSD 14.2 | PASS | +------------------+--------------------+ | CentOS Stream 9 | PASS | +------------------+--------------------+ | CentOS Stream 10 | PASS | +------------------+--------------------+ Ubuntu 20.04 Kernel: 4.19 Compiler: gcc gcc (Ubuntu 9.4.0-1ubuntu1~20.04.2) 9.4.0 FreeBSD 14.2 Kernel: 14.2-RELEASE Compiler: clang 18.1.6 CentOS Stream 9 Kernel: 5.15 Compiler: gcc gcc (GCC) 11.5.0 20240719 (Red Hat 11.5.0-11) CentOS Stream 10 Kernel: 5.15 Compiler: gcc gcc (GCC) 14.2.1 20250110 (Red Hat 14.2.1-8) To view detailed results, visit: https://lab.dpdk.org/results/dashboard/patchsets/34543/ UNH-IOL DPDK Community Lab To manage your email subscriptions, visit: https://lab.dpdk.org/results/dashboard/preferences/subscriptions/