From mboxrd@z Thu Jan 1 00:00:00 1970 Return-Path: Received: from mails.dpdk.org (mails.dpdk.org [217.70.189.124]) by inbox.dpdk.org (Postfix) with ESMTP id 5D75348AEF for ; Wed, 12 Nov 2025 17:40:26 +0100 (CET) Received: from mails.dpdk.org (localhost [127.0.0.1]) by mails.dpdk.org (Postfix) with ESMTP id 59FA7402A0; Wed, 12 Nov 2025 17:40:26 +0100 (CET) Received: from mail-il1-f227.google.com (mail-il1-f227.google.com [209.85.166.227]) by mails.dpdk.org (Postfix) with ESMTP id 11D97402A0 for ; Wed, 12 Nov 2025 17:40:25 +0100 (CET) Received: by mail-il1-f227.google.com with SMTP id e9e14a558f8ab-433791d45f5so12164165ab.0 for ; Wed, 12 Nov 2025 08:40:25 -0800 (PST) DKIM-Signature: v=1; a=rsa-sha256; c=relaxed/relaxed; d=iol.unh.edu; s=unh-iol; t=1762965624; x=1763570424; darn=dpdk.org; h=references:in-reply-to:cc:to:from:subject:message-id:date:from:to :cc:subject:date:message-id:reply-to; bh=mC62BlsLTaHlX9fBKXQsDfCIEkJmoeF+bJg1v0xgr2I=; b=OijDGPFsvAxDfH5mw8+dA6GsKySruZKw34UW0DZWGHqK4/9vE0PBHrDvPm8x2gjEI0 2R4iazb2a4fUYZhz0ULuxJBQWwkLjDx2Ml4iFO9bTdvfokDw9bj3LuCPzgio/FBZJyKx LxIK23fj4zdtOEmofE8/tsxJVG3wZq7dG9Sqk= X-Google-DKIM-Signature: v=1; a=rsa-sha256; c=relaxed/relaxed; d=1e100.net; s=20230601; t=1762965624; x=1763570424; h=references:in-reply-to:cc:to:from:subject:message-id:date:x-gm-gg :x-gm-message-state:from:to:cc:subject:date:message-id:reply-to; bh=mC62BlsLTaHlX9fBKXQsDfCIEkJmoeF+bJg1v0xgr2I=; b=nbyzKEeCFfBjGuJ8MFuqUyhCKVqL+aOay9OLfuRckhCJTlK8oZWzB/4sSAgRiRf1JD fthfzdEjxt6iDBGiU6HmrZKNG+Mo2ZQala9MFbHFktPqWrIZfQ8yae61uf9sPMJfYipO tygX2xvXYngcKpu9M+wids8NUCGrEGVO8iyS+WHZ0UF0qgbvR4VKTdtL9WgOfOyaDPaz kFTH7qyBRHiP6uItKyvHnLBSwz1LQiv0balNvLvqhfQvM3+OWrNztb/5Porzwq+vvX8B EH7AvCapDz2FbP0K8J1j5+m7iMWyjhMGwKYzSAoGEDakc6FaU252vRXjdp9Ds9KaQYXs WGaQ== X-Gm-Message-State: AOJu0YwieYk5f+M4BQFv1MPurpcNgj7h9oJxvUWoeb/pQU2FEidJwD1z 8fq9p6kC58O4QxWrym0aNHL/+HWV1z/3Bs+WvM8BR4GZgOEYucRzCvW5CQeIURvLSFln65mIu69 zWMVeqpKDWA0f+wiAawAZ0BEy/jYmUoaz1eBXD7fc4k9s X-Gm-Gg: ASbGncvjCy0lWwgJ1UtvllLZFrcrwPlfzeIR8dhsUXhjgwmjq7TlAwC8mayZIBumRM5 6Vr7ROsi9UXayMuI/IzpyhBjVWoLP6c7VhLHUQzh7tdFK9jrn5OAYeChOxdl3qYBRbqt02saFFm 3moyaFwrI1Ax/sX23mhLebsmqnqwcYrW1sYJK3lgY9QAKWtgGevGwsa0gXL8Jv7paQtjXpT8Cwo pF5XCOEWngoLiXELCihWpZCU4J9LPFUhndGhn7EQ3LcNiUbNuuRUkCe/V/0KeRWY5Z7PDOcp+UK spRxwOXSXEfgVRGT9aYjw25Otpbz70iIJpwS15eZ70+nfw6t/QrDbo33fXI1axIB+ESyI3apUID NKCO2sbSJgd+b6hMIIE0VFvfl/3iGkHc= X-Google-Smtp-Source: AGHT+IHTd6jHCTwTWmoH1uhvFCuPV7o3HtP/LG6+xo2x2SL6FFPJCH6/I6Xnbg/oOsdQIs8zT7W5a5DCEebL X-Received: by 2002:a05:6e02:4512:b0:434:798e:ce08 with SMTP id e9e14a558f8ab-434798ecf58mr17964855ab.1.1762965624384; Wed, 12 Nov 2025 08:40:24 -0800 (PST) Received: from postal.iol.unh.edu (postal.iol.unh.edu. [132.177.123.84]) by smtp-relay.gmail.com with ESMTPS id e9e14a558f8ab-4347339e60bsm3051835ab.21.2025.11.12.08.40.24 (version=TLS1_2 cipher=ECDHE-ECDSA-AES128-GCM-SHA256 bits=128/128); Wed, 12 Nov 2025 08:40:24 -0800 (PST) X-Relaying-Domain: iol.unh.edu Date: Wed, 12 Nov 2025 08:40:24 -0800 (PST) Message-ID: <6914b878.050a0220.23456f.f31aSMTPIN_ADDED_MISSING@mx.google.com> Received: from [172.21.0.5] (unknown [172.18.0.240]) by postal.iol.unh.edu (Postfix) with ESMTP id 1016A6051830; Wed, 12 Nov 2025 11:40:24 -0500 (EST) Subject: |SUCCESS| pw158690-158694 [PATCH] [v2,5/5] bus/fslmc: remove raw dev From: dpdklab@iol.unh.edu To: Test Report Cc: dpdk-test-reports@iol.unh.edu In-Reply-To: <20251112091049.2669481-6-david.marchand@redhat.com> References: <20251112091049.2669481-6-david.marchand@redhat.com> Content-Type: text/plain X-BeenThere: test-report@dpdk.org X-Mailman-Version: 2.1.29 Precedence: list List-Id: automatic DPDK test reports List-Unsubscribe: , List-Archive: List-Post: List-Help: List-Subscribe: , Errors-To: test-report-bounces@dpdk.org Test-Label: iol-compile-amd64-testing Test-Status: SUCCESS http://dpdk.org/patch/158694 _Testing PASS_ Submitter: David Marchand Date: Wednesday, November 12 2025 09:10:48 DPDK git baseline: Repo:dpdk Branch: master CommitID:be0112878b4fc3a1b918370ed2fe615c52039d77 158690-158694 --> testing pass Upstream job id: Generic-DPDK-Compile-Meson#443320 Test environment and result as below: +---------------------+--------------------+ | Environment | dpdk_meson_compile | +=====================+====================+ | Ubuntu 20.04 | PASS | +---------------------+--------------------+ | FreeBSD 14.2 | PASS | +---------------------+--------------------+ | CentOS Stream 9 | PASS | +---------------------+--------------------+ | CentOS Stream 10 | PASS | +---------------------+--------------------+ | Debian GNU/Linux 12 | PASS | +---------------------+--------------------+ Ubuntu 20.04 Kernel: 4.19 Compiler: gcc gcc (Ubuntu 9.4.0-1ubuntu1~20.04.2) 9.4.0 FreeBSD 14.2 Kernel: 14.2-RELEASE Compiler: clang 18.1.6 CentOS Stream 9 Kernel: 5.15 Compiler: gcc gcc (GCC) 11.5.0 20240719 (Red Hat 11.5.0-11) CentOS Stream 10 Kernel: 5.15 Compiler: gcc gcc (GCC) 14.2.1 20250110 (Red Hat 14.2.1-8) Debian GNU/Linux 12 Kernel: 5.15 Compiler: gcc gcc (Debian 12.2.0-14+deb12u1) 12.2.0 To view detailed results, visit: https://lab.dpdk.org/results/dashboard/patchsets/34543/ UNH-IOL DPDK Community Lab To manage your email subscriptions, visit: https://lab.dpdk.org/results/dashboard/preferences/subscriptions/