From mboxrd@z Thu Jan 1 00:00:00 1970 Return-Path: Received: from mails.dpdk.org (mails.dpdk.org [217.70.189.124]) by inbox.dpdk.org (Postfix) with ESMTP id 1490948AEF for ; Wed, 12 Nov 2025 17:47:37 +0100 (CET) Received: from mails.dpdk.org (localhost [127.0.0.1]) by mails.dpdk.org (Postfix) with ESMTP id E9BFE402A0; Wed, 12 Nov 2025 17:47:36 +0100 (CET) Received: from mail-vk1-f227.google.com (mail-vk1-f227.google.com [209.85.221.227]) by mails.dpdk.org (Postfix) with ESMTP id 01776402A0 for ; Wed, 12 Nov 2025 17:47:36 +0100 (CET) Received: by mail-vk1-f227.google.com with SMTP id 71dfb90a1353d-5563c36f6d4so564906e0c.1 for ; Wed, 12 Nov 2025 08:47:35 -0800 (PST) DKIM-Signature: v=1; a=rsa-sha256; c=relaxed/relaxed; d=iol.unh.edu; s=unh-iol; t=1762966055; x=1763570855; darn=dpdk.org; h=cc:to:from:subject:message-id:date:from:to:cc:subject:date :message-id:reply-to; bh=iD1DnKIKulmetcSPoSoosr4L+WXBBjTeuVTTDgdmQYE=; b=NrwhNx/JKvcLg5QA/wYewIpENXl+w7ILtFzJaQVo2neyL7DqDsjefFmOhDAA6Caw39 BXsm7QUMUmi2fSBUdbLoqHe5lRFswfEqcJU44uLkrH2sanlKJ8kXL9Imfuz9BkMBVMlN cNABpYcpu0WbZEQkyGqgk1oF2PrAZ1r2ZyuPY= X-Google-DKIM-Signature: v=1; a=rsa-sha256; c=relaxed/relaxed; d=1e100.net; s=20230601; t=1762966055; x=1763570855; h=cc:to:from:subject:message-id:date:x-gm-gg:x-gm-message-state:from :to:cc:subject:date:message-id:reply-to; bh=iD1DnKIKulmetcSPoSoosr4L+WXBBjTeuVTTDgdmQYE=; b=FgFRTs3qIA9eiYu8dWvlp1wwUzMLjHucAod7dE1J1p+V772ac20vaG/mJlspe32aJ7 n4o4l/rpJs8tdjXG6l8wypOmZicA8Z4i5U5chIeKRL7ycEpFZjo7S/NlBWebc3k/Hhu4 xJ+OOhZiPWt+hNq9LkISM63r2oP5NF9A6z3kfE+59CLIIeUCdqPkzvbqFgg7FyiOJs4z V5lfun0jBVfMgNF0vvfS7fyEtnF803bJOxSg0yp1bHDumwwgI1yrtcxDhFjfUsMHUSum GiviQOU51xU5DkHz7e4i/4Sr78mPy+7jjv+CwiTs+53acdCtikRjBsfB8WyXi6VUVTZc uyBw== X-Gm-Message-State: AOJu0YwFS9HCatQ+04p9T0a5dKCpYtYMLY1Qll6eFN3otbrVIEyL9zfp YK5FH0X6dnbOacCJaaCZFB0YTmFJyaXABd+HMaY5B/JkGnO0te3EkFFSwV0mOKaCfWaF4khhvom 8he2af0V4AGcYpR56m15CoXYBAGgVJf140KsP X-Gm-Gg: ASbGncvmLOAUfYztXeM6wGtCl8GwtgR7ph9F1xAJ0eOenAd7XeVbVtbNu541pNYaE+I P3lLEYhtWF2uhB8//6F0lUiDvgCvnpogTDfPN5pE47VGCLyZjyNa/ejMgBTRc3VZBeciKGDAoGt AxCVZkodrAKevuyOVmYFQp1dhJbv4pxe0E6X8I5+xSipK+pXYaISYaDgsnLn4Rz9TtVAukELmPW Eh0WYHPyiSKDva7LEo94NZJumzNVN8W14XS0LWXNM1i5mQFqtnFIALNIcU/E4m1pDCHb3IAlTZf SBNxbW3jikWfZ5vo8VBtSDc5n/s105pCXX3l0jO5hA0UXT074b65H/Iy6nfGR6ihkSANmurc+YM Vlr7e1vPKqfnnostGnHYG4J9qafLXgmA= X-Google-Smtp-Source: AGHT+IFGeieEjytC3WIIeIgLDQuOuzrj3p06qhoEXFANaDyHVrfWdtWKdPBOwH0OkkVHzM+enlFPbKlP9EtD X-Received: by 2002:a05:6122:29c4:b0:54a:a3b1:db63 with SMTP id 71dfb90a1353d-55b0d0a564amr27597e0c.6.1762966055277; Wed, 12 Nov 2025 08:47:35 -0800 (PST) Received: from postal.iol.unh.edu (postal.iol.unh.edu. [132.177.123.84]) by smtp-relay.gmail.com with ESMTPS id 71dfb90a1353d-559957faf87sm1785187e0c.7.2025.11.12.08.47.35 (version=TLS1_2 cipher=ECDHE-ECDSA-AES128-GCM-SHA256 bits=128/128); Wed, 12 Nov 2025 08:47:35 -0800 (PST) X-Relaying-Domain: iol.unh.edu Date: Wed, 12 Nov 2025 08:47:35 -0800 (PST) Message-ID: <6914ba27.050a0220.9d677.d323SMTPIN_ADDED_MISSING@mx.google.com> Received: from [172.21.0.2] (unknown [172.18.0.240]) by postal.iol.unh.edu (Postfix) with ESMTP id EF4526051830; Wed, 12 Nov 2025 11:47:34 -0500 (EST) Subject: |SUCCESS| [GIT MASTER] 0bd935abcb823f581ce53986986aa54eaf6f8140 From: dpdklab@iol.unh.edu To: Test Report Cc: dpdk-test-reports@iol.unh.edu, Xueming Li , Christian Ehrhardt , Kevin Traynor , Luca Boccassi Content-Type: text/plain X-BeenThere: test-report@dpdk.org X-Mailman-Version: 2.1.29 Precedence: list List-Id: automatic DPDK test reports List-Unsubscribe: , List-Archive: List-Post: List-Help: List-Subscribe: , Errors-To: test-report-bounces@dpdk.org _Testing PASS_ Branch: tags/v24.11 0bd935abcb823f581ce53986986aa54eaf6f8140 --> testing pass Upstream job id: Generic-DPDK-Compile-Meson#443316 Test environment and result as below: +-------------------------------+--------------------+------------------+ | Environment | dpdk_meson_compile | dpdk_compile_ovs | +===============================+====================+==================+ | Ubuntu 20.04 | PASS | SKIPPED | +-------------------------------+--------------------+------------------+ | FreeBSD 14.2 | PASS | SKIPPED | +-------------------------------+--------------------+------------------+ | CentOS Stream 9 | PASS | SKIPPED | +-------------------------------+--------------------+------------------+ | CentOS Stream 10 | PASS | SKIPPED | +-------------------------------+--------------------+------------------+ | Debian GNU/Linux 12 | PASS | SKIPPED | +-------------------------------+--------------------+------------------+ | Fedora Linux 42 | PASS | PASS | +-------------------------------+--------------------+------------------+ | openSUSE Leap 15.6 | PASS | SKIPPED | +-------------------------------+--------------------+------------------+ | Red Hat Enterprise Linux 8.10 | PASS | SKIPPED | +-------------------------------+--------------------+------------------+ | Red Hat Enterprise Linux 9.5 | PASS | SKIPPED | +-------------------------------+--------------------+------------------+ | Ubuntu 22.04 | PASS | SKIPPED | +-------------------------------+--------------------+------------------+ | Ubuntu 24.04 | PASS | PASS | +-------------------------------+--------------------+------------------+ | Alpine Linux 3.22.0 | PASS | SKIPPED | +-------------------------------+--------------------+------------------+ Ubuntu 20.04 Kernel: 4.19 Compiler: gcc gcc (Ubuntu 9.4.0-1ubuntu1~20.04.2) 9.4.0 FreeBSD 14.2 Kernel: 14.2-RELEASE Compiler: clang 18.1.6 CentOS Stream 9 Kernel: 5.15 Compiler: gcc gcc (GCC) 11.5.0 20240719 (Red Hat 11.5.0-11) CentOS Stream 10 Kernel: 5.15 Compiler: gcc gcc (GCC) 14.2.1 20250110 (Red Hat 14.2.1-8) Debian GNU/Linux 12 Kernel: 5.15 Compiler: gcc gcc (Debian 12.2.0-14+deb12u1) 12.2.0 Fedora Linux 42 Kernel: 5.15 Compiler: clang gcc (GCC) 15.2.1 20250808 (Red Hat 15.2.1-1) openSUSE Leap 15.6 Kernel: 5.15 Compiler: gcc gcc (SUSE Linux) 7.5.0 Red Hat Enterprise Linux 8.10 Kernel: 5.15 Compiler: gcc gcc (GCC) 8.5.0 20210514 (Red Hat 8.5.0-22) Red Hat Enterprise Linux 9.5 Kernel: 5.15 Compiler: gcc gcc (GCC) 11.5.0 20240719 (Red Hat 11.5.0-2) Ubuntu 22.04 Kernel: 5.15 Compiler: gcc gcc (Ubuntu 11.4.0-1ubuntu1~22.04) 11.4.0 Ubuntu 24.04 Kernel: 5.15 Compiler: gcc gcc (Ubuntu 13.3.0-6ubuntu2~24.04) 13.3.0 Alpine Linux 3.22.0 Kernel: 5.15 Compiler: gcc gcc (Alpine 14.2.0) 14.2.0 To view detailed results, visit: https://lab.dpdk.org/results/dashboard/tarballs/35551/ UNH-IOL DPDK Community Lab To manage your email subscriptions, visit: https://lab.dpdk.org/results/dashboard/preferences/subscriptions/