From mboxrd@z Thu Jan 1 00:00:00 1970 Return-Path: Received: from mails.dpdk.org (mails.dpdk.org [217.70.189.124]) by inbox.dpdk.org (Postfix) with ESMTP id 5DE4D48AEF for ; Wed, 12 Nov 2025 17:56:02 +0100 (CET) Received: from mails.dpdk.org (localhost [127.0.0.1]) by mails.dpdk.org (Postfix) with ESMTP id 5A04440DDD; Wed, 12 Nov 2025 17:56:02 +0100 (CET) Received: from mail-oa1-f100.google.com (mail-oa1-f100.google.com [209.85.160.100]) by mails.dpdk.org (Postfix) with ESMTP id A9D8A40DDD for ; Wed, 12 Nov 2025 17:56:00 +0100 (CET) Received: by mail-oa1-f100.google.com with SMTP id 586e51a60fabf-3c9859913d0so561274fac.0 for ; Wed, 12 Nov 2025 08:56:00 -0800 (PST) DKIM-Signature: v=1; a=rsa-sha256; c=relaxed/relaxed; d=iol.unh.edu; s=unh-iol; t=1762966560; x=1763571360; darn=dpdk.org; h=references:in-reply-to:cc:to:from:subject:message-id:date:from:to :cc:subject:date:message-id:reply-to; bh=PFqheNWXjK1aPWTvlsU390WwHrcbTItIrNzQiWJXPmw=; b=ijWOHMDwbnMgIPO2xlGYvGIbimoT5ZnteWbMb1sX+3kLM+1U0+0nXyXgOgpPgEcIZF jhfEfzv1UZqqXQo9bI0yK/AQykNY5HFSxOy92hUqDec6BkFE1nBGrqu5pzrxwemEj39d 0kAC1+pGXzD6a3wtUpRe+h6HL6+JddcwBUllY= X-Google-DKIM-Signature: v=1; a=rsa-sha256; c=relaxed/relaxed; d=1e100.net; s=20230601; t=1762966560; x=1763571360; h=references:in-reply-to:cc:to:from:subject:message-id:date:x-gm-gg :x-gm-message-state:from:to:cc:subject:date:message-id:reply-to; bh=PFqheNWXjK1aPWTvlsU390WwHrcbTItIrNzQiWJXPmw=; b=SV0i4IPrS8z9Itw6pvQvS2mbKyHFOJxLVM9RAtw79kPn19DdjajjDxsFGfu94FbDIe c2g2lelrfcwk350vW1tbgMJvwgC9FJ7Y70P1guX+0UJYopdt9d9lr12HbqBXmtAx4kll 74N5bVH6YqsE8Ajgmu4R68x/urIozzGo6HHpia4CFqQLlylMt4RACwsoffDqy3xYHarU ooyP63TujJda9lGUVq6Qm8dfXDBmCpoXrawT3WzrV149FN4veMs7psahEMpmrdd7ru8r L+RdizxTBMdI4ZgnUz3VmePW7hqIfFHoaBe32leTtqbeQuDblOAfPxGWTfM2d1/kz/XA 2NZA== X-Gm-Message-State: AOJu0YwfSPCAKaULuQBoo+P8o4g1isqlhMLYn/hiwEmcBUV0Pb8wKUHz oWGcG1xHtr3DDfEOcefr04AJvuN8CCB4yykmqKmQM3VhLeqINAivAPXCFlfDkIlHpjiHqlEDvA2 wnNNfE65crlPt6nJ1DiEAkUDBgun+RHptGip8L+i3iwzY X-Gm-Gg: ASbGncuH5t7qtkwMT8WZSVHkQVYUkia8oOm3xT0naIUopoOZ0YUz5u6JHiKp4TFaEAy MsfwkZE7pDT4LApaGjexYcq3hTI9bOia2KmoAmFHMeE8M+hR1EbVCpyMVDKwya5g8UOOXg6Weyk D+7Nrkw/bu6HTYqlvwwf+FeDCCv2cFrfUrnuViC1jk4exKkg9RU1gB+zaiSRgrjsMaoqM1wM17A ezuDheRuzTtzOtgjKJKNEA/KzxonrgQybVB95ymeAP9ATm6KQvvx7JiBDABL5+SHCtibU9dpbD/ nnqN6r1vZEUE3oBTEGU8SnOmni/ShIw3jSr4/znxwCGnsqpx2ACXWQG80n++VJlo3ibCopWp9q2 ztXjcdalcjU778cZgTNgmpbUkhE8xAfk= X-Google-Smtp-Source: AGHT+IHGPGJPH6/CDee4v17l73LyIGqPJOdGEddYK9vu24z2jCqGwfvEJmRFRyLdp2xi7Fth4uzjZ1QqoaO2 X-Received: by 2002:a05:6871:d618:b0:3e8:44ec:3416 with SMTP id 586e51a60fabf-3e844ec7a0emr677135fac.46.1762966559982; Wed, 12 Nov 2025 08:55:59 -0800 (PST) Received: from postal.iol.unh.edu (postal.iol.unh.edu. [132.177.123.84]) by smtp-relay.gmail.com with ESMTPS id 586e51a60fabf-3e41f2813bbsm1189802fac.16.2025.11.12.08.55.59 (version=TLS1_2 cipher=ECDHE-ECDSA-AES128-GCM-SHA256 bits=128/128); Wed, 12 Nov 2025 08:55:59 -0800 (PST) X-Relaying-Domain: iol.unh.edu Date: Wed, 12 Nov 2025 08:55:59 -0800 (PST) Message-ID: <6914bc1f.050a0220.851ad.d3e5SMTPIN_ADDED_MISSING@mx.google.com> Received: from [172.21.0.2] (unknown [172.18.0.240]) by postal.iol.unh.edu (Postfix) with ESMTP id 793D96051830; Wed, 12 Nov 2025 11:55:59 -0500 (EST) Subject: |SUCCESS| pw158676 [PATCH] config/arm: update mcpu for Cobalt-100 So From: dpdklab@iol.unh.edu To: Test Report Cc: dpdk-test-reports@iol.unh.edu In-Reply-To: <20251111190639.3470596-1-doug.foster@arm.com> References: <20251111190639.3470596-1-doug.foster@arm.com> Content-Type: text/plain X-BeenThere: test-report@dpdk.org X-Mailman-Version: 2.1.29 Precedence: list List-Id: automatic DPDK test reports List-Unsubscribe: , List-Archive: List-Post: List-Help: List-Subscribe: , Errors-To: test-report-bounces@dpdk.org Test-Label: iol-unit-arm64-testing Test-Status: SUCCESS http://dpdk.org/patch/158676 _Testing PASS_ Submitter: Doug Foster Date: Tuesday, November 11 2025 19:06:38 DPDK git baseline: Repo:dpdk Branch: master CommitID:be0112878b4fc3a1b918370ed2fe615c52039d77 158676 --> testing pass Upstream job id: Generic-Unit-Test-DPDK#391224 Test environment and result as below: +------------------------------+--------------+----------------+---------------------------+------------------------------+ | Environment | lpm_autotest | dpdk_unit_test | cryptodev_sw_zuc_autotest | cryptodev_sw_snow3g_autotest | +==============================+==============+================+===========================+==============================+ | Ubuntu 20.04 | PASS | PASS | SKIPPED | SKIPPED | +------------------------------+--------------+----------------+---------------------------+------------------------------+ | Red Hat Enterprise Linux 9.5 | SKIPPED | PASS | SKIPPED | SKIPPED | +------------------------------+--------------+----------------+---------------------------+------------------------------+ | CentOS Stream 10 | SKIPPED | PASS | SKIPPED | SKIPPED | +------------------------------+--------------+----------------+---------------------------+------------------------------+ | Ubuntu 22.04 | SKIPPED | PASS | SKIPPED | SKIPPED | +------------------------------+--------------+----------------+---------------------------+------------------------------+ | Fedora Linux 40 | SKIPPED | PASS | SKIPPED | SKIPPED | +------------------------------+--------------+----------------+---------------------------+------------------------------+ | Fedora Linux 41 | SKIPPED | PASS | SKIPPED | SKIPPED | +------------------------------+--------------+----------------+---------------------------+------------------------------+ | CentOS Stream 9 | SKIPPED | PASS | SKIPPED | SKIPPED | +------------------------------+--------------+----------------+---------------------------+------------------------------+ | Fedora Linux 42 | SKIPPED | PASS | SKIPPED | SKIPPED | +------------------------------+--------------+----------------+---------------------------+------------------------------+ | Ubuntu 24.04 | SKIPPED | PASS | SKIPPED | SKIPPED | +------------------------------+--------------+----------------+---------------------------+------------------------------+ | Debian GNU/Linux 12 | SKIPPED | PASS | SKIPPED | SKIPPED | +------------------------------+--------------+----------------+---------------------------+------------------------------+ | Debian 12 (arm) | SKIPPED | SKIPPED | PASS | PASS | +------------------------------+--------------+----------------+---------------------------+------------------------------+ Ubuntu 20.04 Kernel: 5.4 Compiler: gcc gcc (Ubuntu 9.4.0-1ubuntu1~20.04.2) 9.4.0 Red Hat Enterprise Linux 9.5 Kernel: 5.4 Compiler: gcc gcc (GCC) 11.5.0 20240719 (Red Hat 11.5.0-2) CentOS Stream 10 Kernel: 5.4 Compiler: gcc gcc (GCC) 14.2.1 20250110 (Red Hat 14.2.1-8) Ubuntu 22.04 Kernel: 5.15 Compiler: gcc gcc (Ubuntu 11.4.0-1ubuntu1~22.04.2) 11.4.0 Fedora Linux 40 Kernel: 5.4 Compiler: clang gcc (GCC) 14.2.1 20240912 (Red Hat 14.2.1-3) Fedora Linux 41 Kernel: 5.4 Compiler: gcc gcc (GCC) 14.3.1 20250523 (Red Hat 14.3.1-1) CentOS Stream 9 Kernel: 5.4 Compiler: gcc gcc (GCC) 11.5.0 20240719 (Red Hat 11.5.0-11) Fedora Linux 42 Kernel: 5.4 Compiler: gcc gcc (GCC) 15.2.1 20250808 (Red Hat 15.2.1-1) Ubuntu 24.04 Kernel: 5.4 Compiler: gcc gcc (Ubuntu 13.3.0-6ubuntu2~24.04) 13.3.0 Debian GNU/Linux 12 Kernel: 5.4 Compiler: gcc gcc (Debian 12.2.0-14+deb12u1) 12.2.0 Debian 12 (arm) Kernel: Depends on container host Compiler: gcc (Debian 12.2.0-14) 12.2.0 To view detailed results, visit: https://lab.dpdk.org/results/dashboard/patchsets/34540/ UNH-IOL DPDK Community Lab To manage your email subscriptions, visit: https://lab.dpdk.org/results/dashboard/preferences/subscriptions/