From mboxrd@z Thu Jan 1 00:00:00 1970 Return-Path: Received: from mails.dpdk.org (mails.dpdk.org [217.70.189.124]) by inbox.dpdk.org (Postfix) with ESMTP id D6ADD48AF0 for ; Wed, 12 Nov 2025 18:22:23 +0100 (CET) Received: from mails.dpdk.org (localhost [127.0.0.1]) by mails.dpdk.org (Postfix) with ESMTP id BD14540666; Wed, 12 Nov 2025 18:22:23 +0100 (CET) Received: from mail-pj1-f99.google.com (mail-pj1-f99.google.com [209.85.216.99]) by mails.dpdk.org (Postfix) with ESMTP id 387B140666 for ; Wed, 12 Nov 2025 18:22:22 +0100 (CET) Received: by mail-pj1-f99.google.com with SMTP id 98e67ed59e1d1-3436d6ca17bso1209907a91.3 for ; Wed, 12 Nov 2025 09:22:22 -0800 (PST) DKIM-Signature: v=1; a=rsa-sha256; c=relaxed/relaxed; d=iol.unh.edu; s=unh-iol; t=1762968141; x=1763572941; darn=dpdk.org; h=references:in-reply-to:cc:to:from:subject:message-id:date:from:to :cc:subject:date:message-id:reply-to; bh=H0L2WRUM3MXoe05byw5I5Sr91UuTX0dJVtSwlehZCdI=; b=cfbgdm0Ex9PQ6FGZc15fPpOan5T/Mm+KzhrbiSYAzCGVs2qWm21mhLfUVXPDNkaAJZ q/McXoIGQNBWL8MBZtOP/xqq72D/XxL/wT1LwwphrQgVTj5PlKBIBWyWw0M26qAqC9f0 ncd+lYQsjdZ1xkXub+qYrq0U61vrHXcknUiDg= X-Google-DKIM-Signature: v=1; a=rsa-sha256; c=relaxed/relaxed; d=1e100.net; s=20230601; t=1762968141; x=1763572941; h=references:in-reply-to:cc:to:from:subject:message-id:date:x-gm-gg :x-gm-message-state:from:to:cc:subject:date:message-id:reply-to; bh=H0L2WRUM3MXoe05byw5I5Sr91UuTX0dJVtSwlehZCdI=; b=R7zXi5zIu+Mwf/1c6byYID0yRPevdnovLwru71kymCDv6h/F2DjXylbMRSnCXkcQSi D2gJUmQ/uDsLB1G4xI5RICeGmVZS5EsiKPzLnS9Za8nQsa73ii5a0/6Ntraig4QYRnB3 ElEycMcFCjYWVzJjjrJqOfAoLg1YpI9YA4C9VuDHkQGdKPzBPDmO+zGTovTYBeIcnMD7 Dtb89fMyKosr2lOHoRkPm4H0d+PXMGQ89aGXHhpddI7wv2O4wzGo+9a1CXEns3Yp4U6r ERr4b1lIPfNFlS/UEvfiDrwoXCHALy1XjxRctdQ5x4YfVl42H+bqjqT8sHnJmU8f2TeZ EB5g== X-Gm-Message-State: AOJu0Yw7ISr/kkH7ZU/KGwPIDRQHjywPAJDd5I/aIB7GKrVI1V+lNLa9 UIQ9PYx6sLNfrqCuqGZD7pmhwPQXwB7h03J3Yxx3iva6D2dj7jvJ6NTKInkT/l2HYR+cIXX9bLc RZ9TxGYTsbzFHJR+SYSuyUcnLYapmL6bO9PhhGBC+sPMv5HIMhMmMKpum/WeT X-Gm-Gg: ASbGncs91z7+ZvyqSDLTHWvWTWUX6rmNTtIJ5JHEcRrHqOuyLKRe17R3INfemXnDWBZ aa4DM9Aebt3BnaPrTLi9CKW27JfrUb0S2zVE1BUJU02XPHsL2tM7h7pZgIBx3MNegoT7B8auzC9 AyskXknTHXZhvYGq8jFVzHgCBiZa+AjtWmxOHVkKhoYnSanSELeFzVYHJ7cL2w+NOnmarqs6jV0 Z2U48xWEf3a2ujoGyt+eALe8RpCwez9ZyWpjSmEVuJtcAiNlgMMRKMGPBipUu9q1+5MUFLJuyrB WeePywUzj9XtOHvVaI3KwtrpWhGF1Ka9q12mYCYrimbOr6AEA+5gmci6HC00KGoTkguy2zoAxoB w4ontZw5x X-Google-Smtp-Source: AGHT+IF4vcI25BcPhIihyXMN9GTZDmII0eUQCGnyHFKbUCAk/Po/SmPOacSvQPdaZ35Nu+B7bl9YvZ20rMbM X-Received: by 2002:a17:90b:4c43:b0:329:ca48:7090 with SMTP id 98e67ed59e1d1-343ddeeb4f6mr4956396a91.37.1762968141104; Wed, 12 Nov 2025 09:22:21 -0800 (PST) Received: from postal.iol.unh.edu (postal.iol.unh.edu. [2606:4100:3880:1234::84]) by smtp-relay.gmail.com with ESMTPS id d2e1a72fcca58-7b0cbe59ceesm1472583b3a.7.2025.11.12.09.22.21 (version=TLS1_2 cipher=ECDHE-ECDSA-AES128-GCM-SHA256 bits=128/128); Wed, 12 Nov 2025 09:22:21 -0800 (PST) X-Relaying-Domain: iol.unh.edu Date: Wed, 12 Nov 2025 09:22:21 -0800 (PST) Message-ID: <6914c24d.050a0220.75f5c.c5b9SMTPIN_ADDED_MISSING@mx.google.com> Received: from [172.21.0.2] (unknown [172.18.0.240]) by postal.iol.unh.edu (Postfix) with ESMTP id 5A30960003F4; Wed, 12 Nov 2025 12:22:20 -0500 (EST) Subject: |SUCCESS| pw158705 [PATCH] net/intel: ensure correct Rx path is sele From: dpdklab@iol.unh.edu To: Test Report Cc: dpdk-test-reports@iol.unh.edu, Bruce Richardson In-Reply-To: <20251112151123.3757688-1-ciara.loftus@intel.com> References: <20251112151123.3757688-1-ciara.loftus@intel.com> Content-Type: text/plain X-BeenThere: test-report@dpdk.org X-Mailman-Version: 2.1.29 Precedence: list List-Id: automatic DPDK test reports List-Unsubscribe: , List-Archive: List-Post: List-Help: List-Subscribe: , Errors-To: test-report-bounces@dpdk.org Test-Label: iol-unit-amd64-testing Test-Status: SUCCESS http://dpdk.org/patch/158705 _Testing PASS_ Submitter: Loftus, Ciara Date: Wednesday, November 12 2025 15:11:23 DPDK git baseline: Repo:dpdk-next-net-intel Branch: master CommitID:c63646d076330fb2ef3282cbd413aaf93f0509e6 158705 --> testing pass Upstream job id: Generic-Unit-Test-DPDK#391601 Test environment and result as below: +-------------------------------+----------------+ | Environment | dpdk_unit_test | +===============================+================+ | Fedora Linux 40 | PASS | +-------------------------------+----------------+ | Red Hat Enterprise Linux 8.10 | PASS | +-------------------------------+----------------+ | Debian GNU/Linux 12 | PASS | +-------------------------------+----------------+ | Fedora Linux 42 | PASS | +-------------------------------+----------------+ | CentOS Stream 9 | PASS | +-------------------------------+----------------+ | CentOS Stream 10 | PASS | +-------------------------------+----------------+ | Fedora Linux 41 | PASS | +-------------------------------+----------------+ | Ubuntu 24.04 | PASS | +-------------------------------+----------------+ | Red Hat Enterprise Linux 9.5 | PASS | +-------------------------------+----------------+ | Ubuntu 20.04 | PASS | +-------------------------------+----------------+ | Ubuntu 22.04 | PASS | +-------------------------------+----------------+ Fedora Linux 40 Kernel: 5.15 Compiler: gcc gcc (GCC) 14.2.1 20240912 (Red Hat 14.2.1-3) Red Hat Enterprise Linux 8.10 Kernel: 5.15 Compiler: gcc gcc (GCC) 8.5.0 20210514 (Red Hat 8.5.0-22) Debian GNU/Linux 12 Kernel: 5.15 Compiler: gcc gcc (Debian 12.2.0-14+deb12u1) 12.2.0 Fedora Linux 42 Kernel: 5.15 Compiler: gcc gcc (GCC) 15.2.1 20250808 (Red Hat 15.2.1-1) CentOS Stream 9 Kernel: 5.15 Compiler: gcc gcc (GCC) 11.5.0 20240719 (Red Hat 11.5.0-11) CentOS Stream 10 Kernel: 5.15 Compiler: gcc gcc (GCC) 14.2.1 20250110 (Red Hat 14.2.1-8) Fedora Linux 41 Kernel: 5.15 Compiler: clang gcc (GCC) 14.3.1 20250523 (Red Hat 14.3.1-1) Ubuntu 24.04 Kernel: 5.15 Compiler: gcc gcc (Ubuntu 13.3.0-6ubuntu2~24.04) 13.3.0 Red Hat Enterprise Linux 9.5 Kernel: 5.15 Compiler: gcc gcc (GCC) 11.5.0 20240719 (Red Hat 11.5.0-2) Ubuntu 20.04 Kernel: 5.15 Compiler: gcc gcc (Ubuntu 9.4.0-1ubuntu1~20.04.2) 9.4.0 Ubuntu 22.04 Kernel: 5.15 Compiler: gcc gcc (Ubuntu 11.4.0-1ubuntu1~22.04) 11.4.0 To view detailed results, visit: https://lab.dpdk.org/results/dashboard/patchsets/34552/ UNH-IOL DPDK Community Lab To manage your email subscriptions, visit: https://lab.dpdk.org/results/dashboard/preferences/subscriptions/