From mboxrd@z Thu Jan 1 00:00:00 1970 Return-Path: Received: from mails.dpdk.org (mails.dpdk.org [217.70.189.124]) by inbox.dpdk.org (Postfix) with ESMTP id C448348AF0 for ; Wed, 12 Nov 2025 18:42:41 +0100 (CET) Received: from mails.dpdk.org (localhost [127.0.0.1]) by mails.dpdk.org (Postfix) with ESMTP id AEE6940662; Wed, 12 Nov 2025 18:42:41 +0100 (CET) Received: from mail-yw1-f225.google.com (mail-yw1-f225.google.com [209.85.128.225]) by mails.dpdk.org (Postfix) with ESMTP id 32EF640662 for ; Wed, 12 Nov 2025 18:42:40 +0100 (CET) Received: by mail-yw1-f225.google.com with SMTP id 00721157ae682-7881b67dc3aso10993007b3.1 for ; Wed, 12 Nov 2025 09:42:40 -0800 (PST) DKIM-Signature: v=1; a=rsa-sha256; c=relaxed/relaxed; d=iol.unh.edu; s=unh-iol; t=1762969359; x=1763574159; darn=dpdk.org; h=references:in-reply-to:cc:to:from:subject:message-id:date:from:to :cc:subject:date:message-id:reply-to; bh=y6X0uq5ZtJaFCfg1A2w10ISY8DmSEVtY5hVR5nk383Y=; b=Ek+s58mbkOGoa9MGip7pZhqBnkRkIu0ymHTrCT3jhypISVIYJZ3OpfdwUoDc2eD0cU 0hgNulVOGtLg3DpOFXSkyH5AXrxuatDdf5rw0eypjuCx0fBAbMorvCWo7cuTviXkVTTV EY8GduDkz12SmgYwVyB1LPWShyOhoN//dIGDM= X-Google-DKIM-Signature: v=1; a=rsa-sha256; c=relaxed/relaxed; d=1e100.net; s=20230601; t=1762969359; x=1763574159; h=references:in-reply-to:cc:to:from:subject:message-id:date:x-gm-gg :x-gm-message-state:from:to:cc:subject:date:message-id:reply-to; bh=y6X0uq5ZtJaFCfg1A2w10ISY8DmSEVtY5hVR5nk383Y=; b=w8qdYvJZ2+rDZofp01Jl5ftjiqKNoU772tRVFKurVpWgUb+uFOE6LNdNPwiIAXsLEC sGwPyYel+FZvlTLVTwCSDCFDYV9pOYp9ViIol8idP+kC9hT4tGkHVekz6xhapR2FJkkE scNPYKefr7dBlWNbOpPHoiZic1sQOBPgJhcirbBL9OV4NBOA9ccCm8DdsYw3KijwASY5 CffV75RRdqgzMucYvhUN/+8vqira8Gwlal7eIhqOWXLSkmLWvoYGZtqpYPkMj1+xFMYR sAyuqY6RLmwEKkYuida6/diDUsGsndoEDRdILBYBJ491JTEk4x9RjyELxhRA6gKnedl5 /77Q== X-Gm-Message-State: AOJu0Yz4KIEqUOEVYeBWb1DoVW7hd5/cfbcdsEvYh6uBNF5cw8jlEP3/ LVhEuqSYFP2DNhPgBlBDZwefJmTYK3Sx8l4++W2tTpfS/JbLjo/2CAHHsGw+rpSx4jKhjk0VdC0 xULEk/R6eDxlVECtg7Za0fhLtOB37bEGPasEYuiG6ti9q X-Gm-Gg: ASbGncsGLszR6AbshEqs0w3dDljROZETmcKeWTY8QatvutV3uw+SXGUSSa//08X1JTH xxFRjUTx4OQ36Y7RCNo8gWKCiPaVa4ryDRiUx031mFcKWDwwdU3en9C/2AWUAsma83UkdtxJOiY g7yaahw7HKjUsOOsWstO+1kINRw5CwJ9/Bk3AyCpmkPk8BQSRulo7aqdoTL6Y8A7p58g8ZAOZ66 4pL7MQFnHknIhVq+k7chsjbfSVA4j2B1dCraCCE6+HATH6aIrNcQjriJFcEAIu+itRSDghViqCQ K9OVsIuK9IxEi1NPx5yAQwNfO7fPbNxsamU3N4gyTWtXNXtmaebF6qwRq3NeAM39RpbjyyAtLOc ciP6vNyavWq8I1Jvp8AVvgt3UsIsMNaA= X-Google-Smtp-Source: AGHT+IG4+1JjeDASYCd5GcD+npTyLr1fAt2QJzES0SxWsJcHYwntvqQt8M0U9ycdNSCnQ84voa5R2JT8aYp+ X-Received: by 2002:a05:690c:f91:b0:787:badd:4f with SMTP id 00721157ae682-7882067d024mr2267067b3.17.1762969359471; Wed, 12 Nov 2025 09:42:39 -0800 (PST) Received: from postal.iol.unh.edu (postal.iol.unh.edu. [132.177.123.84]) by smtp-relay.gmail.com with ESMTPS id 00721157ae682-787efd49d71sm4720127b3.11.2025.11.12.09.42.39 (version=TLS1_2 cipher=ECDHE-ECDSA-AES128-GCM-SHA256 bits=128/128); Wed, 12 Nov 2025 09:42:39 -0800 (PST) X-Relaying-Domain: iol.unh.edu Date: Wed, 12 Nov 2025 09:42:39 -0800 (PST) Message-ID: <6914c70f.050a0220.f2e07.8011SMTPIN_ADDED_MISSING@mx.google.com> Received: from [172.21.0.2] (unknown [172.18.0.240]) by postal.iol.unh.edu (Postfix) with ESMTP id 341916050A61; Wed, 12 Nov 2025 12:42:39 -0500 (EST) Subject: |SUCCESS| pw158690-158694 [PATCH] [v2,5/5] bus/fslmc: remove raw dev From: dpdklab@iol.unh.edu To: Test Report Cc: dpdk-test-reports@iol.unh.edu In-Reply-To: <20251112091049.2669481-6-david.marchand@redhat.com> References: <20251112091049.2669481-6-david.marchand@redhat.com> Content-Type: text/plain X-BeenThere: test-report@dpdk.org X-Mailman-Version: 2.1.29 Precedence: list List-Id: automatic DPDK test reports List-Unsubscribe: , List-Archive: List-Post: List-Help: List-Subscribe: , Errors-To: test-report-bounces@dpdk.org Test-Label: iol-compile-amd64-testing Test-Status: SUCCESS http://dpdk.org/patch/158694 _Testing PASS_ Submitter: David Marchand Date: Wednesday, November 12 2025 09:10:48 DPDK git baseline: Repo:dpdk Branch: master CommitID:be0112878b4fc3a1b918370ed2fe615c52039d77 158690-158694 --> testing pass Upstream job id: Generic-DPDK-Compile-Meson#443331 Test environment and result as below: +-------------------------------+--------------------+------------------+ | Environment | dpdk_meson_compile | dpdk_compile_ovs | +===============================+====================+==================+ | Ubuntu 20.04 | PASS | SKIPPED | +-------------------------------+--------------------+------------------+ | FreeBSD 14.2 | PASS | SKIPPED | +-------------------------------+--------------------+------------------+ | CentOS Stream 9 | PASS | SKIPPED | +-------------------------------+--------------------+------------------+ | CentOS Stream 10 | PASS | SKIPPED | +-------------------------------+--------------------+------------------+ | Debian GNU/Linux 12 | PASS | SKIPPED | +-------------------------------+--------------------+------------------+ | Fedora Linux 42 | PASS | PASS | +-------------------------------+--------------------+------------------+ | openSUSE Leap 15.6 | PASS | SKIPPED | +-------------------------------+--------------------+------------------+ | Red Hat Enterprise Linux 8.10 | PASS | SKIPPED | +-------------------------------+--------------------+------------------+ | Red Hat Enterprise Linux 9.5 | PASS | SKIPPED | +-------------------------------+--------------------+------------------+ | Ubuntu 22.04 | PASS | SKIPPED | +-------------------------------+--------------------+------------------+ | Ubuntu 24.04 | PASS | PASS | +-------------------------------+--------------------+------------------+ | Alpine Linux 3.22.0 | PASS | SKIPPED | +-------------------------------+--------------------+------------------+ Ubuntu 20.04 Kernel: 4.19 Compiler: gcc gcc (Ubuntu 9.4.0-1ubuntu1~20.04.2) 9.4.0 FreeBSD 14.2 Kernel: 14.2-RELEASE Compiler: clang 18.1.6 CentOS Stream 9 Kernel: 5.15 Compiler: gcc gcc (GCC) 11.5.0 20240719 (Red Hat 11.5.0-11) CentOS Stream 10 Kernel: 5.15 Compiler: gcc gcc (GCC) 14.2.1 20250110 (Red Hat 14.2.1-8) Debian GNU/Linux 12 Kernel: 5.15 Compiler: gcc gcc (Debian 12.2.0-14+deb12u1) 12.2.0 Fedora Linux 42 Kernel: 5.15 Compiler: clang gcc (GCC) 15.2.1 20250808 (Red Hat 15.2.1-1) openSUSE Leap 15.6 Kernel: 5.15 Compiler: gcc gcc (SUSE Linux) 7.5.0 Red Hat Enterprise Linux 8.10 Kernel: 5.15 Compiler: gcc gcc (GCC) 8.5.0 20210514 (Red Hat 8.5.0-22) Red Hat Enterprise Linux 9.5 Kernel: 5.15 Compiler: gcc gcc (GCC) 11.5.0 20240719 (Red Hat 11.5.0-2) Ubuntu 22.04 Kernel: 5.15 Compiler: gcc gcc (Ubuntu 11.4.0-1ubuntu1~22.04) 11.4.0 Ubuntu 24.04 Kernel: 5.15 Compiler: gcc gcc (Ubuntu 13.3.0-6ubuntu2~24.04) 13.3.0 Alpine Linux 3.22.0 Kernel: 5.15 Compiler: gcc gcc (Alpine 14.2.0) 14.2.0 To view detailed results, visit: https://lab.dpdk.org/results/dashboard/patchsets/34543/ UNH-IOL DPDK Community Lab To manage your email subscriptions, visit: https://lab.dpdk.org/results/dashboard/preferences/subscriptions/